BEGIN:VCALENDAR
VERSION:2.0
PRODID:-//First Unitarian Portland - ECPv6.15.20//NONSGML v1.0//EN
CALSCALE:GREGORIAN
METHOD:PUBLISH
X-ORIGINAL-URL:https://www.firstunitarianportland.org
X-WR-CALDESC:Events for First Unitarian Portland
REFRESH-INTERVAL;VALUE=DURATION:PT1H
X-Robots-Tag:noindex
X-PUBLISHED-TTL:PT1H
BEGIN:VTIMEZONE
TZID:America/Los_Angeles
BEGIN:DAYLIGHT
TZOFFSETFROM:-0800
TZOFFSETTO:-0700
TZNAME:PDT
DTSTART:20230312T100000
END:DAYLIGHT
BEGIN:STANDARD
TZOFFSETFROM:-0700
TZOFFSETTO:-0800
TZNAME:PST
DTSTART:20231105T090000
END:STANDARD
BEGIN:DAYLIGHT
TZOFFSETFROM:-0800
TZOFFSETTO:-0700
TZNAME:PDT
DTSTART:20240310T100000
END:DAYLIGHT
BEGIN:STANDARD
TZOFFSETFROM:-0700
TZOFFSETTO:-0800
TZNAME:PST
DTSTART:20241103T090000
END:STANDARD
BEGIN:DAYLIGHT
TZOFFSETFROM:-0800
TZOFFSETTO:-0700
TZNAME:PDT
DTSTART:20250309T100000
END:DAYLIGHT
BEGIN:STANDARD
TZOFFSETFROM:-0700
TZOFFSETTO:-0800
TZNAME:PST
DTSTART:20251102T090000
END:STANDARD
BEGIN:DAYLIGHT
TZOFFSETFROM:-0800
TZOFFSETTO:-0700
TZNAME:PDT
DTSTART:20260308T100000
END:DAYLIGHT
BEGIN:STANDARD
TZOFFSETFROM:-0700
TZOFFSETTO:-0800
TZNAME:PST
DTSTART:20261101T090000
END:STANDARD
END:VTIMEZONE
BEGIN:VEVENT
DTSTART;TZID=America/Los_Angeles:20250204T173000
DTEND;TZID=America/Los_Angeles:20250204T181500
DTSTAMP:20260423T235923
CREATED:20250131T021224Z
LAST-MODIFIED:20250410T230225Z
UID:10001236-1738690200-1738692900@www.firstunitarianportland.org
SUMMARY:Connect & Reflect
DESCRIPTION:Join Rev. Alison Miller and Jen Thomas on the 1st & 3rd Tuesdays of most months through June from 5:30 – 6:15 p.m. on Zoom. Come share in conversation centered on the topic of the most recent sermon. Look for the discussion question during preservice slides and order of service.
URL:https://www.firstunitarianportland.org/event/connect-reflect/2025-02-04/
LOCATION:Virtual
CATEGORIES:Gathering & Connection
END:VEVENT
BEGIN:VEVENT
DTSTART;TZID=America/Los_Angeles:20250203T200000
DTEND;TZID=America/Los_Angeles:20250203T203000
DTSTAMP:20260423T235923
CREATED:20241128T002002Z
LAST-MODIFIED:20250512T180414Z
UID:10001081-1738612800-1738614600@www.firstunitarianportland.org
SUMMARY:Loving Kindness Meditation
DESCRIPTION:The teachings of Loving Kindness\, or Metta\, are about finding a path with heart. Jack Kornfield says\, “It’s about undertaking a path that transforms and touches us in the center of our being. To do so is to find a way of practice that allows us to live in the world wholly and fully from our heart.” \nWith this Spiritual Practice\, one can cultivate feelings of happiness\, dispel loneliness\,  let go of fear and anxiety. If you are feeling stuck\, this practice can help you enjoy a more compassionate life for yourself and others. \nJoin us on Zoom on Monday evenings to extend Loving-Kindness to yourself\, to those around you and to the world. \nNo previous meditation practice is necessary\, and new participants are always welcome.  Join on an ongoing basis\, or drop in as you’re able. \nMay we be at peace and keep our hearts open. \nContact Katie R. for more information. \nClick here to join.
URL:https://www.firstunitarianportland.org/event/loving-kindness-meditation-2025/2025-02-03/
LOCATION:Virtual
CATEGORIES:Gathering & Connection
END:VEVENT
BEGIN:VEVENT
DTSTART;TZID=America/Los_Angeles:20250131T170000
DTEND;TZID=America/Los_Angeles:20250131T174000
DTSTAMP:20260423T235923
CREATED:20241127T211744Z
LAST-MODIFIED:20260210T222057Z
UID:10000071-1738342800-1738345200@www.firstunitarianportland.org
SUMMARY:Vespers
DESCRIPTION:Our Lay Ministers will offer inspirational readings\, guided meditation\, and quiet music in a contemplative program at week’s end. \nCongregants and visitors are invited to bring their prayer requests to be held during the service. They are received in real-time through the Zoom chat box\, seen\, and read aloud anonymously by the hosts. This is a time to join in prayer not only for our community but also for the world. \nWe look forward to sharing this time of quiet reflection with you when we are all holding so much in our hearts. \nDetails: Fridays\, 5 – 5:40 p.m. \nJoin here (SAVE THIS LINK! It works every Friday.) \nhttps://tinyurl.com/Vespers-1stU
URL:https://www.firstunitarianportland.org/event/vespers/2025-01-31/
LOCATION:Virtual
CATEGORIES:Gathering & Connection
END:VEVENT
BEGIN:VEVENT
DTSTART;TZID=America/Los_Angeles:20250128T190000
DTEND;TZID=America/Los_Angeles:20250128T203000
DTSTAMP:20260423T235923
CREATED:20250116T002911Z
LAST-MODIFIED:20250327T011640Z
UID:10001220-1738090800-1738096200@www.firstunitarianportland.org
SUMMARY:How Will We Defend Attacks on Immigrants?
DESCRIPTION:With the incoming administration\, we know that big changes are coming that will impact immigrant communities. We want to be informed\, prepared\, and ready for action. \nARJAG and IJAG will co-host a three-part series of events addressing immigrant justice. Through an anti-racist lens\, we will explore immigration status issues\, the lived experience of immigrants in Oregon\, and strategic ways we can act in solidarity to promote and defend the human dignity of Oregon immigrants. \nCome meet our panelists and learn more about challenges being faced by immigrants. \n\nKarla Castenada\, VOZ Workers’ Rights Education Project\nIsa Peña\, Innovation Law Lab \nEllie Gluhosky\, Oregon for All Coalition \n\nPlease mark Tuesday\, January 28\, 7 – 8:30 p.m. (via Zoom) on your calendar for our first forum/workshop. \nRegister here \nTentative dates for the subsequent events are Tuesday\, March 4\, and Tuesday\, May 6. Watch for additional information in upcoming Front Steps!
URL:https://www.firstunitarianportland.org/event/how-will-we-defend-attacks-on-immigrants/
LOCATION:Virtual
CATEGORIES:Social Justice
END:VEVENT
BEGIN:VEVENT
DTSTART;TZID=America/Los_Angeles:20250127T200000
DTEND;TZID=America/Los_Angeles:20250127T203000
DTSTAMP:20260423T235923
CREATED:20241128T002002Z
LAST-MODIFIED:20250512T180414Z
UID:10001080-1738008000-1738009800@www.firstunitarianportland.org
SUMMARY:Loving Kindness Meditation
DESCRIPTION:The teachings of Loving Kindness\, or Metta\, are about finding a path with heart. Jack Kornfield says\, “It’s about undertaking a path that transforms and touches us in the center of our being. To do so is to find a way of practice that allows us to live in the world wholly and fully from our heart.” \nWith this Spiritual Practice\, one can cultivate feelings of happiness\, dispel loneliness\,  let go of fear and anxiety. If you are feeling stuck\, this practice can help you enjoy a more compassionate life for yourself and others. \nJoin us on Zoom on Monday evenings to extend Loving-Kindness to yourself\, to those around you and to the world. \nNo previous meditation practice is necessary\, and new participants are always welcome.  Join on an ongoing basis\, or drop in as you’re able. \nMay we be at peace and keep our hearts open. \nContact Katie R. for more information. \nClick here to join.
URL:https://www.firstunitarianportland.org/event/loving-kindness-meditation-2025/2025-01-27/
LOCATION:Virtual
CATEGORIES:Gathering & Connection
END:VEVENT
BEGIN:VEVENT
DTSTART;TZID=America/Los_Angeles:20250124T170000
DTEND;TZID=America/Los_Angeles:20250124T174000
DTSTAMP:20260423T235923
CREATED:20241127T211744Z
LAST-MODIFIED:20260210T222057Z
UID:10000070-1737738000-1737740400@www.firstunitarianportland.org
SUMMARY:Vespers
DESCRIPTION:Our Lay Ministers will offer inspirational readings\, guided meditation\, and quiet music in a contemplative program at week’s end. \nCongregants and visitors are invited to bring their prayer requests to be held during the service. They are received in real-time through the Zoom chat box\, seen\, and read aloud anonymously by the hosts. This is a time to join in prayer not only for our community but also for the world. \nWe look forward to sharing this time of quiet reflection with you when we are all holding so much in our hearts. \nDetails: Fridays\, 5 – 5:40 p.m. \nJoin here (SAVE THIS LINK! It works every Friday.) \nhttps://tinyurl.com/Vespers-1stU
URL:https://www.firstunitarianportland.org/event/vespers/2025-01-24/
LOCATION:Virtual
CATEGORIES:Gathering & Connection
END:VEVENT
BEGIN:VEVENT
DTSTART;TZID=America/Los_Angeles:20250121T190000
DTEND;TZID=America/Los_Angeles:20250121T203000
DTSTAMP:20260423T235923
CREATED:20250123T194609Z
LAST-MODIFIED:20250123T194609Z
UID:10001227-1737486000-1737491400@www.firstunitarianportland.org
SUMMARY:Good Times Book Group: Educated by Tara Westover
DESCRIPTION:We meet by Zoom from 7 – 8:30 pm. Please contact Sue L. to get on the email list for Zoom links.
URL:https://www.firstunitarianportland.org/event/good-times-book-group-educated-by-tara-westover/
LOCATION:Virtual
CATEGORIES:Gathering & Connection
END:VEVENT
BEGIN:VEVENT
DTSTART;TZID=America/Los_Angeles:20250120T200000
DTEND;TZID=America/Los_Angeles:20250120T203000
DTSTAMP:20260423T235923
CREATED:20241128T002002Z
LAST-MODIFIED:20250512T180414Z
UID:10001079-1737403200-1737405000@www.firstunitarianportland.org
SUMMARY:Loving Kindness Meditation
DESCRIPTION:The teachings of Loving Kindness\, or Metta\, are about finding a path with heart. Jack Kornfield says\, “It’s about undertaking a path that transforms and touches us in the center of our being. To do so is to find a way of practice that allows us to live in the world wholly and fully from our heart.” \nWith this Spiritual Practice\, one can cultivate feelings of happiness\, dispel loneliness\,  let go of fear and anxiety. If you are feeling stuck\, this practice can help you enjoy a more compassionate life for yourself and others. \nJoin us on Zoom on Monday evenings to extend Loving-Kindness to yourself\, to those around you and to the world. \nNo previous meditation practice is necessary\, and new participants are always welcome.  Join on an ongoing basis\, or drop in as you’re able. \nMay we be at peace and keep our hearts open. \nContact Katie R. for more information. \nClick here to join.
URL:https://www.firstunitarianportland.org/event/loving-kindness-meditation-2025/2025-01-20/
LOCATION:Virtual
CATEGORIES:Gathering & Connection
END:VEVENT
BEGIN:VEVENT
DTSTART;TZID=America/Los_Angeles:20250117T170000
DTEND;TZID=America/Los_Angeles:20250117T174000
DTSTAMP:20260423T235923
CREATED:20241127T211744Z
LAST-MODIFIED:20260210T222057Z
UID:10000069-1737133200-1737135600@www.firstunitarianportland.org
SUMMARY:Vespers
DESCRIPTION:Our Lay Ministers will offer inspirational readings\, guided meditation\, and quiet music in a contemplative program at week’s end. \nCongregants and visitors are invited to bring their prayer requests to be held during the service. They are received in real-time through the Zoom chat box\, seen\, and read aloud anonymously by the hosts. This is a time to join in prayer not only for our community but also for the world. \nWe look forward to sharing this time of quiet reflection with you when we are all holding so much in our hearts. \nDetails: Fridays\, 5 – 5:40 p.m. \nJoin here (SAVE THIS LINK! It works every Friday.) \nhttps://tinyurl.com/Vespers-1stU
URL:https://www.firstunitarianportland.org/event/vespers/2025-01-17/
LOCATION:Virtual
CATEGORIES:Gathering & Connection
END:VEVENT
BEGIN:VEVENT
DTSTART;TZID=America/Los_Angeles:20250114T183000
DTEND;TZID=America/Los_Angeles:20250114T200000
DTSTAMP:20260423T235923
CREATED:20241127T214747Z
LAST-MODIFIED:20241127T233741Z
UID:10000932-1736879400-1736884800@www.firstunitarianportland.org
SUMMARY:Communications Committee Meeting
DESCRIPTION:The Board Communications Committee meets on the second Tuesday of each month\, 6:30 – 8 p.m. Meetings are open to congregants. \nClick here to join on Zoom.
URL:https://www.firstunitarianportland.org/event/communications-committee-meeting/2025-01-14/
LOCATION:Virtual
CATEGORIES:Meeting
END:VEVENT
BEGIN:VEVENT
DTSTART;TZID=America/Los_Angeles:20250114T170000
DTEND;TZID=America/Los_Angeles:20250114T183000
DTSTAMP:20260423T235923
CREATED:20241127T214643Z
LAST-MODIFIED:20250317T235517Z
UID:10000915-1736874000-1736879400@www.firstunitarianportland.org
SUMMARY:Finance Committee Meeting
DESCRIPTION:The Board Finance Committee meets on the second Tuesday of most months\, 5 – 6:30 p.m. Meetings are open to congregants. \nClick here to join on Zoom.
URL:https://www.firstunitarianportland.org/event/finance-committee-meeting/2025-01-14/
LOCATION:Virtual
CATEGORIES:Meeting
END:VEVENT
BEGIN:VEVENT
DTSTART;TZID=America/Los_Angeles:20250113T200000
DTEND;TZID=America/Los_Angeles:20250113T203000
DTSTAMP:20260423T235923
CREATED:20241128T002002Z
LAST-MODIFIED:20250512T180414Z
UID:10001078-1736798400-1736800200@www.firstunitarianportland.org
SUMMARY:Loving Kindness Meditation
DESCRIPTION:The teachings of Loving Kindness\, or Metta\, are about finding a path with heart. Jack Kornfield says\, “It’s about undertaking a path that transforms and touches us in the center of our being. To do so is to find a way of practice that allows us to live in the world wholly and fully from our heart.” \nWith this Spiritual Practice\, one can cultivate feelings of happiness\, dispel loneliness\,  let go of fear and anxiety. If you are feeling stuck\, this practice can help you enjoy a more compassionate life for yourself and others. \nJoin us on Zoom on Monday evenings to extend Loving-Kindness to yourself\, to those around you and to the world. \nNo previous meditation practice is necessary\, and new participants are always welcome.  Join on an ongoing basis\, or drop in as you’re able. \nMay we be at peace and keep our hearts open. \nContact Katie R. for more information. \nClick here to join.
URL:https://www.firstunitarianportland.org/event/loving-kindness-meditation-2025/2025-01-13/
LOCATION:Virtual
CATEGORIES:Gathering & Connection
END:VEVENT
BEGIN:VEVENT
DTSTART;TZID=America/Los_Angeles:20250110T170000
DTEND;TZID=America/Los_Angeles:20250110T174000
DTSTAMP:20260423T235923
CREATED:20241127T211744Z
LAST-MODIFIED:20260210T222057Z
UID:10000068-1736528400-1736530800@www.firstunitarianportland.org
SUMMARY:Vespers
DESCRIPTION:Our Lay Ministers will offer inspirational readings\, guided meditation\, and quiet music in a contemplative program at week’s end. \nCongregants and visitors are invited to bring their prayer requests to be held during the service. They are received in real-time through the Zoom chat box\, seen\, and read aloud anonymously by the hosts. This is a time to join in prayer not only for our community but also for the world. \nWe look forward to sharing this time of quiet reflection with you when we are all holding so much in our hearts. \nDetails: Fridays\, 5 – 5:40 p.m. \nJoin here (SAVE THIS LINK! It works every Friday.) \nhttps://tinyurl.com/Vespers-1stU
URL:https://www.firstunitarianportland.org/event/vespers/2025-01-10/
LOCATION:Virtual
CATEGORIES:Gathering & Connection
END:VEVENT
BEGIN:VEVENT
DTSTART;TZID=America/Los_Angeles:20250106T200000
DTEND;TZID=America/Los_Angeles:20250106T203000
DTSTAMP:20260423T235923
CREATED:20241128T002002Z
LAST-MODIFIED:20250512T180414Z
UID:10001077-1736193600-1736195400@www.firstunitarianportland.org
SUMMARY:Loving Kindness Meditation
DESCRIPTION:The teachings of Loving Kindness\, or Metta\, are about finding a path with heart. Jack Kornfield says\, “It’s about undertaking a path that transforms and touches us in the center of our being. To do so is to find a way of practice that allows us to live in the world wholly and fully from our heart.” \nWith this Spiritual Practice\, one can cultivate feelings of happiness\, dispel loneliness\,  let go of fear and anxiety. If you are feeling stuck\, this practice can help you enjoy a more compassionate life for yourself and others. \nJoin us on Zoom on Monday evenings to extend Loving-Kindness to yourself\, to those around you and to the world. \nNo previous meditation practice is necessary\, and new participants are always welcome.  Join on an ongoing basis\, or drop in as you’re able. \nMay we be at peace and keep our hearts open. \nContact Katie R. for more information. \nClick here to join.
URL:https://www.firstunitarianportland.org/event/loving-kindness-meditation-2025/2025-01-06/
LOCATION:Virtual
CATEGORIES:Gathering & Connection
END:VEVENT
BEGIN:VEVENT
DTSTART;TZID=America/Los_Angeles:20250103T170000
DTEND;TZID=America/Los_Angeles:20250103T174000
DTSTAMP:20260423T235923
CREATED:20241127T211744Z
LAST-MODIFIED:20260210T222057Z
UID:10000067-1735923600-1735926000@www.firstunitarianportland.org
SUMMARY:Vespers
DESCRIPTION:Our Lay Ministers will offer inspirational readings\, guided meditation\, and quiet music in a contemplative program at week’s end. \nCongregants and visitors are invited to bring their prayer requests to be held during the service. They are received in real-time through the Zoom chat box\, seen\, and read aloud anonymously by the hosts. This is a time to join in prayer not only for our community but also for the world. \nWe look forward to sharing this time of quiet reflection with you when we are all holding so much in our hearts. \nDetails: Fridays\, 5 – 5:40 p.m. \nJoin here (SAVE THIS LINK! It works every Friday.) \nhttps://tinyurl.com/Vespers-1stU
URL:https://www.firstunitarianportland.org/event/vespers/2025-01-03/
LOCATION:Virtual
CATEGORIES:Gathering & Connection
END:VEVENT
BEGIN:VEVENT
DTSTART;TZID=America/Los_Angeles:20250101T190000
DTEND;TZID=America/Los_Angeles:20250101T210000
DTSTAMP:20260423T235923
CREATED:20250313T005752Z
LAST-MODIFIED:20250603T191701Z
UID:10001299-1735758000-1735765200@www.firstunitarianportland.org
SUMMARY:Board Meeting
DESCRIPTION:The Board of Trustees meets on the first Wednesday of most months\, 7 – 9 p.m. Meetings are open to congregants. \nJoin us in Buchan Reception Hall (B102)\, or click here to join on Zoom. \nMeeting ID: 829 3022 3125\nPasscode: DaisyB# \nOr join by phone: +1 253 215 8782 US (Tacoma)
URL:https://www.firstunitarianportland.org/event/board-meeting/2025-01-01/
LOCATION:Buchan Hall\, 1226 SW Salmon St\, Portland\, OR\, 97205\, United States
CATEGORIES:Meeting
END:VEVENT
BEGIN:VEVENT
DTSTART;TZID=America/Los_Angeles:20241129T103000
DTEND;TZID=America/Los_Angeles:20241129T120000
DTSTAMP:20260423T235923
CREATED:20241128T004521Z
LAST-MODIFIED:20241128T004521Z
UID:10001158-1732876200-1732881600@www.firstunitarianportland.org
SUMMARY:This is a Test
DESCRIPTION:This is a test \n 
URL:https://www.firstunitarianportland.org/event/this-is-a-test/
LOCATION:Virtual
END:VEVENT
END:VCALENDAR