BEGIN:VCALENDAR
VERSION:2.0
PRODID:-//First Unitarian Portland - ECPv6.15.20//NONSGML v1.0//EN
CALSCALE:GREGORIAN
METHOD:PUBLISH
X-ORIGINAL-URL:https://www.firstunitarianportland.org
X-WR-CALDESC:Events for First Unitarian Portland
REFRESH-INTERVAL;VALUE=DURATION:PT1H
X-Robots-Tag:noindex
X-PUBLISHED-TTL:PT1H
BEGIN:VTIMEZONE
TZID:America/Los_Angeles
BEGIN:DAYLIGHT
TZOFFSETFROM:-0800
TZOFFSETTO:-0700
TZNAME:PDT
DTSTART:20240310T100000
END:DAYLIGHT
BEGIN:STANDARD
TZOFFSETFROM:-0700
TZOFFSETTO:-0800
TZNAME:PST
DTSTART:20241103T090000
END:STANDARD
BEGIN:DAYLIGHT
TZOFFSETFROM:-0800
TZOFFSETTO:-0700
TZNAME:PDT
DTSTART:20250309T100000
END:DAYLIGHT
BEGIN:STANDARD
TZOFFSETFROM:-0700
TZOFFSETTO:-0800
TZNAME:PST
DTSTART:20251102T090000
END:STANDARD
BEGIN:DAYLIGHT
TZOFFSETFROM:-0800
TZOFFSETTO:-0700
TZNAME:PDT
DTSTART:20260308T100000
END:DAYLIGHT
BEGIN:STANDARD
TZOFFSETFROM:-0700
TZOFFSETTO:-0800
TZNAME:PST
DTSTART:20261101T090000
END:STANDARD
BEGIN:DAYLIGHT
TZOFFSETFROM:-0800
TZOFFSETTO:-0700
TZNAME:PDT
DTSTART:20270314T100000
END:DAYLIGHT
BEGIN:STANDARD
TZOFFSETFROM:-0700
TZOFFSETTO:-0800
TZNAME:PST
DTSTART:20271107T090000
END:STANDARD
END:VTIMEZONE
BEGIN:VEVENT
DTSTART;TZID=America/Los_Angeles:20260318T140000
DTEND;TZID=America/Los_Angeles:20260318T144500
DTSTAMP:20260423T123809
CREATED:20260123T000900Z
LAST-MODIFIED:20260123T000900Z
UID:10001894-1773842400-1773845100@www.firstunitarianportland.org
SUMMARY:Neighbor-to-Neighbor Interfaith Witness at ICE
DESCRIPTION:Neighbor-to-Neighbor Interfaith Witness at ICE is an opportunity for faith communities to be in solidarity\, declaring our moral outrage at the cruel practices of abducting community members\, terrorizing communities\, and separating families\, in the name of an inhumane political agenda. We will demonstrate that neighbors show up for neighbors. We will be shoulder-to-shoulder to bear witness to our outrage\, deepen our relationships\, and build solidarity among our interfaith communities. Please dress accordingly for the weather. Please do not bring signs. We will provide whatever is needed for the ritual.\n\nThis series is supported by Together Lab\, which has been organizing interfaith clergy to be a daily moral presence at the ICE facility on Macadam and at the Federal Courthouse downtown\, as well as organizing neighbor-to-neighbor solidarity with teachers and families around Portland.
URL:https://www.firstunitarianportland.org/event/neighbor-to-neighbor-interfaith-witness-at-ice/2026-03-18/
LOCATION:Portland ICE Facility\, 4310 S Macadam Ave\, Portland\, OR\, 97239\, United States
CATEGORIES:Social Justice
END:VEVENT
BEGIN:VEVENT
DTSTART;TZID=America/Los_Angeles:20260304T140000
DTEND;TZID=America/Los_Angeles:20260304T144500
DTSTAMP:20260423T123809
CREATED:20260123T000900Z
LAST-MODIFIED:20260123T000900Z
UID:10001893-1772632800-1772635500@www.firstunitarianportland.org
SUMMARY:Neighbor-to-Neighbor Interfaith Witness at ICE
DESCRIPTION:Neighbor-to-Neighbor Interfaith Witness at ICE is an opportunity for faith communities to be in solidarity\, declaring our moral outrage at the cruel practices of abducting community members\, terrorizing communities\, and separating families\, in the name of an inhumane political agenda. We will demonstrate that neighbors show up for neighbors. We will be shoulder-to-shoulder to bear witness to our outrage\, deepen our relationships\, and build solidarity among our interfaith communities. Please dress accordingly for the weather. Please do not bring signs. We will provide whatever is needed for the ritual.\n\nThis series is supported by Together Lab\, which has been organizing interfaith clergy to be a daily moral presence at the ICE facility on Macadam and at the Federal Courthouse downtown\, as well as organizing neighbor-to-neighbor solidarity with teachers and families around Portland.
URL:https://www.firstunitarianportland.org/event/neighbor-to-neighbor-interfaith-witness-at-ice/2026-03-04/
LOCATION:Portland ICE Facility\, 4310 S Macadam Ave\, Portland\, OR\, 97239\, United States
CATEGORIES:Social Justice
END:VEVENT
BEGIN:VEVENT
DTSTART;TZID=America/Los_Angeles:20260218T140000
DTEND;TZID=America/Los_Angeles:20260218T144500
DTSTAMP:20260423T123809
CREATED:20260123T000900Z
LAST-MODIFIED:20260123T000900Z
UID:10001892-1771423200-1771425900@www.firstunitarianportland.org
SUMMARY:Neighbor-to-Neighbor Interfaith Witness at ICE
DESCRIPTION:Neighbor-to-Neighbor Interfaith Witness at ICE is an opportunity for faith communities to be in solidarity\, declaring our moral outrage at the cruel practices of abducting community members\, terrorizing communities\, and separating families\, in the name of an inhumane political agenda. We will demonstrate that neighbors show up for neighbors. We will be shoulder-to-shoulder to bear witness to our outrage\, deepen our relationships\, and build solidarity among our interfaith communities. Please dress accordingly for the weather. Please do not bring signs. We will provide whatever is needed for the ritual.\n\nThis series is supported by Together Lab\, which has been organizing interfaith clergy to be a daily moral presence at the ICE facility on Macadam and at the Federal Courthouse downtown\, as well as organizing neighbor-to-neighbor solidarity with teachers and families around Portland.
URL:https://www.firstunitarianportland.org/event/neighbor-to-neighbor-interfaith-witness-at-ice/2026-02-18/
LOCATION:Portland ICE Facility\, 4310 S Macadam Ave\, Portland\, OR\, 97239\, United States
CATEGORIES:Social Justice
END:VEVENT
BEGIN:VEVENT
DTSTART;TZID=America/Los_Angeles:20260204T140000
DTEND;TZID=America/Los_Angeles:20260204T144500
DTSTAMP:20260423T123809
CREATED:20260123T000900Z
LAST-MODIFIED:20260123T000900Z
UID:10001891-1770213600-1770216300@www.firstunitarianportland.org
SUMMARY:Neighbor-to-Neighbor Interfaith Witness at ICE
DESCRIPTION:Neighbor-to-Neighbor Interfaith Witness at ICE is an opportunity for faith communities to be in solidarity\, declaring our moral outrage at the cruel practices of abducting community members\, terrorizing communities\, and separating families\, in the name of an inhumane political agenda. We will demonstrate that neighbors show up for neighbors. We will be shoulder-to-shoulder to bear witness to our outrage\, deepen our relationships\, and build solidarity among our interfaith communities. Please dress accordingly for the weather. Please do not bring signs. We will provide whatever is needed for the ritual.\n\nThis series is supported by Together Lab\, which has been organizing interfaith clergy to be a daily moral presence at the ICE facility on Macadam and at the Federal Courthouse downtown\, as well as organizing neighbor-to-neighbor solidarity with teachers and families around Portland.
URL:https://www.firstunitarianportland.org/event/neighbor-to-neighbor-interfaith-witness-at-ice/2026-02-04/
LOCATION:Portland ICE Facility\, 4310 S Macadam Ave\, Portland\, OR\, 97239\, United States
CATEGORIES:Social Justice
END:VEVENT
BEGIN:VEVENT
DTSTART;TZID=America/Los_Angeles:20260121T140000
DTEND;TZID=America/Los_Angeles:20260121T144500
DTSTAMP:20260423T123809
CREATED:20260123T000900Z
LAST-MODIFIED:20260123T000900Z
UID:10001890-1769004000-1769006700@www.firstunitarianportland.org
SUMMARY:Neighbor-to-Neighbor Interfaith Witness at ICE
DESCRIPTION:Neighbor-to-Neighbor Interfaith Witness at ICE is an opportunity for faith communities to be in solidarity\, declaring our moral outrage at the cruel practices of abducting community members\, terrorizing communities\, and separating families\, in the name of an inhumane political agenda. We will demonstrate that neighbors show up for neighbors. We will be shoulder-to-shoulder to bear witness to our outrage\, deepen our relationships\, and build solidarity among our interfaith communities. Please dress accordingly for the weather. Please do not bring signs. We will provide whatever is needed for the ritual.\n\nThis series is supported by Together Lab\, which has been organizing interfaith clergy to be a daily moral presence at the ICE facility on Macadam and at the Federal Courthouse downtown\, as well as organizing neighbor-to-neighbor solidarity with teachers and families around Portland.
URL:https://www.firstunitarianportland.org/event/neighbor-to-neighbor-interfaith-witness-at-ice/2026-01-21/
LOCATION:Portland ICE Facility\, 4310 S Macadam Ave\, Portland\, OR\, 97239\, United States
CATEGORIES:Social Justice
END:VEVENT
BEGIN:VEVENT
DTSTART;TZID=America/Los_Angeles:20260107T140000
DTEND;TZID=America/Los_Angeles:20260107T144500
DTSTAMP:20260423T123809
CREATED:20260123T000900Z
LAST-MODIFIED:20260123T000900Z
UID:10001889-1767794400-1767797100@www.firstunitarianportland.org
SUMMARY:Neighbor-to-Neighbor Interfaith Witness at ICE
DESCRIPTION:Neighbor-to-Neighbor Interfaith Witness at ICE is an opportunity for faith communities to be in solidarity\, declaring our moral outrage at the cruel practices of abducting community members\, terrorizing communities\, and separating families\, in the name of an inhumane political agenda. We will demonstrate that neighbors show up for neighbors. We will be shoulder-to-shoulder to bear witness to our outrage\, deepen our relationships\, and build solidarity among our interfaith communities. Please dress accordingly for the weather. Please do not bring signs. We will provide whatever is needed for the ritual.\n\nThis series is supported by Together Lab\, which has been organizing interfaith clergy to be a daily moral presence at the ICE facility on Macadam and at the Federal Courthouse downtown\, as well as organizing neighbor-to-neighbor solidarity with teachers and families around Portland.
URL:https://www.firstunitarianportland.org/event/neighbor-to-neighbor-interfaith-witness-at-ice/2026-01-07/
LOCATION:Portland ICE Facility\, 4310 S Macadam Ave\, Portland\, OR\, 97239\, United States
CATEGORIES:Social Justice
END:VEVENT
BEGIN:VEVENT
DTSTART;TZID=America/Los_Angeles:20251217T140000
DTEND;TZID=America/Los_Angeles:20251217T144500
DTSTAMP:20260423T123809
CREATED:20260123T000900Z
LAST-MODIFIED:20260123T000900Z
UID:10001888-1765980000-1765982700@www.firstunitarianportland.org
SUMMARY:Neighbor-to-Neighbor Interfaith Witness at ICE
DESCRIPTION:Neighbor-to-Neighbor Interfaith Witness at ICE is an opportunity for faith communities to be in solidarity\, declaring our moral outrage at the cruel practices of abducting community members\, terrorizing communities\, and separating families\, in the name of an inhumane political agenda. We will demonstrate that neighbors show up for neighbors. We will be shoulder-to-shoulder to bear witness to our outrage\, deepen our relationships\, and build solidarity among our interfaith communities. Please dress accordingly for the weather. Please do not bring signs. We will provide whatever is needed for the ritual.\n\nThis series is supported by Together Lab\, which has been organizing interfaith clergy to be a daily moral presence at the ICE facility on Macadam and at the Federal Courthouse downtown\, as well as organizing neighbor-to-neighbor solidarity with teachers and families around Portland.
URL:https://www.firstunitarianportland.org/event/neighbor-to-neighbor-interfaith-witness-at-ice/2025-12-17/
LOCATION:Portland ICE Facility\, 4310 S Macadam Ave\, Portland\, OR\, 97239\, United States
CATEGORIES:Social Justice
END:VEVENT
BEGIN:VEVENT
DTSTART;TZID=America/Los_Angeles:20251203T140000
DTEND;TZID=America/Los_Angeles:20251203T144500
DTSTAMP:20260423T123809
CREATED:20260123T000900Z
LAST-MODIFIED:20260123T000900Z
UID:10001887-1764770400-1764773100@www.firstunitarianportland.org
SUMMARY:Neighbor-to-Neighbor Interfaith Witness at ICE
DESCRIPTION:Neighbor-to-Neighbor Interfaith Witness at ICE is an opportunity for faith communities to be in solidarity\, declaring our moral outrage at the cruel practices of abducting community members\, terrorizing communities\, and separating families\, in the name of an inhumane political agenda. We will demonstrate that neighbors show up for neighbors. We will be shoulder-to-shoulder to bear witness to our outrage\, deepen our relationships\, and build solidarity among our interfaith communities. Please dress accordingly for the weather. Please do not bring signs. We will provide whatever is needed for the ritual.\n\nThis series is supported by Together Lab\, which has been organizing interfaith clergy to be a daily moral presence at the ICE facility on Macadam and at the Federal Courthouse downtown\, as well as organizing neighbor-to-neighbor solidarity with teachers and families around Portland.
URL:https://www.firstunitarianportland.org/event/neighbor-to-neighbor-interfaith-witness-at-ice/2025-12-03/
LOCATION:Portland ICE Facility\, 4310 S Macadam Ave\, Portland\, OR\, 97239\, United States
CATEGORIES:Social Justice
END:VEVENT
END:VCALENDAR