BEGIN:VCALENDAR
VERSION:2.0
PRODID:-//First Unitarian Portland - ECPv6.15.20//NONSGML v1.0//EN
CALSCALE:GREGORIAN
METHOD:PUBLISH
X-ORIGINAL-URL:https://www.firstunitarianportland.org
X-WR-CALDESC:Events for First Unitarian Portland
REFRESH-INTERVAL;VALUE=DURATION:PT1H
X-Robots-Tag:noindex
X-PUBLISHED-TTL:PT1H
BEGIN:VTIMEZONE
TZID:America/Los_Angeles
BEGIN:DAYLIGHT
TZOFFSETFROM:-0800
TZOFFSETTO:-0700
TZNAME:PDT
DTSTART:20240310T100000
END:DAYLIGHT
BEGIN:STANDARD
TZOFFSETFROM:-0700
TZOFFSETTO:-0800
TZNAME:PST
DTSTART:20241103T090000
END:STANDARD
BEGIN:DAYLIGHT
TZOFFSETFROM:-0800
TZOFFSETTO:-0700
TZNAME:PDT
DTSTART:20250309T100000
END:DAYLIGHT
BEGIN:STANDARD
TZOFFSETFROM:-0700
TZOFFSETTO:-0800
TZNAME:PST
DTSTART:20251102T090000
END:STANDARD
BEGIN:DAYLIGHT
TZOFFSETFROM:-0800
TZOFFSETTO:-0700
TZNAME:PDT
DTSTART:20260308T100000
END:DAYLIGHT
BEGIN:STANDARD
TZOFFSETFROM:-0700
TZOFFSETTO:-0800
TZNAME:PST
DTSTART:20261101T090000
END:STANDARD
END:VTIMEZONE
BEGIN:VEVENT
DTSTART;TZID=America/Los_Angeles:20250601T120000
DTEND;TZID=America/Los_Angeles:20250601T130000
DTSTAMP:20260423T183723
CREATED:20250520T211943Z
LAST-MODIFIED:20250529T221523Z
UID:10001521-1748779200-1748782800@www.firstunitarianportland.org
SUMMARY:Denomination Relations Committee Meeting
DESCRIPTION:Gather together in the Fireside Room (A303) to talk about our relationships with other Unitarian Universalists beyond our church. How do we connect to neighboring UU congregations\, the UUA Pacific Western Region\, and the national Unitarian Universalist Association? How can our church fulfill our covenant with other UUs and congregations? Come help restart our Denomination Relations Committee. \nFor questions\, contact Art U.
URL:https://www.firstunitarianportland.org/event/denomination-relations-committee-meeting/
LOCATION:Fireside Room\, A303
CATEGORIES:Gathering & Connection
END:VEVENT
END:VCALENDAR