BEGIN:VCALENDAR
VERSION:2.0
PRODID:-//First Unitarian Portland - ECPv6.15.20//NONSGML v1.0//EN
CALSCALE:GREGORIAN
METHOD:PUBLISH
X-ORIGINAL-URL:https://www.firstunitarianportland.org
X-WR-CALDESC:Events for First Unitarian Portland
REFRESH-INTERVAL;VALUE=DURATION:PT1H
X-Robots-Tag:noindex
X-PUBLISHED-TTL:PT1H
BEGIN:VTIMEZONE
TZID:America/Los_Angeles
BEGIN:DAYLIGHT
TZOFFSETFROM:-0800
TZOFFSETTO:-0700
TZNAME:PDT
DTSTART:20240310T100000
END:DAYLIGHT
BEGIN:STANDARD
TZOFFSETFROM:-0700
TZOFFSETTO:-0800
TZNAME:PST
DTSTART:20241103T090000
END:STANDARD
BEGIN:DAYLIGHT
TZOFFSETFROM:-0800
TZOFFSETTO:-0700
TZNAME:PDT
DTSTART:20250309T100000
END:DAYLIGHT
BEGIN:STANDARD
TZOFFSETFROM:-0700
TZOFFSETTO:-0800
TZNAME:PST
DTSTART:20251102T090000
END:STANDARD
BEGIN:DAYLIGHT
TZOFFSETFROM:-0800
TZOFFSETTO:-0700
TZNAME:PDT
DTSTART:20260308T100000
END:DAYLIGHT
BEGIN:STANDARD
TZOFFSETFROM:-0700
TZOFFSETTO:-0800
TZNAME:PST
DTSTART:20261101T090000
END:STANDARD
BEGIN:DAYLIGHT
TZOFFSETFROM:-0800
TZOFFSETTO:-0700
TZNAME:PDT
DTSTART:20270314T100000
END:DAYLIGHT
BEGIN:STANDARD
TZOFFSETFROM:-0700
TZOFFSETTO:-0800
TZNAME:PST
DTSTART:20271107T090000
END:STANDARD
END:VTIMEZONE
BEGIN:VEVENT
DTSTART;TZID=America/Los_Angeles:20260201T120000
DTEND;TZID=America/Los_Angeles:20260201T140000
DTSTAMP:20260423T142736
CREATED:20260129T213055Z
LAST-MODIFIED:20260129T213055Z
UID:10001898-1769947200-1769954400@www.firstunitarianportland.org
SUMMARY:*Registration Closed* Faithful Resistance: The Power of Noncooperation
DESCRIPTION:Join Dana Buhl\, Director of Social Justice\, and Mary Ann B. to explore how we Unitarian Universalists can participate in the larger movement to resist authoritarianism\, grounded in our faith commitment and connected to our communities. We’ll learn about the local and national movement to build people power through the nonviolent strategy of “noncooperation.” This will be a 2-hour interactive workshop\, and childcare is available. \nSpace is limited and advance registration is required. Register and reserve childcare here. \nFor questions\, please email Leslie C.
URL:https://www.firstunitarianportland.org/event/faithful-resistance-the-power-of-noncooperation/
LOCATION:Daisy Bingham Room\, 1011 SW 12th Ave\, Portland\, OR\, 97205
CATEGORIES:Program/Event,Social Justice
END:VEVENT
BEGIN:VEVENT
DTSTART;TZID=America/Los_Angeles:20250518T114500
DTEND;TZID=America/Los_Angeles:20250518T140000
DTSTAMP:20260423T142736
CREATED:20250306T222315Z
LAST-MODIFIED:20250513T210138Z
UID:10001298-1747568700-1747576800@www.firstunitarianportland.org
SUMMARY:Drop-In Community & Parenting Circle
DESCRIPTION:Drop in for discussion on the month’s theme. \nAll are welcome to join for discussion and engagement! Great opportunity to meet folks and enjoy time together. You are welcome to bring your Souper Sunday soup or other lunch. Childcare is provided.
URL:https://www.firstunitarianportland.org/event/drop-in-community-parenting-circle/2025-05-18/
LOCATION:Daisy Bingham Room\, 1011 SW 12th Ave\, Portland\, OR\, 97205
CATEGORIES:Gathering & Connection
END:VEVENT
BEGIN:VEVENT
DTSTART;TZID=America/Los_Angeles:20250511T114500
DTEND;TZID=America/Los_Angeles:20250511T140000
DTSTAMP:20260423T142736
CREATED:20250203T192729Z
LAST-MODIFIED:20250602T223050Z
UID:10001619-1746963900-1746972000@www.firstunitarianportland.org
SUMMARY:Drop-In Parenting Circle
DESCRIPTION:Join the community of parents at First Unitarian and share stories\, wisdom\, and explore spiritual reflection. These circles are great for long-time families and newcomers alike to build community with those who share a parenting journey. Meets the 2nd Sunday of most months from October to May. You are welcome to bring your lunch. Childcare provided. \nFor more info\, check out the flyer.
URL:https://www.firstunitarianportland.org/event/parenting-circle/2025-05-11/
LOCATION:Daisy Bingham Room\, 1011 SW 12th Ave\, Portland\, OR\, 97205
CATEGORIES:Gathering & Connection
END:VEVENT
BEGIN:VEVENT
DTSTART;TZID=America/Los_Angeles:20250413T114500
DTEND;TZID=America/Los_Angeles:20250413T133000
DTSTAMP:20260423T142736
CREATED:20250321T202935Z
LAST-MODIFIED:20250321T202935Z
UID:10001322-1744544700-1744551000@www.firstunitarianportland.org
SUMMARY:Music Ministry Transition Team Listening Meeting with LC Parents
DESCRIPTION:Since its inception last summer\, the MMTT has been actively engaged in helping church leadership and the Interim Director of Music Ministries move our music program forward in support of the worship and communal life of our church. We’ve come to a point where we need to hear from congregants. We are scheduling three listening meetings\, with more to come. Our objective is to hear your thoughts about how the music program has been evolving so far\, and what you might envision for the future. \nOur first meeting will be with choir members\, bell ringers and other church musicians on Sunday\, March 23 in the Sanctuary after the service. Then we will meet with interested congregants on Sunday\, March 30 in Eliot Chapel. Our third meeting\, this time with parents from the learning community\, will be held on Sunday\, April 13 in the Daisy Bingham room. All of these meetings will be held at 11:45 a.m. There will also be a survey for people to fill out online. \nChildcare will be provided for all meetings.
URL:https://www.firstunitarianportland.org/event/mmtt-parents/
LOCATION:Daisy Bingham Room\, 1011 SW 12th Ave\, Portland\, OR\, 97205
CATEGORIES:Meeting
END:VEVENT
BEGIN:VEVENT
DTSTART;TZID=America/Los_Angeles:20250309T114500
DTEND;TZID=America/Los_Angeles:20250309T140000
DTSTAMP:20260423T142736
CREATED:20250306T222315Z
LAST-MODIFIED:20250513T210138Z
UID:10001297-1741520700-1741528800@www.firstunitarianportland.org
SUMMARY:Drop-In Community & Parenting Circle
DESCRIPTION:Drop in for discussion on the month’s theme. \nAll are welcome to join for discussion and engagement! Great opportunity to meet folks and enjoy time together. You are welcome to bring your Souper Sunday soup or other lunch. Childcare is provided.
URL:https://www.firstunitarianportland.org/event/drop-in-community-parenting-circle/2025-03-09/
LOCATION:Daisy Bingham Room\, 1011 SW 12th Ave\, Portland\, OR\, 97205
CATEGORIES:Gathering & Connection
END:VEVENT
BEGIN:VEVENT
DTSTART;TZID=America/Los_Angeles:20250209T114500
DTEND;TZID=America/Los_Angeles:20250209T140000
DTSTAMP:20260423T142736
CREATED:20250203T192729Z
LAST-MODIFIED:20250602T223050Z
UID:10001618-1739101500-1739109600@www.firstunitarianportland.org
SUMMARY:Drop-In Parenting Circle
DESCRIPTION:Join the community of parents at First Unitarian and share stories\, wisdom\, and explore spiritual reflection. These circles are great for long-time families and newcomers alike to build community with those who share a parenting journey. Meets the 2nd Sunday of most months from October to May. You are welcome to bring your lunch. Childcare provided. \nFor more info\, check out the flyer.
URL:https://www.firstunitarianportland.org/event/parenting-circle/2025-02-09/
LOCATION:Daisy Bingham Room\, 1011 SW 12th Ave\, Portland\, OR\, 97205
CATEGORIES:Gathering & Connection
END:VEVENT
BEGIN:VEVENT
DTSTART;TZID=America/Los_Angeles:20250112T114500
DTEND;TZID=America/Los_Angeles:20250112T140000
DTSTAMP:20260423T142736
CREATED:20250203T192729Z
LAST-MODIFIED:20250602T223050Z
UID:10001617-1736682300-1736690400@www.firstunitarianportland.org
SUMMARY:Drop-In Parenting Circle
DESCRIPTION:Join the community of parents at First Unitarian and share stories\, wisdom\, and explore spiritual reflection. These circles are great for long-time families and newcomers alike to build community with those who share a parenting journey. Meets the 2nd Sunday of most months from October to May. You are welcome to bring your lunch. Childcare provided. \nFor more info\, check out the flyer.
URL:https://www.firstunitarianportland.org/event/parenting-circle/2025-01-12/
LOCATION:Daisy Bingham Room\, 1011 SW 12th Ave\, Portland\, OR\, 97205
CATEGORIES:Gathering & Connection
END:VEVENT
END:VCALENDAR