BEGIN:VCALENDAR
VERSION:2.0
PRODID:-//First Unitarian Portland - ECPv6.15.20//NONSGML v1.0//EN
CALSCALE:GREGORIAN
METHOD:PUBLISH
X-ORIGINAL-URL:https://www.firstunitarianportland.org
X-WR-CALDESC:Events for First Unitarian Portland
REFRESH-INTERVAL;VALUE=DURATION:PT1H
X-Robots-Tag:noindex
X-PUBLISHED-TTL:PT1H
BEGIN:VTIMEZONE
TZID:America/Los_Angeles
BEGIN:DAYLIGHT
TZOFFSETFROM:-0800
TZOFFSETTO:-0700
TZNAME:PDT
DTSTART:20240310T100000
END:DAYLIGHT
BEGIN:STANDARD
TZOFFSETFROM:-0700
TZOFFSETTO:-0800
TZNAME:PST
DTSTART:20241103T090000
END:STANDARD
BEGIN:DAYLIGHT
TZOFFSETFROM:-0800
TZOFFSETTO:-0700
TZNAME:PDT
DTSTART:20250309T100000
END:DAYLIGHT
BEGIN:STANDARD
TZOFFSETFROM:-0700
TZOFFSETTO:-0800
TZNAME:PST
DTSTART:20251102T090000
END:STANDARD
BEGIN:DAYLIGHT
TZOFFSETFROM:-0800
TZOFFSETTO:-0700
TZNAME:PDT
DTSTART:20260308T100000
END:DAYLIGHT
BEGIN:STANDARD
TZOFFSETFROM:-0700
TZOFFSETTO:-0800
TZNAME:PST
DTSTART:20261101T090000
END:STANDARD
END:VTIMEZONE
BEGIN:VEVENT
DTSTART;TZID=America/Los_Angeles:20250921T090000
DTEND;TZID=America/Los_Angeles:20250921T100000
DTSTAMP:20260423T144904
CREATED:20250827T212039Z
LAST-MODIFIED:20250827T212202Z
UID:10001772-1758445200-1758448800@www.firstunitarianportland.org
SUMMARY:*Registration Required* Autumn Yoga
DESCRIPTION:We will have yoga classes led by our own Ginny K. on September 7 and 21 before service at 9 a.m. in room A108. LIMIT of 15 participants. First come\, first served. We release the sign-up form through our Front Steps e-news. \nPlease bring your own yoga mat and water bottle. Wear clothing appropriate for yoga and then join the congregation for Sunday service at 10:15 a.m.
URL:https://www.firstunitarianportland.org/event/autumn-yoga/2025-09-21/
LOCATION:Classroom A108
CATEGORIES:Gathering & Connection,Program/Event
END:VEVENT
BEGIN:VEVENT
DTSTART;TZID=America/Los_Angeles:20250907T090000
DTEND;TZID=America/Los_Angeles:20250907T100000
DTSTAMP:20260423T144904
CREATED:20250827T212039Z
LAST-MODIFIED:20250827T212202Z
UID:10001771-1757235600-1757239200@www.firstunitarianportland.org
SUMMARY:*Registration Required* Autumn Yoga
DESCRIPTION:We will have yoga classes led by our own Ginny K. on September 7 and 21 before service at 9 a.m. in room A108. LIMIT of 15 participants. First come\, first served. We release the sign-up form through our Front Steps e-news. \nPlease bring your own yoga mat and water bottle. Wear clothing appropriate for yoga and then join the congregation for Sunday service at 10:15 a.m.
URL:https://www.firstunitarianportland.org/event/autumn-yoga/2025-09-07/
LOCATION:Classroom A108
CATEGORIES:Gathering & Connection,Program/Event
END:VEVENT
BEGIN:VEVENT
DTSTART;TZID=America/Los_Angeles:20250817T090000
DTEND;TZID=America/Los_Angeles:20250817T100000
DTSTAMP:20260423T144904
CREATED:20250512T180850Z
LAST-MODIFIED:20250527T181824Z
UID:10001518-1755421200-1755424800@www.firstunitarianportland.org
SUMMARY:*Registration Required* Summer Yoga
DESCRIPTION:Join us for yoga with Ginny K. before the Sunday service from 9 – 10 a.m. We will meet in room A108. \nPlease bring your own yoga mat and water bottle. Wear clothing appropriate for yoga and then join the congregation for Sunday service at 10:15 a.m. \nLIMIT of 15 participants. First come\, first served. We will release the sign-up form for the next date after each class through our Front Steps e-news. There will be a total of four classes over the summer.
URL:https://www.firstunitarianportland.org/event/summer-yoga/2025-08-17/
LOCATION:Classroom A108
CATEGORIES:Gathering & Connection,Program/Event
END:VEVENT
BEGIN:VEVENT
DTSTART;TZID=America/Los_Angeles:20250803T090000
DTEND;TZID=America/Los_Angeles:20250803T100000
DTSTAMP:20260423T144904
CREATED:20250512T180850Z
LAST-MODIFIED:20250527T181824Z
UID:10001517-1754211600-1754215200@www.firstunitarianportland.org
SUMMARY:*Registration Required* Summer Yoga
DESCRIPTION:Join us for yoga with Ginny K. before the Sunday service from 9 – 10 a.m. We will meet in room A108. \nPlease bring your own yoga mat and water bottle. Wear clothing appropriate for yoga and then join the congregation for Sunday service at 10:15 a.m. \nLIMIT of 15 participants. First come\, first served. We will release the sign-up form for the next date after each class through our Front Steps e-news. There will be a total of four classes over the summer.
URL:https://www.firstunitarianportland.org/event/summer-yoga/2025-08-03/
LOCATION:Classroom A108
CATEGORIES:Gathering & Connection,Program/Event
END:VEVENT
BEGIN:VEVENT
DTSTART;TZID=America/Los_Angeles:20250720T090000
DTEND;TZID=America/Los_Angeles:20250720T100000
DTSTAMP:20260423T144904
CREATED:20250512T180850Z
LAST-MODIFIED:20250527T181824Z
UID:10001516-1753002000-1753005600@www.firstunitarianportland.org
SUMMARY:*Registration Required* Summer Yoga
DESCRIPTION:Join us for yoga with Ginny K. before the Sunday service from 9 – 10 a.m. We will meet in room A108. \nPlease bring your own yoga mat and water bottle. Wear clothing appropriate for yoga and then join the congregation for Sunday service at 10:15 a.m. \nLIMIT of 15 participants. First come\, first served. We will release the sign-up form for the next date after each class through our Front Steps e-news. There will be a total of four classes over the summer.
URL:https://www.firstunitarianportland.org/event/summer-yoga/2025-07-20/
LOCATION:Classroom A108
CATEGORIES:Gathering & Connection,Program/Event
END:VEVENT
BEGIN:VEVENT
DTSTART;TZID=America/Los_Angeles:20250706T090000
DTEND;TZID=America/Los_Angeles:20250706T100000
DTSTAMP:20260423T144904
CREATED:20250512T180850Z
LAST-MODIFIED:20250527T181824Z
UID:10001515-1751792400-1751796000@www.firstunitarianportland.org
SUMMARY:*Registration Required* Summer Yoga
DESCRIPTION:Join us for yoga with Ginny K. before the Sunday service from 9 – 10 a.m. We will meet in room A108. \nPlease bring your own yoga mat and water bottle. Wear clothing appropriate for yoga and then join the congregation for Sunday service at 10:15 a.m. \nLIMIT of 15 participants. First come\, first served. We will release the sign-up form for the next date after each class through our Front Steps e-news. There will be a total of four classes over the summer.
URL:https://www.firstunitarianportland.org/event/summer-yoga/2025-07-06/
LOCATION:Classroom A108
CATEGORIES:Gathering & Connection,Program/Event
END:VEVENT
BEGIN:VEVENT
DTSTART;TZID=America/Los_Angeles:20250417T173000
DTEND;TZID=America/Los_Angeles:20250417T183000
DTSTAMP:20260423T144904
CREATED:20250321T204233Z
LAST-MODIFIED:20250409T235141Z
UID:10001323-1744911000-1744914600@www.firstunitarianportland.org
SUMMARY:Maundy Thursday Communion Service
DESCRIPTION:Join Rev. Alison and Danielle Garrett at 5:30 p.m. in A108 for an informal\, intimate communion service. Maundy comes from the Latin word for commandment\, referring to Jesus’s words the night of last supper\, “A new commandment I give unto you: That you love one another\, as I have loved you.” Join us in this short service that centers love and embodiment. \nLook in upcoming editions of our Front Steps e-news for more details!
URL:https://www.firstunitarianportland.org/event/maundy-thursday-2025/
LOCATION:Classroom A108
CATEGORIES:Service
END:VEVENT
BEGIN:VEVENT
DTSTART;TZID=America/Los_Angeles:20250209T121500
DTEND;TZID=America/Los_Angeles:20250209T133000
DTSTAMP:20260423T144904
CREATED:20241128T001455Z
LAST-MODIFIED:20241128T001455Z
UID:10001075-1739103300-1739107800@www.firstunitarianportland.org
SUMMARY:Membership Orientation Series: Spiritual Practices for All
DESCRIPTION:Join our assistant minister\, Danielle Garrett\, and Jen Thomas as we dig into: \n\nWhy cultivating personal spiritual practices is crucial.\nA variety of practices to consider for your own journey.\nHow these practices can deepen your connection to our community and enhance your overall experience at First U PDX.\n\nWhether you’re new to spiritual practices or looking to expand your existing routine\, this session offers valuable insights and practical guidance. \n  \nRegistration not required! \nKeep an eye out for announcements in the Front Steps E-news and on our website.
URL:https://www.firstunitarianportland.org/event/membership-orientation-series-spiritual-practices-for-all/
LOCATION:Classroom A108
CATEGORIES:Gathering & Connection
ORGANIZER;CN="Membership":MAILTO:jthomas@firstunitarianportland.org
END:VEVENT
END:VCALENDAR