BEGIN:VCALENDAR
VERSION:2.0
PRODID:-//First Unitarian Portland - ECPv6.15.20//NONSGML v1.0//EN
CALSCALE:GREGORIAN
METHOD:PUBLISH
X-WR-CALNAME:First Unitarian Portland
X-ORIGINAL-URL:https://www.firstunitarianportland.org
X-WR-CALDESC:Events for First Unitarian Portland
REFRESH-INTERVAL;VALUE=DURATION:PT1H
X-Robots-Tag:noindex
X-PUBLISHED-TTL:PT1H
BEGIN:VTIMEZONE
TZID:America/Los_Angeles
BEGIN:DAYLIGHT
TZOFFSETFROM:-0800
TZOFFSETTO:-0700
TZNAME:PDT
DTSTART:20240310T100000
END:DAYLIGHT
BEGIN:STANDARD
TZOFFSETFROM:-0700
TZOFFSETTO:-0800
TZNAME:PST
DTSTART:20241103T090000
END:STANDARD
BEGIN:DAYLIGHT
TZOFFSETFROM:-0800
TZOFFSETTO:-0700
TZNAME:PDT
DTSTART:20250309T100000
END:DAYLIGHT
BEGIN:STANDARD
TZOFFSETFROM:-0700
TZOFFSETTO:-0800
TZNAME:PST
DTSTART:20251102T090000
END:STANDARD
BEGIN:DAYLIGHT
TZOFFSETFROM:-0800
TZOFFSETTO:-0700
TZNAME:PDT
DTSTART:20260308T100000
END:DAYLIGHT
BEGIN:STANDARD
TZOFFSETFROM:-0700
TZOFFSETTO:-0800
TZNAME:PST
DTSTART:20261101T090000
END:STANDARD
END:VTIMEZONE
BEGIN:VEVENT
DTSTART;TZID=America/Los_Angeles:20250713T101500
DTEND;TZID=America/Los_Angeles:20250713T113000
DTSTAMP:20260423T134354
CREATED:20241127T213504Z
LAST-MODIFIED:20260210T222116Z
UID:10001341-1752401700-1752406200@www.firstunitarianportland.org
SUMMARY:🕯️ Sunday Worship
DESCRIPTION:In-person\nSanctuary\n1211 SW Main St.\nPortland\, OR 97205 \n  \nJoin us on livestream here
URL:https://www.firstunitarianportland.org/event/sunday-worship/2025-07-13/
LOCATION:Main Sanctuary\, 1211 SW Main St\, Portland\, OR\, 97205\, United States
CATEGORIES:Service
END:VEVENT
BEGIN:VEVENT
DTSTART;TZID=America/Los_Angeles:20250706T101500
DTEND;TZID=America/Los_Angeles:20250706T113000
DTSTAMP:20260423T134354
CREATED:20241127T213504Z
LAST-MODIFIED:20260210T222116Z
UID:10001340-1751796900-1751801400@www.firstunitarianportland.org
SUMMARY:🕯️ Sunday Worship
DESCRIPTION:In-person\nSanctuary\n1211 SW Main St.\nPortland\, OR 97205 \n  \nJoin us on livestream here
URL:https://www.firstunitarianportland.org/event/sunday-worship/2025-07-06/
LOCATION:Main Sanctuary\, 1211 SW Main St\, Portland\, OR\, 97205\, United States
CATEGORIES:Service
END:VEVENT
BEGIN:VEVENT
DTSTART;TZID=America/Los_Angeles:20250629T101500
DTEND;TZID=America/Los_Angeles:20250629T113000
DTSTAMP:20260423T134354
CREATED:20241127T213504Z
LAST-MODIFIED:20260210T222116Z
UID:10001339-1751192100-1751196600@www.firstunitarianportland.org
SUMMARY:🕯️ Sunday Worship
DESCRIPTION:In-person\nSanctuary\n1211 SW Main St.\nPortland\, OR 97205 \n  \nJoin us on livestream here
URL:https://www.firstunitarianportland.org/event/sunday-worship/2025-06-29/
LOCATION:Main Sanctuary\, 1211 SW Main St\, Portland\, OR\, 97205\, United States
CATEGORIES:Service
END:VEVENT
BEGIN:VEVENT
DTSTART;TZID=America/Los_Angeles:20250615T101500
DTEND;TZID=America/Los_Angeles:20250615T113000
DTSTAMP:20260423T134354
CREATED:20241127T213504Z
LAST-MODIFIED:20260210T222116Z
UID:10000405-1749982500-1749987000@www.firstunitarianportland.org
SUMMARY:🕯️ Sunday Worship
DESCRIPTION:In-person\nSanctuary\n1211 SW Main St.\nPortland\, OR 97205 \n  \nJoin us on livestream here
URL:https://www.firstunitarianportland.org/event/sunday-worship/2025-06-15/
LOCATION:Main Sanctuary\, 1211 SW Main St\, Portland\, OR\, 97205\, United States
CATEGORIES:Service
END:VEVENT
BEGIN:VEVENT
DTSTART;TZID=America/Los_Angeles:20250608T101500
DTEND;TZID=America/Los_Angeles:20250608T113000
DTSTAMP:20260423T134354
CREATED:20250429T230649Z
LAST-MODIFIED:20250429T231348Z
UID:10000404-1749377700-1749382200@www.firstunitarianportland.org
SUMMARY:Sunday Worship: Flower Communion! 💐
DESCRIPTION:In-person\nSanctuary\n1211 SW Main St.\nPortland\, OR 97205 \n  \nJoin us on livestream here
URL:https://www.firstunitarianportland.org/event/flower-communion-2025/
LOCATION:Main Sanctuary\, 1211 SW Main St\, Portland\, OR\, 97205\, United States
CATEGORIES:Service
END:VEVENT
BEGIN:VEVENT
DTSTART;TZID=America/Los_Angeles:20250601T101500
DTEND;TZID=America/Los_Angeles:20250601T113000
DTSTAMP:20260423T134354
CREATED:20241127T213504Z
LAST-MODIFIED:20260210T222116Z
UID:10000403-1748772900-1748777400@www.firstunitarianportland.org
SUMMARY:🕯️ Sunday Worship
DESCRIPTION:In-person\nSanctuary\n1211 SW Main St.\nPortland\, OR 97205 \n  \nJoin us on livestream here
URL:https://www.firstunitarianportland.org/event/sunday-worship/2025-06-01/
LOCATION:Main Sanctuary\, 1211 SW Main St\, Portland\, OR\, 97205\, United States
CATEGORIES:Service
END:VEVENT
BEGIN:VEVENT
DTSTART;TZID=America/Los_Angeles:20250525T101500
DTEND;TZID=America/Los_Angeles:20250525T113000
DTSTAMP:20260423T134354
CREATED:20241127T213504Z
LAST-MODIFIED:20260210T222116Z
UID:10000402-1748168100-1748172600@www.firstunitarianportland.org
SUMMARY:🕯️ Sunday Worship
DESCRIPTION:In-person\nSanctuary\n1211 SW Main St.\nPortland\, OR 97205 \n  \nJoin us on livestream here
URL:https://www.firstunitarianportland.org/event/sunday-worship/2025-05-25/
LOCATION:Main Sanctuary\, 1211 SW Main St\, Portland\, OR\, 97205\, United States
CATEGORIES:Service
END:VEVENT
BEGIN:VEVENT
DTSTART;TZID=America/Los_Angeles:20250518T101500
DTEND;TZID=America/Los_Angeles:20250518T113000
DTSTAMP:20260423T134354
CREATED:20250429T231212Z
LAST-MODIFIED:20250504T192933Z
UID:10000401-1747563300-1747567800@www.firstunitarianportland.org
SUMMARY:Sunday Service: Music & Worship! 🎵
DESCRIPTION:In-person\nSanctuary\n1211 SW Main St.\nPortland\, OR 97205 \n  \nClick here to see more about this very special Music & Worship service … Gabriel Fauré’s Requiem.\n  \nJoin us on livestream here.
URL:https://www.firstunitarianportland.org/event/mw-service-2025/
LOCATION:Main Sanctuary\, 1211 SW Main St\, Portland\, OR\, 97205\, United States
CATEGORIES:Music/Concert,Service
END:VEVENT
BEGIN:VEVENT
DTSTART;TZID=America/Los_Angeles:20250511T101500
DTEND;TZID=America/Los_Angeles:20250511T113000
DTSTAMP:20260423T134354
CREATED:20241127T213504Z
LAST-MODIFIED:20260210T222116Z
UID:10000400-1746958500-1746963000@www.firstunitarianportland.org
SUMMARY:🕯️ Sunday Worship
DESCRIPTION:In-person\nSanctuary\n1211 SW Main St.\nPortland\, OR 97205 \n  \nJoin us on livestream here
URL:https://www.firstunitarianportland.org/event/sunday-worship/2025-05-11/
LOCATION:Main Sanctuary\, 1211 SW Main St\, Portland\, OR\, 97205\, United States
CATEGORIES:Service
END:VEVENT
BEGIN:VEVENT
DTSTART;TZID=America/Los_Angeles:20250504T101500
DTEND;TZID=America/Los_Angeles:20250504T113000
DTSTAMP:20260423T134354
CREATED:20241127T213504Z
LAST-MODIFIED:20260210T222116Z
UID:10000399-1746353700-1746358200@www.firstunitarianportland.org
SUMMARY:🕯️ Sunday Worship
DESCRIPTION:In-person\nSanctuary\n1211 SW Main St.\nPortland\, OR 97205 \n  \nJoin us on livestream here
URL:https://www.firstunitarianportland.org/event/sunday-worship/2025-05-04/
LOCATION:Main Sanctuary\, 1211 SW Main St\, Portland\, OR\, 97205\, United States
CATEGORIES:Service
END:VEVENT
BEGIN:VEVENT
DTSTART;TZID=America/Los_Angeles:20250427T101500
DTEND;TZID=America/Los_Angeles:20250427T113000
DTSTAMP:20260423T134354
CREATED:20241127T213504Z
LAST-MODIFIED:20260210T222116Z
UID:10000398-1745748900-1745753400@www.firstunitarianportland.org
SUMMARY:🕯️ Sunday Worship
DESCRIPTION:In-person\nSanctuary\n1211 SW Main St.\nPortland\, OR 97205 \n  \nJoin us on livestream here
URL:https://www.firstunitarianportland.org/event/sunday-worship/2025-04-27/
LOCATION:Main Sanctuary\, 1211 SW Main St\, Portland\, OR\, 97205\, United States
CATEGORIES:Service
END:VEVENT
BEGIN:VEVENT
DTSTART;TZID=America/Los_Angeles:20250420T101500
DTEND;TZID=America/Los_Angeles:20250420T113000
DTSTAMP:20260423T134354
CREATED:20250409T234947Z
LAST-MODIFIED:20250429T231518Z
UID:10000397-1745144100-1745148600@www.firstunitarianportland.org
SUMMARY:Sunday Worship: Easter Sunday! 🐰
DESCRIPTION:Join us at 10:15 for a multi-generational Sunday worship service celebrating liberation and resurrection! An egg hunt for our children and youth will follow the service. \n  \nIn-person\nSanctuary\n1211 SW Main St.\nPortland\, OR 97205 \n  \nJoin us on livestream here
URL:https://www.firstunitarianportland.org/event/easter-service-2025/
LOCATION:Main Sanctuary\, 1211 SW Main St\, Portland\, OR\, 97205\, United States
CATEGORIES:Service
END:VEVENT
BEGIN:VEVENT
DTSTART;TZID=America/Los_Angeles:20250413T101500
DTEND;TZID=America/Los_Angeles:20250413T113000
DTSTAMP:20260423T134354
CREATED:20250321T204053Z
LAST-MODIFIED:20250429T231457Z
UID:10000396-1744539300-1744543800@www.firstunitarianportland.org
SUMMARY:Sunday Worship: Youth Service! 🧒
DESCRIPTION:In-person\nSanctuary\n1211 SW Main St.\nPortland\, OR 97205 \n  \nJoin us on livestream here
URL:https://www.firstunitarianportland.org/event/yruu-service-2025/
LOCATION:Main Sanctuary\, 1211 SW Main St\, Portland\, OR\, 97205\, United States
CATEGORIES:Service
END:VEVENT
BEGIN:VEVENT
DTSTART;TZID=America/Los_Angeles:20250406T101500
DTEND;TZID=America/Los_Angeles:20250406T113000
DTSTAMP:20260423T134354
CREATED:20241127T213504Z
LAST-MODIFIED:20260210T222116Z
UID:10000395-1743934500-1743939000@www.firstunitarianportland.org
SUMMARY:🕯️ Sunday Worship
DESCRIPTION:In-person\nSanctuary\n1211 SW Main St.\nPortland\, OR 97205 \n  \nJoin us on livestream here
URL:https://www.firstunitarianportland.org/event/sunday-worship/2025-04-06/
LOCATION:Main Sanctuary\, 1211 SW Main St\, Portland\, OR\, 97205\, United States
CATEGORIES:Service
END:VEVENT
BEGIN:VEVENT
DTSTART;TZID=America/Los_Angeles:20250330T101500
DTEND;TZID=America/Los_Angeles:20250330T113000
DTSTAMP:20260423T134354
CREATED:20241127T213504Z
LAST-MODIFIED:20260210T222116Z
UID:10000394-1743329700-1743334200@www.firstunitarianportland.org
SUMMARY:🕯️ Sunday Worship
DESCRIPTION:In-person\nSanctuary\n1211 SW Main St.\nPortland\, OR 97205 \n  \nJoin us on livestream here
URL:https://www.firstunitarianportland.org/event/sunday-worship/2025-03-30/
LOCATION:Main Sanctuary\, 1211 SW Main St\, Portland\, OR\, 97205\, United States
CATEGORIES:Service
END:VEVENT
BEGIN:VEVENT
DTSTART;TZID=America/Los_Angeles:20250323T101500
DTEND;TZID=America/Los_Angeles:20250323T113000
DTSTAMP:20260423T134354
CREATED:20241127T213504Z
LAST-MODIFIED:20260210T222116Z
UID:10000393-1742724900-1742729400@www.firstunitarianportland.org
SUMMARY:🕯️ Sunday Worship
DESCRIPTION:In-person\nSanctuary\n1211 SW Main St.\nPortland\, OR 97205 \n  \nJoin us on livestream here
URL:https://www.firstunitarianportland.org/event/sunday-worship/2025-03-23/
LOCATION:Main Sanctuary\, 1211 SW Main St\, Portland\, OR\, 97205\, United States
CATEGORIES:Service
END:VEVENT
BEGIN:VEVENT
DTSTART;TZID=America/Los_Angeles:20250316T101500
DTEND;TZID=America/Los_Angeles:20250316T113000
DTSTAMP:20260423T134354
CREATED:20241127T213504Z
LAST-MODIFIED:20260210T222116Z
UID:10000392-1742120100-1742124600@www.firstunitarianportland.org
SUMMARY:🕯️ Sunday Worship
DESCRIPTION:In-person\nSanctuary\n1211 SW Main St.\nPortland\, OR 97205 \n  \nJoin us on livestream here
URL:https://www.firstunitarianportland.org/event/sunday-worship/2025-03-16/
LOCATION:Main Sanctuary\, 1211 SW Main St\, Portland\, OR\, 97205\, United States
CATEGORIES:Service
END:VEVENT
BEGIN:VEVENT
DTSTART;TZID=America/Los_Angeles:20250309T101500
DTEND;TZID=America/Los_Angeles:20250309T113000
DTSTAMP:20260423T134354
CREATED:20241127T213504Z
LAST-MODIFIED:20260210T222116Z
UID:10000391-1741515300-1741519800@www.firstunitarianportland.org
SUMMARY:🕯️ Sunday Worship
DESCRIPTION:In-person\nSanctuary\n1211 SW Main St.\nPortland\, OR 97205 \n  \nJoin us on livestream here
URL:https://www.firstunitarianportland.org/event/sunday-worship/2025-03-09/
LOCATION:Main Sanctuary\, 1211 SW Main St\, Portland\, OR\, 97205\, United States
CATEGORIES:Service
END:VEVENT
BEGIN:VEVENT
DTSTART;TZID=America/Los_Angeles:20250302T101500
DTEND;TZID=America/Los_Angeles:20250302T113000
DTSTAMP:20260423T134354
CREATED:20241127T213504Z
LAST-MODIFIED:20260210T222116Z
UID:10000390-1740910500-1740915000@www.firstunitarianportland.org
SUMMARY:🕯️ Sunday Worship
DESCRIPTION:In-person\nSanctuary\n1211 SW Main St.\nPortland\, OR 97205 \n  \nJoin us on livestream here
URL:https://www.firstunitarianportland.org/event/sunday-worship/2025-03-02/
LOCATION:Main Sanctuary\, 1211 SW Main St\, Portland\, OR\, 97205\, United States
CATEGORIES:Service
END:VEVENT
BEGIN:VEVENT
DTSTART;TZID=America/Los_Angeles:20250223T101500
DTEND;TZID=America/Los_Angeles:20250223T113000
DTSTAMP:20260423T134354
CREATED:20241127T213504Z
LAST-MODIFIED:20260210T222116Z
UID:10000389-1740305700-1740310200@www.firstunitarianportland.org
SUMMARY:🕯️ Sunday Worship
DESCRIPTION:In-person\nSanctuary\n1211 SW Main St.\nPortland\, OR 97205 \n  \nJoin us on livestream here
URL:https://www.firstunitarianportland.org/event/sunday-worship/2025-02-23/
LOCATION:Main Sanctuary\, 1211 SW Main St\, Portland\, OR\, 97205\, United States
CATEGORIES:Service
END:VEVENT
BEGIN:VEVENT
DTSTART;TZID=America/Los_Angeles:20250216T101500
DTEND;TZID=America/Los_Angeles:20250216T113000
DTSTAMP:20260423T134354
CREATED:20241127T213504Z
LAST-MODIFIED:20260210T222116Z
UID:10000388-1739700900-1739705400@www.firstunitarianportland.org
SUMMARY:🕯️ Sunday Worship
DESCRIPTION:In-person\nSanctuary\n1211 SW Main St.\nPortland\, OR 97205 \n  \nJoin us on livestream here
URL:https://www.firstunitarianportland.org/event/sunday-worship/2025-02-16/
LOCATION:Main Sanctuary\, 1211 SW Main St\, Portland\, OR\, 97205\, United States
CATEGORIES:Service
END:VEVENT
BEGIN:VEVENT
DTSTART;TZID=America/Los_Angeles:20250209T101500
DTEND;TZID=America/Los_Angeles:20250209T113000
DTSTAMP:20260423T134354
CREATED:20241127T213504Z
LAST-MODIFIED:20260210T222116Z
UID:10000387-1739096100-1739100600@www.firstunitarianportland.org
SUMMARY:🕯️ Sunday Worship
DESCRIPTION:In-person\nSanctuary\n1211 SW Main St.\nPortland\, OR 97205 \n  \nJoin us on livestream here
URL:https://www.firstunitarianportland.org/event/sunday-worship/2025-02-09/
LOCATION:Main Sanctuary\, 1211 SW Main St\, Portland\, OR\, 97205\, United States
CATEGORIES:Service
END:VEVENT
BEGIN:VEVENT
DTSTART;TZID=America/Los_Angeles:20250202T101500
DTEND;TZID=America/Los_Angeles:20250202T113000
DTSTAMP:20260423T134354
CREATED:20241127T213504Z
LAST-MODIFIED:20260210T222116Z
UID:10000386-1738491300-1738495800@www.firstunitarianportland.org
SUMMARY:🕯️ Sunday Worship
DESCRIPTION:In-person\nSanctuary\n1211 SW Main St.\nPortland\, OR 97205 \n  \nJoin us on livestream here
URL:https://www.firstunitarianportland.org/event/sunday-worship/2025-02-02/
LOCATION:Main Sanctuary\, 1211 SW Main St\, Portland\, OR\, 97205\, United States
CATEGORIES:Service
END:VEVENT
BEGIN:VEVENT
DTSTART;TZID=America/Los_Angeles:20250126T101500
DTEND;TZID=America/Los_Angeles:20250126T113000
DTSTAMP:20260423T134354
CREATED:20241127T213504Z
LAST-MODIFIED:20260210T222116Z
UID:10000385-1737886500-1737891000@www.firstunitarianportland.org
SUMMARY:🕯️ Sunday Worship
DESCRIPTION:In-person\nSanctuary\n1211 SW Main St.\nPortland\, OR 97205 \n  \nJoin us on livestream here
URL:https://www.firstunitarianportland.org/event/sunday-worship/2025-01-26/
LOCATION:Main Sanctuary\, 1211 SW Main St\, Portland\, OR\, 97205\, United States
CATEGORIES:Service
END:VEVENT
BEGIN:VEVENT
DTSTART;TZID=America/Los_Angeles:20250119T101500
DTEND;TZID=America/Los_Angeles:20250119T113000
DTSTAMP:20260423T134354
CREATED:20241127T213504Z
LAST-MODIFIED:20260210T222116Z
UID:10000384-1737281700-1737286200@www.firstunitarianportland.org
SUMMARY:🕯️ Sunday Worship
DESCRIPTION:In-person\nSanctuary\n1211 SW Main St.\nPortland\, OR 97205 \n  \nJoin us on livestream here
URL:https://www.firstunitarianportland.org/event/sunday-worship/2025-01-19/
LOCATION:Main Sanctuary\, 1211 SW Main St\, Portland\, OR\, 97205\, United States
CATEGORIES:Service
END:VEVENT
BEGIN:VEVENT
DTSTART;TZID=America/Los_Angeles:20250112T101500
DTEND;TZID=America/Los_Angeles:20250112T113000
DTSTAMP:20260423T134354
CREATED:20241127T213504Z
LAST-MODIFIED:20260210T222116Z
UID:10000383-1736676900-1736681400@www.firstunitarianportland.org
SUMMARY:🕯️ Sunday Worship
DESCRIPTION:In-person\nSanctuary\n1211 SW Main St.\nPortland\, OR 97205 \n  \nJoin us on livestream here
URL:https://www.firstunitarianportland.org/event/sunday-worship/2025-01-12/
LOCATION:Main Sanctuary\, 1211 SW Main St\, Portland\, OR\, 97205\, United States
CATEGORIES:Service
END:VEVENT
BEGIN:VEVENT
DTSTART;TZID=America/Los_Angeles:20250105T101500
DTEND;TZID=America/Los_Angeles:20250105T113000
DTSTAMP:20260423T134354
CREATED:20241127T213504Z
LAST-MODIFIED:20260210T222116Z
UID:10000382-1736072100-1736076600@www.firstunitarianportland.org
SUMMARY:🕯️ Sunday Worship
DESCRIPTION:In-person\nSanctuary\n1211 SW Main St.\nPortland\, OR 97205 \n  \nJoin us on livestream here
URL:https://www.firstunitarianportland.org/event/sunday-worship/2025-01-05/
LOCATION:Main Sanctuary\, 1211 SW Main St\, Portland\, OR\, 97205\, United States
CATEGORIES:Service
END:VEVENT
END:VCALENDAR