BEGIN:VCALENDAR
VERSION:2.0
PRODID:-//First Unitarian Portland - ECPv6.15.20//NONSGML v1.0//EN
CALSCALE:GREGORIAN
METHOD:PUBLISH
X-ORIGINAL-URL:https://www.firstunitarianportland.org
X-WR-CALDESC:Events for First Unitarian Portland
REFRESH-INTERVAL;VALUE=DURATION:PT1H
X-Robots-Tag:noindex
X-PUBLISHED-TTL:PT1H
BEGIN:VTIMEZONE
TZID:America/Los_Angeles
BEGIN:DAYLIGHT
TZOFFSETFROM:-0800
TZOFFSETTO:-0700
TZNAME:PDT
DTSTART:20240310T100000
END:DAYLIGHT
BEGIN:STANDARD
TZOFFSETFROM:-0700
TZOFFSETTO:-0800
TZNAME:PST
DTSTART:20241103T090000
END:STANDARD
BEGIN:DAYLIGHT
TZOFFSETFROM:-0800
TZOFFSETTO:-0700
TZNAME:PDT
DTSTART:20250309T100000
END:DAYLIGHT
BEGIN:STANDARD
TZOFFSETFROM:-0700
TZOFFSETTO:-0800
TZNAME:PST
DTSTART:20251102T090000
END:STANDARD
BEGIN:DAYLIGHT
TZOFFSETFROM:-0800
TZOFFSETTO:-0700
TZNAME:PDT
DTSTART:20260308T100000
END:DAYLIGHT
BEGIN:STANDARD
TZOFFSETFROM:-0700
TZOFFSETTO:-0800
TZNAME:PST
DTSTART:20261101T090000
END:STANDARD
END:VTIMEZONE
BEGIN:VEVENT
DTSTART;TZID=America/Los_Angeles:20250612T190000
DTEND;TZID=America/Los_Angeles:20250612T210000
DTSTAMP:20260423T164857
CREATED:20250203T191926Z
LAST-MODIFIED:20250313T010710Z
UID:10001261-1749754800-1749762000@www.firstunitarianportland.org
SUMMARY:*Registration Required* Journey to Articulating Your Faith
DESCRIPTION:A Spiritual Development Opportunity for People in Their 20s and 30s \nJoin Rev. Alison and Danielle Garrett for an 8-session course of theological exploration and discovery for young adults. Together\, we will trace our spiritual paths\, explore our understandings of the sacred\, human nature\, and religious practice\, and develop our personal credos: an expression of our most sacred beliefs and fundamental values that guide our lives. We will also get a chance to learn a little more about Unitarian Universalist history and build community with one another! To register or for more information\, contact Danielle.
URL:https://www.firstunitarianportland.org/event/journey-to-articulating-your-faith/2025-06-12/
CATEGORIES:Program/Event
END:VEVENT
BEGIN:VEVENT
DTSTART;TZID=America/Los_Angeles:20250522T190000
DTEND;TZID=America/Los_Angeles:20250522T210000
DTSTAMP:20260423T164857
CREATED:20250203T191926Z
LAST-MODIFIED:20250313T010710Z
UID:10001260-1747940400-1747947600@www.firstunitarianportland.org
SUMMARY:*Registration Required* Journey to Articulating Your Faith
DESCRIPTION:A Spiritual Development Opportunity for People in Their 20s and 30s \nJoin Rev. Alison and Danielle Garrett for an 8-session course of theological exploration and discovery for young adults. Together\, we will trace our spiritual paths\, explore our understandings of the sacred\, human nature\, and religious practice\, and develop our personal credos: an expression of our most sacred beliefs and fundamental values that guide our lives. We will also get a chance to learn a little more about Unitarian Universalist history and build community with one another! To register or for more information\, contact Danielle.
URL:https://www.firstunitarianportland.org/event/journey-to-articulating-your-faith/2025-05-22/
CATEGORIES:Program/Event
END:VEVENT
BEGIN:VEVENT
DTSTART;TZID=America/Los_Angeles:20250508T190000
DTEND;TZID=America/Los_Angeles:20250508T210000
DTSTAMP:20260423T164857
CREATED:20250203T191926Z
LAST-MODIFIED:20250313T010710Z
UID:10001259-1746730800-1746738000@www.firstunitarianportland.org
SUMMARY:*Registration Required* Journey to Articulating Your Faith
DESCRIPTION:A Spiritual Development Opportunity for People in Their 20s and 30s \nJoin Rev. Alison and Danielle Garrett for an 8-session course of theological exploration and discovery for young adults. Together\, we will trace our spiritual paths\, explore our understandings of the sacred\, human nature\, and religious practice\, and develop our personal credos: an expression of our most sacred beliefs and fundamental values that guide our lives. We will also get a chance to learn a little more about Unitarian Universalist history and build community with one another! To register or for more information\, contact Danielle.
URL:https://www.firstunitarianportland.org/event/journey-to-articulating-your-faith/2025-05-08/
CATEGORIES:Program/Event
END:VEVENT
BEGIN:VEVENT
DTSTART;TZID=America/Los_Angeles:20250424T190000
DTEND;TZID=America/Los_Angeles:20250424T210000
DTSTAMP:20260423T164857
CREATED:20250203T191926Z
LAST-MODIFIED:20250313T010710Z
UID:10001258-1745521200-1745528400@www.firstunitarianportland.org
SUMMARY:*Registration Required* Journey to Articulating Your Faith
DESCRIPTION:A Spiritual Development Opportunity for People in Their 20s and 30s \nJoin Rev. Alison and Danielle Garrett for an 8-session course of theological exploration and discovery for young adults. Together\, we will trace our spiritual paths\, explore our understandings of the sacred\, human nature\, and religious practice\, and develop our personal credos: an expression of our most sacred beliefs and fundamental values that guide our lives. We will also get a chance to learn a little more about Unitarian Universalist history and build community with one another! To register or for more information\, contact Danielle.
URL:https://www.firstunitarianportland.org/event/journey-to-articulating-your-faith/2025-04-24/
CATEGORIES:Program/Event
END:VEVENT
BEGIN:VEVENT
DTSTART;TZID=America/Los_Angeles:20250410T190000
DTEND;TZID=America/Los_Angeles:20250410T210000
DTSTAMP:20260423T164857
CREATED:20250203T191926Z
LAST-MODIFIED:20250313T010710Z
UID:10001257-1744311600-1744318800@www.firstunitarianportland.org
SUMMARY:*Registration Required* Journey to Articulating Your Faith
DESCRIPTION:A Spiritual Development Opportunity for People in Their 20s and 30s \nJoin Rev. Alison and Danielle Garrett for an 8-session course of theological exploration and discovery for young adults. Together\, we will trace our spiritual paths\, explore our understandings of the sacred\, human nature\, and religious practice\, and develop our personal credos: an expression of our most sacred beliefs and fundamental values that guide our lives. We will also get a chance to learn a little more about Unitarian Universalist history and build community with one another! To register or for more information\, contact Danielle.
URL:https://www.firstunitarianportland.org/event/journey-to-articulating-your-faith/2025-04-10/
CATEGORIES:Program/Event
END:VEVENT
BEGIN:VEVENT
DTSTART;TZID=America/Los_Angeles:20250327T190000
DTEND;TZID=America/Los_Angeles:20250327T210000
DTSTAMP:20260423T164857
CREATED:20250203T191926Z
LAST-MODIFIED:20250313T010710Z
UID:10001256-1743102000-1743109200@www.firstunitarianportland.org
SUMMARY:*Registration Required* Journey to Articulating Your Faith
DESCRIPTION:A Spiritual Development Opportunity for People in Their 20s and 30s \nJoin Rev. Alison and Danielle Garrett for an 8-session course of theological exploration and discovery for young adults. Together\, we will trace our spiritual paths\, explore our understandings of the sacred\, human nature\, and religious practice\, and develop our personal credos: an expression of our most sacred beliefs and fundamental values that guide our lives. We will also get a chance to learn a little more about Unitarian Universalist history and build community with one another! To register or for more information\, contact Danielle.
URL:https://www.firstunitarianportland.org/event/journey-to-articulating-your-faith/2025-03-27/
CATEGORIES:Program/Event
END:VEVENT
BEGIN:VEVENT
DTSTART;TZID=America/Los_Angeles:20250313T190000
DTEND;TZID=America/Los_Angeles:20250313T210000
DTSTAMP:20260423T164857
CREATED:20250203T191926Z
LAST-MODIFIED:20250313T010710Z
UID:10001255-1741892400-1741899600@www.firstunitarianportland.org
SUMMARY:*Registration Required* Journey to Articulating Your Faith
DESCRIPTION:A Spiritual Development Opportunity for People in Their 20s and 30s \nJoin Rev. Alison and Danielle Garrett for an 8-session course of theological exploration and discovery for young adults. Together\, we will trace our spiritual paths\, explore our understandings of the sacred\, human nature\, and religious practice\, and develop our personal credos: an expression of our most sacred beliefs and fundamental values that guide our lives. We will also get a chance to learn a little more about Unitarian Universalist history and build community with one another! To register or for more information\, contact Danielle.
URL:https://www.firstunitarianportland.org/event/journey-to-articulating-your-faith/2025-03-13/
CATEGORIES:Program/Event
END:VEVENT
BEGIN:VEVENT
DTSTART;TZID=America/Los_Angeles:20250227T190000
DTEND;TZID=America/Los_Angeles:20250227T210000
DTSTAMP:20260423T164857
CREATED:20250203T191926Z
LAST-MODIFIED:20250313T010710Z
UID:10001254-1740682800-1740690000@www.firstunitarianportland.org
SUMMARY:*Registration Required* Journey to Articulating Your Faith
DESCRIPTION:A Spiritual Development Opportunity for People in Their 20s and 30s \nJoin Rev. Alison and Danielle Garrett for an 8-session course of theological exploration and discovery for young adults. Together\, we will trace our spiritual paths\, explore our understandings of the sacred\, human nature\, and religious practice\, and develop our personal credos: an expression of our most sacred beliefs and fundamental values that guide our lives. We will also get a chance to learn a little more about Unitarian Universalist history and build community with one another! To register or for more information\, contact Danielle.
URL:https://www.firstunitarianportland.org/event/journey-to-articulating-your-faith/2025-02-27/
CATEGORIES:Program/Event
END:VEVENT
END:VCALENDAR