BEGIN:VCALENDAR
VERSION:2.0
PRODID:-//First Unitarian Portland - ECPv6.15.20//NONSGML v1.0//EN
CALSCALE:GREGORIAN
METHOD:PUBLISH
X-ORIGINAL-URL:https://www.firstunitarianportland.org
X-WR-CALDESC:Events for First Unitarian Portland
REFRESH-INTERVAL;VALUE=DURATION:PT1H
X-Robots-Tag:noindex
X-PUBLISHED-TTL:PT1H
BEGIN:VTIMEZONE
TZID:America/Los_Angeles
BEGIN:DAYLIGHT
TZOFFSETFROM:-0800
TZOFFSETTO:-0700
TZNAME:PDT
DTSTART:20240310T100000
END:DAYLIGHT
BEGIN:STANDARD
TZOFFSETFROM:-0700
TZOFFSETTO:-0800
TZNAME:PST
DTSTART:20241103T090000
END:STANDARD
BEGIN:DAYLIGHT
TZOFFSETFROM:-0800
TZOFFSETTO:-0700
TZNAME:PDT
DTSTART:20250309T100000
END:DAYLIGHT
BEGIN:STANDARD
TZOFFSETFROM:-0700
TZOFFSETTO:-0800
TZNAME:PST
DTSTART:20251102T090000
END:STANDARD
BEGIN:DAYLIGHT
TZOFFSETFROM:-0800
TZOFFSETTO:-0700
TZNAME:PDT
DTSTART:20260308T100000
END:DAYLIGHT
BEGIN:STANDARD
TZOFFSETFROM:-0700
TZOFFSETTO:-0800
TZNAME:PST
DTSTART:20261101T090000
END:STANDARD
END:VTIMEZONE
BEGIN:VEVENT
DTSTART;TZID=America/Los_Angeles:20250928T113000
DTEND;TZID=America/Los_Angeles:20250928T133000
DTSTAMP:20260423T144917
CREATED:20250911T184407Z
LAST-MODIFIED:20250924T183429Z
UID:10001796-1759059000-1759066200@www.firstunitarianportland.org
SUMMARY:Supportive Housing Services (SHS) Conversation
DESCRIPTION:Join us for an honest\, values-based conversation about what’s working—and what still needs to change—in our region’s response to homelessness. \nAcross Multnomah\, Washington\, and Clackamas counties\, people are working hard to make progress on homelessness—but that progress isn’t always visible. These small-group conversations are designed to help bridge the gap between what the public sees and the real impact of the Supportive Housing Services (SHS) program. \nLaura Golino de Lovato is the Executive Director of Northwest Pilot Project (NWPP)\, a nonprofit organization providing housing assistance\, transportation\, and advocacy to very low-income seniors in Multnomah County. \nLed by Laura\, this conversation will offer a chance to: \n\nLearn how the SHS program is helping connect people to housing and supportive services\nHear real stories of progress and challenge from trusted local voices\nAsk questions and share your perspective in an honest\, respectful space\nLeave with a clearer understanding of the path forward\n\nWhether you’re concerned\, curious\, frustrated\, hopeful\, or all of the above\, you’re welcome to join the conversation. Event sponsored by COHHO (Committee on Hunger and Homelessness) and HereTogether Oregon.
URL:https://www.firstunitarianportland.org/event/shs-conversation/
LOCATION:Eliot Chapel\, 1011 SW 12th Ave\, Portland\, OR\, 97205
CATEGORIES:Program/Event,Social Justice
END:VEVENT
END:VCALENDAR