BEGIN:VCALENDAR
VERSION:2.0
PRODID:-//First Unitarian Portland - ECPv6.15.20//NONSGML v1.0//EN
CALSCALE:GREGORIAN
METHOD:PUBLISH
X-WR-CALNAME:First Unitarian Portland
X-ORIGINAL-URL:https://www.firstunitarianportland.org
X-WR-CALDESC:Events for First Unitarian Portland
REFRESH-INTERVAL;VALUE=DURATION:PT1H
X-Robots-Tag:noindex
X-PUBLISHED-TTL:PT1H
BEGIN:VTIMEZONE
TZID:America/Los_Angeles
BEGIN:DAYLIGHT
TZOFFSETFROM:-0800
TZOFFSETTO:-0700
TZNAME:PDT
DTSTART:20250309T100000
END:DAYLIGHT
BEGIN:STANDARD
TZOFFSETFROM:-0700
TZOFFSETTO:-0800
TZNAME:PST
DTSTART:20251102T090000
END:STANDARD
BEGIN:DAYLIGHT
TZOFFSETFROM:-0800
TZOFFSETTO:-0700
TZNAME:PDT
DTSTART:20260308T100000
END:DAYLIGHT
BEGIN:STANDARD
TZOFFSETFROM:-0700
TZOFFSETTO:-0800
TZNAME:PST
DTSTART:20261101T090000
END:STANDARD
BEGIN:DAYLIGHT
TZOFFSETFROM:-0800
TZOFFSETTO:-0700
TZNAME:PDT
DTSTART:20270314T100000
END:DAYLIGHT
BEGIN:STANDARD
TZOFFSETFROM:-0700
TZOFFSETTO:-0800
TZNAME:PST
DTSTART:20271107T090000
END:STANDARD
END:VTIMEZONE
BEGIN:VEVENT
DTSTART;TZID=America/Los_Angeles:20260412T101500
DTEND;TZID=America/Los_Angeles:20260412T113000
DTSTAMP:20260423T083538
CREATED:20241127T213504Z
LAST-MODIFIED:20260210T222116Z
UID:10001380-1775988900-1775993400@www.firstunitarianportland.org
SUMMARY:🕯️ Sunday Worship
DESCRIPTION:In-person\nSanctuary\n1211 SW Main St.\nPortland\, OR 97205 \n  \nJoin us on livestream here
URL:https://www.firstunitarianportland.org/event/sunday-worship/2026-04-12/
LOCATION:Main Sanctuary\, 1211 SW Main St\, Portland\, OR\, 97205\, United States
CATEGORIES:Service
END:VEVENT
BEGIN:VEVENT
DTSTART;TZID=America/Los_Angeles:20260412T101500
DTEND;TZID=America/Los_Angeles:20260412T113000
DTSTAMP:20260423T083538
CREATED:20250509T213239Z
LAST-MODIFIED:20260217T223552Z
UID:10001424-1775988900-1775993400@www.firstunitarianportland.org
SUMMARY:Children and Youth Learning Community
DESCRIPTION:The Learning Community\, also referred to as R.E. (Religious Education)\, meets at 10:15 a.m. on Sunday mornings.  On the first Sunday of the month\, children and youth start out in the main Sanctuary for our monthly “Together Time” before moving on to their classrooms in our Eliot Center/Buchan Building\, right next door to our Sanctuary building.  Stop by the R.E. Information Desk in the Eliot Center if you need to register your children or youth\, or have questions for us.  All are welcome! \nClick here to view more information about our Learning Community.
URL:https://www.firstunitarianportland.org/event/learning-community-2026/2026-04-12/
LOCATION:OR
CATEGORIES:Learning Community
END:VEVENT
BEGIN:VEVENT
DTSTART;TZID=America/Los_Angeles:20260412T114500
DTEND;TZID=America/Los_Angeles:20260412T131500
DTSTAMP:20260423T083538
CREATED:20260401T214108Z
LAST-MODIFIED:20260401T214331Z
UID:10001931-1775994300-1775999700@www.firstunitarianportland.org
SUMMARY:*Registration Required* Good Grief: Navigating Personal Loss
DESCRIPTION:In this four-session class for people who are grieving the loss of a close family member\, we will explore the nature of grief\, offer the opportunity to share your own grief story\, and conduct a ritual of remembrance. We will offer suggestions for coping with significant anniversaries and holidays. Resources will be provided. \nThere is no cost\, but pre-registration is required. Register here. There is a limit of ten participants. \nThe group is facilitated by the Rev. Duane Fickeisen and Dr. Bill Yasnoff. Both are members of First Unitarian and have personal experience with being widowed and in facilitating grief groups. \nQuestions can be emailed to either Duane or Bill. Registrants will receive confirmation and the room location at First Unitarian a week or so before the first gathering. \n  \nDates: April 12\, 19\, and 26\, and May 17. \nTiming: 11:45 a.m. to 1:15 p.m. \n\nAddress: Eliot Center/Buchan Building
URL:https://www.firstunitarianportland.org/event/good-grief-april2026/2026-04-12/
LOCATION:OR
CATEGORIES:Gathering & Connection
END:VEVENT
BEGIN:VEVENT
DTSTART;TZID=America/Los_Angeles:20260412T114500
DTEND;TZID=America/Los_Angeles:20260412T140000
DTSTAMP:20260423T083538
CREATED:20250919T185345Z
LAST-MODIFIED:20260204T195532Z
UID:10001627-1775994300-1776002400@www.firstunitarianportland.org
SUMMARY:Drop-In Parenting Circle
DESCRIPTION:Join our community of parents and caregivers. Share stories and wisdom\, and take time to explore spiritual reflection. Long-time families and new folks are welcome. Meets most months from September to June. Childcare provided. Drop-ins welcome.
URL:https://www.firstunitarianportland.org/event/parenting-circle-2/2026-04-12/
LOCATION:OR
CATEGORIES:Gathering & Connection
END:VEVENT
BEGIN:VEVENT
DTSTART;TZID=America/Los_Angeles:20260412T120000
DTEND;TZID=America/Los_Angeles:20260412T133000
DTSTAMP:20260423T083538
CREATED:20260108T002006Z
LAST-MODIFIED:20260320T231842Z
UID:10001902-1775995200-1776000600@www.firstunitarianportland.org
SUMMARY:2026 All-Church Forum
DESCRIPTION:The calendar is set for forums and meetings through the end of the year. Events will be held at noon in Eliot Chapel unless otherwise announced. Childcare will be available. \n\nFeb 8 – hear budget priorities from Rev. Alison and an update from the Board.\nMar 8 – review the proposed budget for next church year\, ask questions\, and provide feedback.\nApril 12 – learn about bylaws changes\, see the final budget\, and ask questions ahead of voting in May.\nMay 17 (Year-End Forum) – learn election results and hear year-end reports from the Board and Rev. Alison.\n\nWatch our Front Steps e-news for more details.
URL:https://www.firstunitarianportland.org/event/2026-board-senior-minister-forum/2026-04-12/
LOCATION:Eliot Chapel\, 1011 SW 12th Ave\, Portland\, OR\, 97205
CATEGORIES:Meeting
END:VEVENT
BEGIN:VEVENT
DTSTART;TZID=America/Los_Angeles:20260413T200000
DTEND;TZID=America/Los_Angeles:20260413T203000
DTSTAMP:20260423T083538
CREATED:20250512T180448Z
LAST-MODIFIED:20260210T222140Z
UID:10001502-1776110400-1776112200@www.firstunitarianportland.org
SUMMARY:Loving Kindness Meditation
DESCRIPTION:The teachings of Loving Kindness\, or Metta\, are about finding a path with heart. Jack Kornfield says\, “It’s about undertaking a path that transforms and touches us in the center of our being. To do so is to find a way of practice that allows us to live in the world wholly and fully from our heart.” \nWith this Spiritual Practice\, one can cultivate feelings of happiness\, dispel loneliness\,  let go of fear and anxiety. If you are feeling stuck\, this practice can help you enjoy a more compassionate life for yourself and others. \nJoin us on Zoom on Monday evenings to extend Loving-Kindness to yourself\, to those around you and to the world. \nNo previous meditation practice is necessary\, and new participants are always welcome.  Join on an ongoing basis\, or drop in as you’re able. \nMay we be at peace and keep our hearts open. \nContact Katie R. for more information. \nClick here to join.
URL:https://www.firstunitarianportland.org/event/loving-kindness-meditation-2026/2026-04-13/
LOCATION:Virtual
CATEGORIES:Gathering & Connection
END:VEVENT
BEGIN:VEVENT
DTSTART;TZID=America/Los_Angeles:20260416T130000
DTEND;TZID=America/Los_Angeles:20260416T143000
DTSTAMP:20260423T083538
CREATED:20250917T235414Z
LAST-MODIFIED:20250917T235414Z
UID:10001832-1776344400-1776349800@www.firstunitarianportland.org
SUMMARY:Contemplative Practices Group
DESCRIPTION:First Thursdays in Channing (A101) \nThird Thursdays in Eliot Chapel \n  \nJoin with us on the first and third Thursdays of the month from 1 to 2:30 p.m. to sit together in silence. Connect to your inner self as well as something bigger than yourself. Bring more peace and joy into your life\, increase mindfulness and develop more perspective. \n“Contemplative spirituality is about slowing down and relaxing our action\, our striving\, and all of our ‘doings.’ In order to ‘wake up’ to the Reality in which we are already immersed\, we must slow down and gently transition ‘from doing to being.’ “ – Keith Kristich \nThis is a drop-in group. Any silent sitting practice is welcomed and no prior meditation experience is needed. If you would like to learn a contemplative practice for use during the group\, let the facilitators know and they will meet with you half an hour before the group sit begins. \nEach group meeting consists of a 20-minute meditation\, a check-in on a spiritually oriented topic\, and deep discussion of a poem or short reading. Facilitator is Patty C. We look forward to being with you! \n— \nPatty has been a UU since childhood and has attended First Unitarian for 20 years. She has taught spiritual practice classes and been involved with Wellspring\, the Labyrinth and other church programs. She learned meditation in college and has had a daily meditation practice since joining First Unitarian. She has been an active Spiritual Director since 2012.
URL:https://www.firstunitarianportland.org/event/contemplative-practices-group-2-3/2026-04-16/
LOCATION:OR
CATEGORIES:Gathering & Connection
END:VEVENT
BEGIN:VEVENT
DTSTART;TZID=America/Los_Angeles:20260417T170000
DTEND;TZID=America/Los_Angeles:20260417T174000
DTSTAMP:20260423T083538
CREATED:20241127T211744Z
LAST-MODIFIED:20260210T222057Z
UID:10001594-1776445200-1776447600@www.firstunitarianportland.org
SUMMARY:Vespers
DESCRIPTION:Our Lay Ministers will offer inspirational readings\, guided meditation\, and quiet music in a contemplative program at week’s end. \nCongregants and visitors are invited to bring their prayer requests to be held during the service. They are received in real-time through the Zoom chat box\, seen\, and read aloud anonymously by the hosts. This is a time to join in prayer not only for our community but also for the world. \nWe look forward to sharing this time of quiet reflection with you when we are all holding so much in our hearts. \nDetails: Fridays\, 5 – 5:40 p.m. \nJoin here (SAVE THIS LINK! It works every Friday.) \nhttps://tinyurl.com/Vespers-1stU
URL:https://www.firstunitarianportland.org/event/vespers/2026-04-17/
LOCATION:Virtual
CATEGORIES:Gathering & Connection
END:VEVENT
END:VCALENDAR