BEGIN:VCALENDAR
VERSION:2.0
PRODID:-//First Unitarian Portland - ECPv6.15.20//NONSGML v1.0//EN
CALSCALE:GREGORIAN
METHOD:PUBLISH
X-WR-CALNAME:First Unitarian Portland
X-ORIGINAL-URL:https://www.firstunitarianportland.org
X-WR-CALDESC:Events for First Unitarian Portland
REFRESH-INTERVAL;VALUE=DURATION:PT1H
X-Robots-Tag:noindex
X-PUBLISHED-TTL:PT1H
BEGIN:VTIMEZONE
TZID:America/Los_Angeles
BEGIN:DAYLIGHT
TZOFFSETFROM:-0800
TZOFFSETTO:-0700
TZNAME:PDT
DTSTART:20240310T100000
END:DAYLIGHT
BEGIN:STANDARD
TZOFFSETFROM:-0700
TZOFFSETTO:-0800
TZNAME:PST
DTSTART:20241103T090000
END:STANDARD
BEGIN:DAYLIGHT
TZOFFSETFROM:-0800
TZOFFSETTO:-0700
TZNAME:PDT
DTSTART:20250309T100000
END:DAYLIGHT
BEGIN:STANDARD
TZOFFSETFROM:-0700
TZOFFSETTO:-0800
TZNAME:PST
DTSTART:20251102T090000
END:STANDARD
BEGIN:DAYLIGHT
TZOFFSETFROM:-0800
TZOFFSETTO:-0700
TZNAME:PDT
DTSTART:20260308T100000
END:DAYLIGHT
BEGIN:STANDARD
TZOFFSETFROM:-0700
TZOFFSETTO:-0800
TZNAME:PST
DTSTART:20261101T090000
END:STANDARD
BEGIN:DAYLIGHT
TZOFFSETFROM:-0800
TZOFFSETTO:-0700
TZNAME:PDT
DTSTART:20270314T100000
END:DAYLIGHT
BEGIN:STANDARD
TZOFFSETFROM:-0700
TZOFFSETTO:-0800
TZNAME:PST
DTSTART:20271107T090000
END:STANDARD
END:VTIMEZONE
BEGIN:VEVENT
DTSTART;TZID=America/Los_Angeles:20251228T101500
DTEND;TZID=America/Los_Angeles:20251228T113000
DTSTAMP:20260423T160349
CREATED:20241127T213504Z
LAST-MODIFIED:20260210T222116Z
UID:10001365-1766916900-1766921400@www.firstunitarianportland.org
SUMMARY:🕯️ Sunday Worship
DESCRIPTION:In-person\nSanctuary\n1211 SW Main St.\nPortland\, OR 97205 \n  \nJoin us on livestream here
URL:https://www.firstunitarianportland.org/event/sunday-worship/2025-12-28/
LOCATION:Main Sanctuary\, 1211 SW Main St\, Portland\, OR\, 97205\, United States
CATEGORIES:Service
END:VEVENT
BEGIN:VEVENT
DTSTART;TZID=America/Los_Angeles:20251228T101500
DTEND;TZID=America/Los_Angeles:20251228T113000
DTSTAMP:20260423T160349
CREATED:20250509T213239Z
LAST-MODIFIED:20260217T223552Z
UID:10001409-1766916900-1766921400@www.firstunitarianportland.org
SUMMARY:Children and Youth Learning Community
DESCRIPTION:The Learning Community\, also referred to as R.E. (Religious Education)\, meets at 10:15 a.m. on Sunday mornings.  On the first Sunday of the month\, children and youth start out in the main Sanctuary for our monthly “Together Time” before moving on to their classrooms in our Eliot Center/Buchan Building\, right next door to our Sanctuary building.  Stop by the R.E. Information Desk in the Eliot Center if you need to register your children or youth\, or have questions for us.  All are welcome! \nClick here to view more information about our Learning Community.
URL:https://www.firstunitarianportland.org/event/learning-community-2026/2025-12-28/
LOCATION:OR
CATEGORIES:Learning Community
END:VEVENT
BEGIN:VEVENT
DTSTART;TZID=America/Los_Angeles:20251229T200000
DTEND;TZID=America/Los_Angeles:20251229T203000
DTSTAMP:20260423T160349
CREATED:20250512T180448Z
LAST-MODIFIED:20260210T222140Z
UID:10001487-1767038400-1767040200@www.firstunitarianportland.org
SUMMARY:Loving Kindness Meditation
DESCRIPTION:The teachings of Loving Kindness\, or Metta\, are about finding a path with heart. Jack Kornfield says\, “It’s about undertaking a path that transforms and touches us in the center of our being. To do so is to find a way of practice that allows us to live in the world wholly and fully from our heart.” \nWith this Spiritual Practice\, one can cultivate feelings of happiness\, dispel loneliness\,  let go of fear and anxiety. If you are feeling stuck\, this practice can help you enjoy a more compassionate life for yourself and others. \nJoin us on Zoom on Monday evenings to extend Loving-Kindness to yourself\, to those around you and to the world. \nNo previous meditation practice is necessary\, and new participants are always welcome.  Join on an ongoing basis\, or drop in as you’re able. \nMay we be at peace and keep our hearts open. \nContact Katie R. for more information. \nClick here to join.
URL:https://www.firstunitarianportland.org/event/loving-kindness-meditation-2026/2025-12-29/
LOCATION:Virtual
CATEGORIES:Gathering & Connection
END:VEVENT
BEGIN:VEVENT
DTSTART;VALUE=DATE:20251231
DTEND;VALUE=DATE:20260101
DTSTAMP:20260423T160350
CREATED:20250625T000511Z
LAST-MODIFIED:20250625T000511Z
UID:10001636-1767139200-1767225599@www.firstunitarianportland.org
SUMMARY:Office CLOSED
DESCRIPTION:The office will be closed on this date in observance of New Year’s Eve.
URL:https://www.firstunitarianportland.org/event/office-closed-nye-2025/
LOCATION:OR
CATEGORIES:Special Notice
END:VEVENT
BEGIN:VEVENT
DTSTART;VALUE=DATE:20260101
DTEND;VALUE=DATE:20260102
DTSTAMP:20260423T160350
CREATED:20250625T000650Z
LAST-MODIFIED:20250625T000650Z
UID:10001637-1767225600-1767311999@www.firstunitarianportland.org
SUMMARY:Office CLOSED
DESCRIPTION:The office will be closed on this date in observance of New Year’s Day.
URL:https://www.firstunitarianportland.org/event/office-closed-nyd-2026/
LOCATION:OR
CATEGORIES:Special Notice
END:VEVENT
BEGIN:VEVENT
DTSTART;TZID=America/Los_Angeles:20260101T130000
DTEND;TZID=America/Los_Angeles:20260101T143000
DTSTAMP:20260423T160350
CREATED:20250917T235333Z
LAST-MODIFIED:20250917T235334Z
UID:10001816-1767272400-1767277800@www.firstunitarianportland.org
SUMMARY:Contemplative Practices Group
DESCRIPTION:First Thursdays in Channing (A101) \nThird Thursdays in Eliot Chapel \n  \nJoin with us on the first and third Thursdays of the month from 1 to 2:30 p.m. to sit together in silence. Connect to your inner self as well as something bigger than yourself. Bring more peace and joy into your life\, increase mindfulness and develop more perspective. \n“Contemplative spirituality is about slowing down and relaxing our action\, our striving\, and all of our ‘doings.’ In order to ‘wake up’ to the Reality in which we are already immersed\, we must slow down and gently transition ‘from doing to being.’ “ – Keith Kristich \nThis is a drop-in group. Any silent sitting practice is welcomed and no prior meditation experience is needed. If you would like to learn a contemplative practice for use during the group\, let the facilitators know and they will meet with you half an hour before the group sit begins. \nEach group meeting consists of a 20-minute meditation\, a check-in on a spiritually oriented topic\, and deep discussion of a poem or short reading. Facilitator is Patty C. We look forward to being with you! \n— \nPatty has been a UU since childhood and has attended First Unitarian for 20 years. She has taught spiritual practice classes and been involved with Wellspring\, the Labyrinth and other church programs. She learned meditation in college and has had a daily meditation practice since joining First Unitarian. She has been an active Spiritual Director since 2012.
URL:https://www.firstunitarianportland.org/event/contemplative-practices-group-3/2026-01-01/
LOCATION:Channing\, A101
CATEGORIES:Gathering & Connection
END:VEVENT
BEGIN:VEVENT
DTSTART;TZID=America/Los_Angeles:20260102T170000
DTEND;TZID=America/Los_Angeles:20260102T174000
DTSTAMP:20260423T160350
CREATED:20241127T211744Z
LAST-MODIFIED:20260210T222057Z
UID:10001579-1767373200-1767375600@www.firstunitarianportland.org
SUMMARY:Vespers
DESCRIPTION:Our Lay Ministers will offer inspirational readings\, guided meditation\, and quiet music in a contemplative program at week’s end. \nCongregants and visitors are invited to bring their prayer requests to be held during the service. They are received in real-time through the Zoom chat box\, seen\, and read aloud anonymously by the hosts. This is a time to join in prayer not only for our community but also for the world. \nWe look forward to sharing this time of quiet reflection with you when we are all holding so much in our hearts. \nDetails: Fridays\, 5 – 5:40 p.m. \nJoin here (SAVE THIS LINK! It works every Friday.) \nhttps://tinyurl.com/Vespers-1stU
URL:https://www.firstunitarianportland.org/event/vespers/2026-01-02/
LOCATION:Virtual
CATEGORIES:Gathering & Connection
END:VEVENT
END:VCALENDAR