BEGIN:VCALENDAR
VERSION:2.0
PRODID:-//First Unitarian Portland - ECPv6.15.20//NONSGML v1.0//EN
CALSCALE:GREGORIAN
METHOD:PUBLISH
X-ORIGINAL-URL:https://www.firstunitarianportland.org
X-WR-CALDESC:Events for First Unitarian Portland
REFRESH-INTERVAL;VALUE=DURATION:PT1H
X-Robots-Tag:noindex
X-PUBLISHED-TTL:PT1H
BEGIN:VTIMEZONE
TZID:America/Los_Angeles
BEGIN:DAYLIGHT
TZOFFSETFROM:-0800
TZOFFSETTO:-0700
TZNAME:PDT
DTSTART:20240310T100000
END:DAYLIGHT
BEGIN:STANDARD
TZOFFSETFROM:-0700
TZOFFSETTO:-0800
TZNAME:PST
DTSTART:20241103T090000
END:STANDARD
BEGIN:DAYLIGHT
TZOFFSETFROM:-0800
TZOFFSETTO:-0700
TZNAME:PDT
DTSTART:20250309T100000
END:DAYLIGHT
BEGIN:STANDARD
TZOFFSETFROM:-0700
TZOFFSETTO:-0800
TZNAME:PST
DTSTART:20251102T090000
END:STANDARD
BEGIN:DAYLIGHT
TZOFFSETFROM:-0800
TZOFFSETTO:-0700
TZNAME:PDT
DTSTART:20260308T100000
END:DAYLIGHT
BEGIN:STANDARD
TZOFFSETFROM:-0700
TZOFFSETTO:-0800
TZNAME:PST
DTSTART:20261101T090000
END:STANDARD
END:VTIMEZONE
BEGIN:VEVENT
DTSTART;TZID=America/Los_Angeles:20251019T101500
DTEND;TZID=America/Los_Angeles:20251019T113000
DTSTAMP:20260424T032233
CREATED:20241127T213504Z
LAST-MODIFIED:20260210T222116Z
UID:10001355-1760868900-1760873400@www.firstunitarianportland.org
SUMMARY:🕯️ Sunday Worship
DESCRIPTION:In-person\nSanctuary\n1211 SW Main St.\nPortland\, OR 97205 \n  \nJoin us on livestream here
URL:https://www.firstunitarianportland.org/event/sunday-worship/2025-10-19/
LOCATION:Main Sanctuary\, 1211 SW Main St\, Portland\, OR\, 97205\, United States
CATEGORIES:Service
END:VEVENT
BEGIN:VEVENT
DTSTART;TZID=America/Los_Angeles:20251019T101500
DTEND;TZID=America/Los_Angeles:20251019T113000
DTSTAMP:20260424T032233
CREATED:20250509T213239Z
LAST-MODIFIED:20260217T223552Z
UID:10001399-1760868900-1760873400@www.firstunitarianportland.org
SUMMARY:Children and Youth Learning Community
DESCRIPTION:The Learning Community\, also referred to as R.E. (Religious Education)\, meets at 10:15 a.m. on Sunday mornings.  On the first Sunday of the month\, children and youth start out in the main Sanctuary for our monthly “Together Time” before moving on to their classrooms in our Eliot Center/Buchan Building\, right next door to our Sanctuary building.  Stop by the R.E. Information Desk in the Eliot Center if you need to register your children or youth\, or have questions for us.  All are welcome! \nClick here to view more information about our Learning Community.
URL:https://www.firstunitarianportland.org/event/learning-community-2026/2025-10-19/
LOCATION:OR
CATEGORIES:Learning Community
END:VEVENT
BEGIN:VEVENT
DTSTART;TZID=America/Los_Angeles:20251019T120000
DTEND;TZID=America/Los_Angeles:20251019T140000
DTSTAMP:20260424T032233
CREATED:20250908T182856Z
LAST-MODIFIED:20251001T231010Z
UID:10001788-1760875200-1760882400@www.firstunitarianportland.org
SUMMARY:*Registration Closed* How to Write Your Ethical Will
DESCRIPTION:How can you pass on the values and experiences that have given your life its deepest meaning? An Ethical Will can complement a traditional will\, and can be written as a letter or in several other formats. Through facilitator presentations\, class discussions\, sharing in pairs\, writing in and outside of class\, and sharing writing (if desired)\, participants will leave the last class with at least a draft of an Ethical Will. \nDates: October 5 and 19\, and November 2 and 16 \nClass will be supportive and confidential. List is limited to 12. \nRegistration is now closed! \nEmail facilitator Patty C. with any questions.
URL:https://www.firstunitarianportland.org/event/how-to-write-your-ethical-will/2025-10-19/
LOCATION:Classroom B304
CATEGORIES:Program/Event
END:VEVENT
BEGIN:VEVENT
DTSTART;TZID=America/Los_Angeles:20251019T140000
DTEND;TZID=America/Los_Angeles:20251019T180000
DTSTAMP:20260424T032233
CREATED:20250602T220605Z
LAST-MODIFIED:20250602T220838Z
UID:10001605-1760882400-1760896800@www.firstunitarianportland.org
SUMMARY:Carol Santesson Memorial
DESCRIPTION:Longtime member Carol Santesson died on May 17 at the age of 86. Carol was the daughter of longtime member Margaret Denison and mother of member Heather Santesson. \nJoin us in Eliot Chapel at 2 p.m. to celebrate Carol’s life\, followed by a reception in Buchan Reception Hall.
URL:https://www.firstunitarianportland.org/event/carol-santesson-memorial/
LOCATION:Eliot Chapel\, 1011 SW 12th Ave\, Portland\, OR\, 97205
CATEGORIES:Memorial
END:VEVENT
BEGIN:VEVENT
DTSTART;TZID=America/Los_Angeles:20251019T160000
DTEND;TZID=America/Los_Angeles:20251019T170000
DTSTAMP:20260424T032233
CREATED:20250916T193119Z
LAST-MODIFIED:20251017T204243Z
UID:10001809-1760889600-1760893200@www.firstunitarianportland.org
SUMMARY:🐾 Pet Blessing
DESCRIPTION:Bring your pets to the steps of Eliot Chapel (or inside Fuller Hall if raining) for a special blessing from Rev. Alison and Rev. Tom! \nAll animals welcome\, including stuffed animals and photos of animals. \nPlease note: We are asking that all animals are suitably restrained – i.e. dogs on leads\, cats/small animals in suitable carry bags/containers\, insects and reptiles in secure containers. If you are bringing a larger animal\, please let us know in advance. Please don’t worry about your pet making a mess — there will be clean-up materials on hand.
URL:https://www.firstunitarianportland.org/event/pet-blessing/
LOCATION:Eliot Chapel\, 1011 SW 12th Ave\, Portland\, OR\, 97205
CATEGORIES:Program/Event,Service
END:VEVENT
BEGIN:VEVENT
DTSTART;TZID=America/Los_Angeles:20251020T200000
DTEND;TZID=America/Los_Angeles:20251020T203000
DTSTAMP:20260424T032233
CREATED:20250512T180448Z
LAST-MODIFIED:20260210T222140Z
UID:10001477-1760990400-1760992200@www.firstunitarianportland.org
SUMMARY:Loving Kindness Meditation
DESCRIPTION:The teachings of Loving Kindness\, or Metta\, are about finding a path with heart. Jack Kornfield says\, “It’s about undertaking a path that transforms and touches us in the center of our being. To do so is to find a way of practice that allows us to live in the world wholly and fully from our heart.” \nWith this Spiritual Practice\, one can cultivate feelings of happiness\, dispel loneliness\,  let go of fear and anxiety. If you are feeling stuck\, this practice can help you enjoy a more compassionate life for yourself and others. \nJoin us on Zoom on Monday evenings to extend Loving-Kindness to yourself\, to those around you and to the world. \nNo previous meditation practice is necessary\, and new participants are always welcome.  Join on an ongoing basis\, or drop in as you’re able. \nMay we be at peace and keep our hearts open. \nContact Katie R. for more information. \nClick here to join.
URL:https://www.firstunitarianportland.org/event/loving-kindness-meditation-2026/2025-10-20/
LOCATION:Virtual
CATEGORIES:Gathering & Connection
END:VEVENT
BEGIN:VEVENT
DTSTART;TZID=America/Los_Angeles:20251024T110000
DTEND;TZID=America/Los_Angeles:20251024T123000
DTSTAMP:20260424T032233
CREATED:20251016T212332Z
LAST-MODIFIED:20251016T212332Z
UID:10001857-1761303600-1761309000@www.firstunitarianportland.org
SUMMARY:Judy Wilder Celebration of Life
DESCRIPTION:Member Judy Wilder died on Monday\, October 6\, at the age of 83. Judy was diagnosed with advanced pancreatic cancer just a few weeks before her death. Judy joined our church in 2017 and was involved in our Community for Earth\, the Sojourners Group\, and our Alliance. She leaves two daughters and we hold them and Judy’s extended family in our thoughts and prayers. \nJoin us in Eliot Chapel for the memorial service\, followed by a reception in Buchan Reception Hall.
URL:https://www.firstunitarianportland.org/event/judy-wilder-celebration-of-life/
LOCATION:Eliot Chapel\, 1011 SW 12th Ave\, Portland\, OR\, 97205
CATEGORIES:Memorial
END:VEVENT
BEGIN:VEVENT
DTSTART;TZID=America/Los_Angeles:20251024T170000
DTEND;TZID=America/Los_Angeles:20251024T174000
DTSTAMP:20260424T032233
CREATED:20241127T211744Z
LAST-MODIFIED:20260210T222057Z
UID:10001569-1761325200-1761327600@www.firstunitarianportland.org
SUMMARY:Vespers
DESCRIPTION:Our Lay Ministers will offer inspirational readings\, guided meditation\, and quiet music in a contemplative program at week’s end. \nCongregants and visitors are invited to bring their prayer requests to be held during the service. They are received in real-time through the Zoom chat box\, seen\, and read aloud anonymously by the hosts. This is a time to join in prayer not only for our community but also for the world. \nWe look forward to sharing this time of quiet reflection with you when we are all holding so much in our hearts. \nDetails: Fridays\, 5 – 5:40 p.m. \nJoin here (SAVE THIS LINK! It works every Friday.) \nhttps://tinyurl.com/Vespers-1stU
URL:https://www.firstunitarianportland.org/event/vespers/2025-10-24/
LOCATION:Virtual
CATEGORIES:Gathering & Connection
END:VEVENT
END:VCALENDAR