BEGIN:VCALENDAR
VERSION:2.0
PRODID:-//First Unitarian Portland - ECPv6.15.20//NONSGML v1.0//EN
CALSCALE:GREGORIAN
METHOD:PUBLISH
X-ORIGINAL-URL:https://www.firstunitarianportland.org
X-WR-CALDESC:Events for First Unitarian Portland
REFRESH-INTERVAL;VALUE=DURATION:PT1H
X-Robots-Tag:noindex
X-PUBLISHED-TTL:PT1H
BEGIN:VTIMEZONE
TZID:America/Los_Angeles
BEGIN:DAYLIGHT
TZOFFSETFROM:-0800
TZOFFSETTO:-0700
TZNAME:PDT
DTSTART:20240310T100000
END:DAYLIGHT
BEGIN:STANDARD
TZOFFSETFROM:-0700
TZOFFSETTO:-0800
TZNAME:PST
DTSTART:20241103T090000
END:STANDARD
BEGIN:DAYLIGHT
TZOFFSETFROM:-0800
TZOFFSETTO:-0700
TZNAME:PDT
DTSTART:20250309T100000
END:DAYLIGHT
BEGIN:STANDARD
TZOFFSETFROM:-0700
TZOFFSETTO:-0800
TZNAME:PST
DTSTART:20251102T090000
END:STANDARD
BEGIN:DAYLIGHT
TZOFFSETFROM:-0800
TZOFFSETTO:-0700
TZNAME:PDT
DTSTART:20260308T100000
END:DAYLIGHT
BEGIN:STANDARD
TZOFFSETFROM:-0700
TZOFFSETTO:-0800
TZNAME:PST
DTSTART:20261101T090000
END:STANDARD
END:VTIMEZONE
BEGIN:VEVENT
DTSTART;TZID=America/Los_Angeles:20251005T084500
DTEND;TZID=America/Los_Angeles:20251005T100000
DTSTAMP:20260423T225813
CREATED:20241127T211450Z
LAST-MODIFIED:20250530T192223Z
UID:10001547-1759653900-1759658400@www.firstunitarianportland.org
SUMMARY:🥞 Pancake Breakfast
DESCRIPTION:Join us for free\, delicious pancakes in Buchan Reception Hall from 8:45 to 10 a.m. on the first Sunday of the month. We will have plain\, blueberry\, chocolate\, and blueberry-chocolate pancakes fresh off the griddle. All are welcome! \nHosted by the UU Men’s Community.
URL:https://www.firstunitarianportland.org/event/%f0%9f%a5%9e-pancake-breakfast/2025-10-05/
LOCATION:Buchan Hall\, 1226 SW Salmon St\, Portland\, OR\, 97205\, United States
CATEGORIES:Gathering & Connection
END:VEVENT
BEGIN:VEVENT
DTSTART;TZID=America/Los_Angeles:20251005T101500
DTEND;TZID=America/Los_Angeles:20251005T113000
DTSTAMP:20260423T225813
CREATED:20241127T213504Z
LAST-MODIFIED:20260210T222116Z
UID:10001353-1759659300-1759663800@www.firstunitarianportland.org
SUMMARY:🕯️ Sunday Worship
DESCRIPTION:In-person\nSanctuary\n1211 SW Main St.\nPortland\, OR 97205 \n  \nJoin us on livestream here
URL:https://www.firstunitarianportland.org/event/sunday-worship/2025-10-05/
LOCATION:Main Sanctuary\, 1211 SW Main St\, Portland\, OR\, 97205\, United States
CATEGORIES:Service
END:VEVENT
BEGIN:VEVENT
DTSTART;TZID=America/Los_Angeles:20251005T101500
DTEND;TZID=America/Los_Angeles:20251005T113000
DTSTAMP:20260423T225813
CREATED:20250509T213239Z
LAST-MODIFIED:20260217T223552Z
UID:10001397-1759659300-1759663800@www.firstunitarianportland.org
SUMMARY:Children and Youth Learning Community
DESCRIPTION:The Learning Community\, also referred to as R.E. (Religious Education)\, meets at 10:15 a.m. on Sunday mornings.  On the first Sunday of the month\, children and youth start out in the main Sanctuary for our monthly “Together Time” before moving on to their classrooms in our Eliot Center/Buchan Building\, right next door to our Sanctuary building.  Stop by the R.E. Information Desk in the Eliot Center if you need to register your children or youth\, or have questions for us.  All are welcome! \nClick here to view more information about our Learning Community.
URL:https://www.firstunitarianportland.org/event/learning-community-2026/2025-10-05/
LOCATION:OR
CATEGORIES:Learning Community
END:VEVENT
BEGIN:VEVENT
DTSTART;TZID=America/Los_Angeles:20251005T114500
DTEND;TZID=America/Los_Angeles:20251005T130000
DTSTAMP:20260423T225813
CREATED:20250529T201500Z
LAST-MODIFIED:20260316T233841Z
UID:10001776-1759664700-1759669200@www.firstunitarianportland.org
SUMMARY:First Steps Orientation and Campus Tour
DESCRIPTION:First Steps Orientation and Campus Tour is a welcoming regular event held on the first Sunday of most months\, designed for new and returning members of First Unitarian Portland (First U PDX). This session offers an overview of the church’s history\, core values\, and vibrant community\, encouraging participants to explore their connection and discover ways to engage. \nFor assistance in finding your way\, please check in with the Welcome Desk in the main sanctuary narthex/lobby. \nAttendees will meet church leaders\, learn about various activities and programs\, ask questions about Unitarian Universalism\, and tour the campus. This informal setting fosters connections among newcomers and long-time members\, enhancing the sense of belonging. \nFor those interested in deepening their commitment\, the orientation covers membership requirements\, including signing the Membership Record Book and making an annual financial pledge. Participants can also submit their membership application during the session\, taking a significant step in their spiritual journey with First U PDX. \nHosted by Jen Thomas\, Director of Congregational Life.
URL:https://www.firstunitarianportland.org/event/first-steps-orientation-and-campus-tour-2526/2025-10-05/
LOCATION:Narthex/Lobby\, 1211 SW Main St\, Portland\, OR\, 97205\, United States
CATEGORIES:Gathering & Connection
END:VEVENT
BEGIN:VEVENT
DTSTART;TZID=America/Los_Angeles:20251005T114500
DTEND;TZID=America/Los_Angeles:20251005T130000
DTSTAMP:20260423T225813
CREATED:20251002T232529Z
LAST-MODIFIED:20251002T232529Z
UID:10001840-1759664700-1759669200@www.firstunitarianportland.org
SUMMARY:Accompaniment Workshop
DESCRIPTION:Please join Heather Vickery from the UU Service Committee after the service in Eliot Chapel for a workshop on “Accompaniment.” In these times\, members of our community — including immigrants\, trans and nonbinary kin\, and houseless neighbors — are often pushed to the margins and treated as “other.” This workshop will explore how we can show up and accompany those most affected.
URL:https://www.firstunitarianportland.org/event/accompaniment-workshop/
LOCATION:Eliot Chapel\, 1011 SW 12th Ave\, Portland\, OR\, 97205
CATEGORIES:Program/Event,Social Justice
END:VEVENT
BEGIN:VEVENT
DTSTART;TZID=America/Los_Angeles:20251005T120000
DTEND;TZID=America/Los_Angeles:20251005T140000
DTSTAMP:20260423T225814
CREATED:20250908T182856Z
LAST-MODIFIED:20251001T231010Z
UID:10001787-1759665600-1759672800@www.firstunitarianportland.org
SUMMARY:*Registration Closed* How to Write Your Ethical Will
DESCRIPTION:How can you pass on the values and experiences that have given your life its deepest meaning? An Ethical Will can complement a traditional will\, and can be written as a letter or in several other formats. Through facilitator presentations\, class discussions\, sharing in pairs\, writing in and outside of class\, and sharing writing (if desired)\, participants will leave the last class with at least a draft of an Ethical Will. \nDates: October 5 and 19\, and November 2 and 16 \nClass will be supportive and confidential. List is limited to 12. \nRegistration is now closed! \nEmail facilitator Patty C. with any questions.
URL:https://www.firstunitarianportland.org/event/how-to-write-your-ethical-will/2025-10-05/
LOCATION:Classroom B304
CATEGORIES:Program/Event
END:VEVENT
BEGIN:VEVENT
DTSTART;TZID=America/Los_Angeles:20251006T200000
DTEND;TZID=America/Los_Angeles:20251006T203000
DTSTAMP:20260423T225814
CREATED:20250512T180448Z
LAST-MODIFIED:20260210T222140Z
UID:10001475-1759780800-1759782600@www.firstunitarianportland.org
SUMMARY:Loving Kindness Meditation
DESCRIPTION:The teachings of Loving Kindness\, or Metta\, are about finding a path with heart. Jack Kornfield says\, “It’s about undertaking a path that transforms and touches us in the center of our being. To do so is to find a way of practice that allows us to live in the world wholly and fully from our heart.” \nWith this Spiritual Practice\, one can cultivate feelings of happiness\, dispel loneliness\,  let go of fear and anxiety. If you are feeling stuck\, this practice can help you enjoy a more compassionate life for yourself and others. \nJoin us on Zoom on Monday evenings to extend Loving-Kindness to yourself\, to those around you and to the world. \nNo previous meditation practice is necessary\, and new participants are always welcome.  Join on an ongoing basis\, or drop in as you’re able. \nMay we be at peace and keep our hearts open. \nContact Katie R. for more information. \nClick here to join.
URL:https://www.firstunitarianportland.org/event/loving-kindness-meditation-2026/2025-10-06/
LOCATION:Virtual
CATEGORIES:Gathering & Connection
END:VEVENT
BEGIN:VEVENT
DTSTART;TZID=America/Los_Angeles:20251008T190000
DTEND;TZID=America/Los_Angeles:20251008T210000
DTSTAMP:20260423T225814
CREATED:20251008T001552Z
LAST-MODIFIED:20251008T001604Z
UID:10001841-1759950000-1759957200@www.firstunitarianportland.org
SUMMARY:Monthly Board Meeting
DESCRIPTION:Congregants are welcome to join us in person (Buchan Reception Hall) or on Zoom: \nhttps://us02web.zoom.us/j/82930223125?pwd=nWHAO9V2u2GYaaNeMOcai3cKCsz4VU.1
URL:https://www.firstunitarianportland.org/event/monthly-board-meeting-3/
LOCATION:Buchan Hall\, 1226 SW Salmon St\, Portland\, OR\, 97205\, United States
CATEGORIES:Meeting
END:VEVENT
BEGIN:VEVENT
DTSTART;TZID=America/Los_Angeles:20251010T170000
DTEND;TZID=America/Los_Angeles:20251010T174000
DTSTAMP:20260423T225814
CREATED:20241127T211744Z
LAST-MODIFIED:20260210T222057Z
UID:10001567-1760115600-1760118000@www.firstunitarianportland.org
SUMMARY:Vespers
DESCRIPTION:Our Lay Ministers will offer inspirational readings\, guided meditation\, and quiet music in a contemplative program at week’s end. \nCongregants and visitors are invited to bring their prayer requests to be held during the service. They are received in real-time through the Zoom chat box\, seen\, and read aloud anonymously by the hosts. This is a time to join in prayer not only for our community but also for the world. \nWe look forward to sharing this time of quiet reflection with you when we are all holding so much in our hearts. \nDetails: Fridays\, 5 – 5:40 p.m. \nJoin here (SAVE THIS LINK! It works every Friday.) \nhttps://tinyurl.com/Vespers-1stU
URL:https://www.firstunitarianportland.org/event/vespers/2025-10-10/
LOCATION:Virtual
CATEGORIES:Gathering & Connection
END:VEVENT
BEGIN:VEVENT
DTSTART;TZID=America/Los_Angeles:20251010T170000
DTEND;TZID=America/Los_Angeles:20251010T210000
DTSTAMP:20260423T225814
CREATED:20251008T234925Z
LAST-MODIFIED:20251008T234959Z
UID:10001850-1760115600-1760130000@www.firstunitarianportland.org
SUMMARY:Public Grids and Rumble on the River #26
DESCRIPTION:“Portland’s Future: It’s In Our Hands” \nJoin our Economic Justice Action Group (EJAG) for a panel featuring Rumble on the River and Public Grids\, a national organization empowering people to ensure that our utilities serve the public and the planet. \nThis conversation will include guests who are a part of transformative\, grassroots campaigns here and across the nation. Hosts: Mitch Green\, Portland District 4 City Councilor\, and Isaac Sevier of Public Grids. Learn more here. \nFor questions\, email Susan W. \n  \n5:30 p.m. – Community Reception and Organizational Tabling in Fuller Hall\n6:30 p.m. – Doors open to Main Sanctuary\n7 p.m. – Event begins in Main Sanctuary
URL:https://www.firstunitarianportland.org/event/public-grids-and-rumble-on-the-river-26/
LOCATION:Fuller Hall\, 1211 SW Main St\, Portland\, OR\, 97205
CATEGORIES:Program/Event,Social Justice
END:VEVENT
BEGIN:VEVENT
DTSTART;TZID=America/Los_Angeles:20251011T150000
DTEND;TZID=America/Los_Angeles:20251011T170000
DTSTAMP:20260423T225814
CREATED:20250925T190657Z
LAST-MODIFIED:20250925T190657Z
UID:10001836-1760194800-1760202000@www.firstunitarianportland.org
SUMMARY:Toni Paget Celebration of Life
DESCRIPTION:Longtime member Toni Paget died on the morning of September 4 at the age of 85 after living with cancer in her last year. Toni was a retired school teacher and here at the church she was a part of our Quilts of Love group as well as the Alliance. She was a faithful attender of the Eliot Institute retreats for many years. One friend said no matter the setting\, she was always ready to take on some creative project. Her creativity and generosity are evident in all of her many artistic endeavors\, especially her quilts which give comfort to all who have received them. She will be sorely missed by her fellow quilters. \nJoin us in Eliot Chapel to celebrate her life\, followed by a reception in Buchan Reception Hall.
URL:https://www.firstunitarianportland.org/event/toni-paget-celebration-of-life/
LOCATION:Eliot Chapel\, 1011 SW 12th Ave\, Portland\, OR\, 97205
CATEGORIES:Memorial
END:VEVENT
END:VCALENDAR