BEGIN:VCALENDAR
VERSION:2.0
PRODID:-//First Unitarian Portland - ECPv6.15.20//NONSGML v1.0//EN
CALSCALE:GREGORIAN
METHOD:PUBLISH
X-ORIGINAL-URL:https://www.firstunitarianportland.org
X-WR-CALDESC:Events for First Unitarian Portland
REFRESH-INTERVAL;VALUE=DURATION:PT1H
X-Robots-Tag:noindex
X-PUBLISHED-TTL:PT1H
BEGIN:VTIMEZONE
TZID:America/Los_Angeles
BEGIN:DAYLIGHT
TZOFFSETFROM:-0800
TZOFFSETTO:-0700
TZNAME:PDT
DTSTART:20240310T100000
END:DAYLIGHT
BEGIN:STANDARD
TZOFFSETFROM:-0700
TZOFFSETTO:-0800
TZNAME:PST
DTSTART:20241103T090000
END:STANDARD
BEGIN:DAYLIGHT
TZOFFSETFROM:-0800
TZOFFSETTO:-0700
TZNAME:PDT
DTSTART:20250309T100000
END:DAYLIGHT
BEGIN:STANDARD
TZOFFSETFROM:-0700
TZOFFSETTO:-0800
TZNAME:PST
DTSTART:20251102T090000
END:STANDARD
BEGIN:DAYLIGHT
TZOFFSETFROM:-0800
TZOFFSETTO:-0700
TZNAME:PDT
DTSTART:20260308T100000
END:DAYLIGHT
BEGIN:STANDARD
TZOFFSETFROM:-0700
TZOFFSETTO:-0800
TZNAME:PST
DTSTART:20261101T090000
END:STANDARD
END:VTIMEZONE
BEGIN:VEVENT
DTSTART;TZID=America/Los_Angeles:20250817T090000
DTEND;TZID=America/Los_Angeles:20250817T100000
DTSTAMP:20260424T083208
CREATED:20250512T180850Z
LAST-MODIFIED:20250527T181824Z
UID:10001518-1755421200-1755424800@www.firstunitarianportland.org
SUMMARY:*Registration Required* Summer Yoga
DESCRIPTION:Join us for yoga with Ginny K. before the Sunday service from 9 – 10 a.m. We will meet in room A108. \nPlease bring your own yoga mat and water bottle. Wear clothing appropriate for yoga and then join the congregation for Sunday service at 10:15 a.m. \nLIMIT of 15 participants. First come\, first served. We will release the sign-up form for the next date after each class through our Front Steps e-news. There will be a total of four classes over the summer.
URL:https://www.firstunitarianportland.org/event/summer-yoga/2025-08-17/
LOCATION:Classroom A108
CATEGORIES:Gathering & Connection,Program/Event
END:VEVENT
BEGIN:VEVENT
DTSTART;TZID=America/Los_Angeles:20250817T101500
DTEND;TZID=America/Los_Angeles:20250817T113000
DTSTAMP:20260424T083208
CREATED:20241127T213504Z
LAST-MODIFIED:20260210T222116Z
UID:10001346-1755425700-1755430200@www.firstunitarianportland.org
SUMMARY:🕯️ Sunday Worship
DESCRIPTION:In-person\nSanctuary\n1211 SW Main St.\nPortland\, OR 97205 \n  \nJoin us on livestream here
URL:https://www.firstunitarianportland.org/event/sunday-worship/2025-08-17/
LOCATION:Main Sanctuary\, 1211 SW Main St\, Portland\, OR\, 97205\, United States
CATEGORIES:Service
END:VEVENT
BEGIN:VEVENT
DTSTART;TZID=America/Los_Angeles:20250817T101500
DTEND;TZID=America/Los_Angeles:20250817T113000
DTSTAMP:20260424T083208
CREATED:20250509T213816Z
LAST-MODIFIED:20250527T233433Z
UID:10001442-1755425700-1755430200@www.firstunitarianportland.org
SUMMARY:RE Summer Schedule
DESCRIPTION:This summer we have classes for children up to about six years of age during worship. They explore Unitarian Universalist values and themes like friendship\, justice\, ritual\, world religions\, self-expression\, art\, history\, science\, adventure\, and more. Plus we have a lot of fun! \n  \nNursery/toddlers: Play & explore with Milena and Rhionne. \n3 to 6-ish years old: Games & crafts with Emma\, Ayanna\, and Ellen. \n  \nChildren of any age are always welcome in the service! \n  \nFull programming through high school will resume in September. \n\nClick here to view more information about our Learning Community.
URL:https://www.firstunitarianportland.org/event/re-summer-schedule-2025/2025-08-17/
LOCATION:OR
CATEGORIES:Learning Community
END:VEVENT
BEGIN:VEVENT
DTSTART;TZID=America/Los_Angeles:20250817T123000
DTEND;TZID=America/Los_Angeles:20250817T150000
DTSTAMP:20260424T083208
CREATED:20250320T193838Z
LAST-MODIFIED:20250707T191915Z
UID:10001317-1755433800-1755442800@www.firstunitarianportland.org
SUMMARY:All-Church Picnic
DESCRIPTION:Join us at Peninsula Park on August 17 from 12:30 – 3 p.m. \nFun for all ages—games and activities for kids and adults. \nBring your own lunch and a dessert to share. \nSponsored by First Unitarian’s Good Times Committee. \nLook in upcoming editions of our Front Steps e-news for more details!
URL:https://www.firstunitarianportland.org/event/all-church-picnic-2025/
LOCATION:Off Campus: Peninsula Park\, 700 N Rosa Parks Way\, Portland\, OR\, 97217
CATEGORIES:Gathering & Connection
END:VEVENT
BEGIN:VEVENT
DTSTART;TZID=America/Los_Angeles:20250821T130000
DTEND;TZID=America/Los_Angeles:20250821T143000
DTSTAMP:20260424T083208
CREATED:20241212T192953Z
LAST-MODIFIED:20250917T235232Z
UID:10001824-1755781200-1755786600@www.firstunitarianportland.org
SUMMARY:Contemplative Practices Group
DESCRIPTION:First Thursdays in Channing (A101) \nThird Thursdays in Classroom A108 \n  \nThe Contemplative Practices Group is returning! Join with us on the first and third Thursdays of the month from 1 to 2:30 p.m. to sit together in silence. Connect to your inner self as well as something bigger than yourself. Bring more peace and joy into your life\, increase mindfulness and develop more perspective. \n“Contemplative spirituality is about slowing down and relaxing our action\, our striving\, and all of our ‘doings.’ In order to ‘wake up’ to the Reality in which we are already immersed\, we must slow down and gently transition ‘from doing to being.’ “ – Keith Kristich \nThis is a drop-in group. Any silent sitting practice is welcomed and no prior meditation experience is needed. If you would like to learn a contemplative practice for use during the group\, let the facilitators know and they will meet with you half an hour before the group sit begins. \nEach group meeting consists of a 20-minute meditation\, a check-in on a spiritually oriented topic\, and deep discussion of a poem or short reading.  Facilitators are Patty and Ron. They look forward to being with you! \n— \nPatty has been a UU since childhood and has attended First Church for 20 years. She has taught spiritual practice classes and been involved with Wellspring\, the Labyrinth and other church programs. She learned meditation in college and has had a daily meditation practice since joining First Church. She has been an active Spiritual Director since 2012. \nRon is a spiritual director and has been a lay minister\, Wellspring facilitator and taught in the learning community at First Church. He has maintained a centering prayer and lectio divina practice for over twenty years.
URL:https://www.firstunitarianportland.org/event/contemplative-practices-group-2/2025-08-21/
LOCATION:OR
CATEGORIES:Gathering & Connection
END:VEVENT
END:VCALENDAR