BEGIN:VCALENDAR
VERSION:2.0
PRODID:-//First Unitarian Portland - ECPv6.15.20//NONSGML v1.0//EN
CALSCALE:GREGORIAN
METHOD:PUBLISH
X-ORIGINAL-URL:https://www.firstunitarianportland.org
X-WR-CALDESC:Events for First Unitarian Portland
REFRESH-INTERVAL;VALUE=DURATION:PT1H
X-Robots-Tag:noindex
X-PUBLISHED-TTL:PT1H
BEGIN:VTIMEZONE
TZID:America/Los_Angeles
BEGIN:DAYLIGHT
TZOFFSETFROM:-0800
TZOFFSETTO:-0700
TZNAME:PDT
DTSTART:20240310T100000
END:DAYLIGHT
BEGIN:STANDARD
TZOFFSETFROM:-0700
TZOFFSETTO:-0800
TZNAME:PST
DTSTART:20241103T090000
END:STANDARD
BEGIN:DAYLIGHT
TZOFFSETFROM:-0800
TZOFFSETTO:-0700
TZNAME:PDT
DTSTART:20250309T100000
END:DAYLIGHT
BEGIN:STANDARD
TZOFFSETFROM:-0700
TZOFFSETTO:-0800
TZNAME:PST
DTSTART:20251102T090000
END:STANDARD
BEGIN:DAYLIGHT
TZOFFSETFROM:-0800
TZOFFSETTO:-0700
TZNAME:PDT
DTSTART:20260308T100000
END:DAYLIGHT
BEGIN:STANDARD
TZOFFSETFROM:-0700
TZOFFSETTO:-0800
TZNAME:PST
DTSTART:20261101T090000
END:STANDARD
END:VTIMEZONE
BEGIN:VEVENT
DTSTART;TZID=America/Los_Angeles:20250525T101500
DTEND;TZID=America/Los_Angeles:20250525T113000
DTSTAMP:20260424T094517
CREATED:20241127T213504Z
LAST-MODIFIED:20260210T222116Z
UID:10000402-1748168100-1748172600@www.firstunitarianportland.org
SUMMARY:🕯️ Sunday Worship
DESCRIPTION:In-person\nSanctuary\n1211 SW Main St.\nPortland\, OR 97205 \n  \nJoin us on livestream here
URL:https://www.firstunitarianportland.org/event/sunday-worship/2025-05-25/
LOCATION:Main Sanctuary\, 1211 SW Main St\, Portland\, OR\, 97205\, United States
CATEGORIES:Service
END:VEVENT
BEGIN:VEVENT
DTSTART;TZID=America/Los_Angeles:20250525T101500
DTEND;TZID=America/Los_Angeles:20250525T113000
DTSTAMP:20260424T094517
CREATED:20241128T002753Z
LAST-MODIFIED:20241128T002755Z
UID:10001007-1748168100-1748172600@www.firstunitarianportland.org
SUMMARY:RE Holiday – No LC Classes
DESCRIPTION:Nursery and toddler care are still available!
URL:https://www.firstunitarianportland.org/event/children-and-youth-learning-community-2/
LOCATION:OR
CATEGORIES:Learning Community
END:VEVENT
BEGIN:VEVENT
DTSTART;VALUE=DATE:20250526
DTEND;VALUE=DATE:20250527
DTSTAMP:20260424T094517
CREATED:20241128T000913Z
LAST-MODIFIED:20241128T001208Z
UID:10001072-1748217600-1748303999@www.firstunitarianportland.org
SUMMARY:Office CLOSED
DESCRIPTION:The office will be closed on this date in observance of Memorial Day.
URL:https://www.firstunitarianportland.org/event/office-closed-memorial-day/
LOCATION:OR
CATEGORIES:Special Notice
END:VEVENT
BEGIN:VEVENT
DTSTART;TZID=America/Los_Angeles:20250526T200000
DTEND;TZID=America/Los_Angeles:20250526T203000
DTSTAMP:20260424T094517
CREATED:20241128T002002Z
LAST-MODIFIED:20250512T180414Z
UID:10001097-1748289600-1748291400@www.firstunitarianportland.org
SUMMARY:Loving Kindness Meditation
DESCRIPTION:The teachings of Loving Kindness\, or Metta\, are about finding a path with heart. Jack Kornfield says\, “It’s about undertaking a path that transforms and touches us in the center of our being. To do so is to find a way of practice that allows us to live in the world wholly and fully from our heart.” \nWith this Spiritual Practice\, one can cultivate feelings of happiness\, dispel loneliness\,  let go of fear and anxiety. If you are feeling stuck\, this practice can help you enjoy a more compassionate life for yourself and others. \nJoin us on Zoom on Monday evenings to extend Loving-Kindness to yourself\, to those around you and to the world. \nNo previous meditation practice is necessary\, and new participants are always welcome.  Join on an ongoing basis\, or drop in as you’re able. \nMay we be at peace and keep our hearts open. \nContact Katie R. for more information. \nClick here to join.
URL:https://www.firstunitarianportland.org/event/loving-kindness-meditation-2025/2025-05-26/
LOCATION:Virtual
CATEGORIES:Gathering & Connection
END:VEVENT
BEGIN:VEVENT
DTSTART;TZID=America/Los_Angeles:20250528T190000
DTEND;TZID=America/Los_Angeles:20250528T200000
DTSTAMP:20260424T094517
CREATED:20250508T182302Z
LAST-MODIFIED:20250508T183242Z
UID:10001392-1748458800-1748462400@www.firstunitarianportland.org
SUMMARY:Critical Energy Infrastructure (CEI) Hub and Statewide Impact
DESCRIPTION:Join Community for Earth (CFE) for an online presentation and dialogue on how the Critical Energy Infrastructure (CEI) Hub is a ticking time bomb. Why is it a statewide danger? The Hub stores 90% of the liquid fuels used throughout the state. Storage tanks sit on unstable ground within two earthquake zones. Millions of gallons of combustible fuels border Forest Park. In the event of an earthquake\, the area would be prone to fires\, releases and emissions which would travel down the Columbia River. It would be extremely difficult to transport these fuels elsewhere in Oregon. Learn about bills pending in the legislature right now that could help mitigate this risk and how you can help get them enacted. \nRegister here for the Zoom link.
URL:https://www.firstunitarianportland.org/event/critical-energy-infrastructure-cei-hub-and-statewide-impact/
LOCATION:Virtual
CATEGORIES:Program/Event,Social Justice
END:VEVENT
END:VCALENDAR