BEGIN:VCALENDAR
VERSION:2.0
PRODID:-//First Unitarian Portland - ECPv6.15.20//NONSGML v1.0//EN
CALSCALE:GREGORIAN
METHOD:PUBLISH
X-ORIGINAL-URL:https://www.firstunitarianportland.org
X-WR-CALDESC:Events for First Unitarian Portland
REFRESH-INTERVAL;VALUE=DURATION:PT1H
X-Robots-Tag:noindex
X-PUBLISHED-TTL:PT1H
BEGIN:VTIMEZONE
TZID:America/Los_Angeles
BEGIN:DAYLIGHT
TZOFFSETFROM:-0800
TZOFFSETTO:-0700
TZNAME:PDT
DTSTART:20240310T100000
END:DAYLIGHT
BEGIN:STANDARD
TZOFFSETFROM:-0700
TZOFFSETTO:-0800
TZNAME:PST
DTSTART:20241103T090000
END:STANDARD
BEGIN:DAYLIGHT
TZOFFSETFROM:-0800
TZOFFSETTO:-0700
TZNAME:PDT
DTSTART:20250309T100000
END:DAYLIGHT
BEGIN:STANDARD
TZOFFSETFROM:-0700
TZOFFSETTO:-0800
TZNAME:PST
DTSTART:20251102T090000
END:STANDARD
BEGIN:DAYLIGHT
TZOFFSETFROM:-0800
TZOFFSETTO:-0700
TZNAME:PDT
DTSTART:20260308T100000
END:DAYLIGHT
BEGIN:STANDARD
TZOFFSETFROM:-0700
TZOFFSETTO:-0800
TZNAME:PST
DTSTART:20261101T090000
END:STANDARD
END:VTIMEZONE
BEGIN:VEVENT
DTSTART;VALUE=DATE:20250518
DTEND;VALUE=DATE:20250519
DTSTAMP:20260424T094518
CREATED:20250211T200820Z
LAST-MODIFIED:20250211T200822Z
UID:10001278-1747526400-1747612799@www.firstunitarianportland.org
SUMMARY:Annual Vote - Ballots Due at 10:30 a.m.!
DESCRIPTION:Ballots are due at the church by 10:30 a.m. on our Annual Vote day\, May 18. \nBallots mailed to the church via U.S. Postal system must be received in the office by Thursday\, May 15\, to be counted\, as the office is closed on Friday\, May 16\, and no mail is received.
URL:https://www.firstunitarianportland.org/event/annual-vote-ballots-due-at-1030-a-m/
LOCATION:Narthex/Lobby\, 1211 SW Main St\, Portland\, OR\, 97205\, United States
CATEGORIES:Special Notice
END:VEVENT
BEGIN:VEVENT
DTSTART;TZID=America/Los_Angeles:20250518T101500
DTEND;TZID=America/Los_Angeles:20250518T113000
DTSTAMP:20260424T094518
CREATED:20241127T214942Z
LAST-MODIFIED:20250509T213050Z
UID:10001006-1747563300-1747567800@www.firstunitarianportland.org
SUMMARY:Children and Youth Learning Community
DESCRIPTION:The Learning Community\, also referred to as R.E. (Religious Education)\, meets at 10:15 a.m. on Sunday mornings.  On the first Sunday of the month\, children and youth start out in the main Sanctuary for our monthly “Together Time” before moving on to their classrooms in our Eliot Center/Buchan Building\, right next door to our Sanctuary building.  Stop by the R.E. Information Desk in the Eliot Center if you need to register your children or youth\, or have questions for us.  All are welcome! \nClick here to view more information about our Learning Community.
URL:https://www.firstunitarianportland.org/event/learning-community-2025/2025-05-18/
LOCATION:OR
CATEGORIES:Learning Community
END:VEVENT
BEGIN:VEVENT
DTSTART;TZID=America/Los_Angeles:20250518T101500
DTEND;TZID=America/Los_Angeles:20250518T113000
DTSTAMP:20260424T094518
CREATED:20250429T231212Z
LAST-MODIFIED:20250504T192933Z
UID:10000401-1747563300-1747567800@www.firstunitarianportland.org
SUMMARY:Sunday Service: Music & Worship! 🎵
DESCRIPTION:In-person\nSanctuary\n1211 SW Main St.\nPortland\, OR 97205 \n  \nClick here to see more about this very special Music & Worship service … Gabriel Fauré’s Requiem.\n  \nJoin us on livestream here.
URL:https://www.firstunitarianportland.org/event/mw-service-2025/
LOCATION:Main Sanctuary\, 1211 SW Main St\, Portland\, OR\, 97205\, United States
CATEGORIES:Music/Concert,Service
END:VEVENT
BEGIN:VEVENT
DTSTART;TZID=America/Los_Angeles:20250518T114500
DTEND;TZID=America/Los_Angeles:20250518T140000
DTSTAMP:20260424T094518
CREATED:20250306T222315Z
LAST-MODIFIED:20250513T210138Z
UID:10001298-1747568700-1747576800@www.firstunitarianportland.org
SUMMARY:Drop-In Community & Parenting Circle
DESCRIPTION:Drop in for discussion on the month’s theme. \nAll are welcome to join for discussion and engagement! Great opportunity to meet folks and enjoy time together. You are welcome to bring your Souper Sunday soup or other lunch. Childcare is provided.
URL:https://www.firstunitarianportland.org/event/drop-in-community-parenting-circle/2025-05-18/
LOCATION:Daisy Bingham Room\, 1011 SW 12th Ave\, Portland\, OR\, 97205
CATEGORIES:Gathering & Connection
END:VEVENT
BEGIN:VEVENT
DTSTART;TZID=America/Los_Angeles:20250518T120000
DTEND;TZID=America/Los_Angeles:20250518T130000
DTSTAMP:20260424T094518
CREATED:20250411T000505Z
LAST-MODIFIED:20250508T192344Z
UID:10001331-1747569600-1747573200@www.firstunitarianportland.org
SUMMARY:Year-End Congregational Meeting
DESCRIPTION:Join the Board of Trustees in Eliot Chapel or by livestream for a Congregational Meeting and announcement of election results. Agenda includes short reports from Rev. Alison and Board Moderator Leslie Pohl-Kosbau\, as well as an HR report\, info on new Right Relations program\, and a preview of congregational annual report process.
URL:https://www.firstunitarianportland.org/event/congregational-meeting/
LOCATION:Eliot Chapel\, 1011 SW 12th Ave\, Portland\, OR\, 97205
CATEGORIES:Meeting
END:VEVENT
BEGIN:VEVENT
DTSTART;TZID=America/Los_Angeles:20250519T200000
DTEND;TZID=America/Los_Angeles:20250519T203000
DTSTAMP:20260424T094518
CREATED:20241128T002002Z
LAST-MODIFIED:20250512T180414Z
UID:10001096-1747684800-1747686600@www.firstunitarianportland.org
SUMMARY:Loving Kindness Meditation
DESCRIPTION:The teachings of Loving Kindness\, or Metta\, are about finding a path with heart. Jack Kornfield says\, “It’s about undertaking a path that transforms and touches us in the center of our being. To do so is to find a way of practice that allows us to live in the world wholly and fully from our heart.” \nWith this Spiritual Practice\, one can cultivate feelings of happiness\, dispel loneliness\,  let go of fear and anxiety. If you are feeling stuck\, this practice can help you enjoy a more compassionate life for yourself and others. \nJoin us on Zoom on Monday evenings to extend Loving-Kindness to yourself\, to those around you and to the world. \nNo previous meditation practice is necessary\, and new participants are always welcome.  Join on an ongoing basis\, or drop in as you’re able. \nMay we be at peace and keep our hearts open. \nContact Katie R. for more information. \nClick here to join.
URL:https://www.firstunitarianportland.org/event/loving-kindness-meditation-2025/2025-05-19/
LOCATION:Virtual
CATEGORIES:Gathering & Connection
END:VEVENT
BEGIN:VEVENT
DTSTART;TZID=America/Los_Angeles:20250520T173000
DTEND;TZID=America/Los_Angeles:20250520T181500
DTSTAMP:20260424T094518
CREATED:20250131T021224Z
LAST-MODIFIED:20250410T230225Z
UID:10001251-1747762200-1747764900@www.firstunitarianportland.org
SUMMARY:Connect & Reflect
DESCRIPTION:Join Rev. Alison Miller and Jen Thomas on the 1st & 3rd Tuesdays of most months through June from 5:30 – 6:15 p.m. on Zoom. Come share in conversation centered on the topic of the most recent sermon. Look for the discussion question during preservice slides and order of service.
URL:https://www.firstunitarianportland.org/event/connect-reflect/2025-05-20/
LOCATION:Virtual
CATEGORIES:Gathering & Connection
END:VEVENT
BEGIN:VEVENT
DTSTART;TZID=America/Los_Angeles:20250520T190000
DTEND;TZID=America/Los_Angeles:20250520T203000
DTSTAMP:20260424T094518
CREATED:20250123T194833Z
LAST-MODIFIED:20250123T194833Z
UID:10001231-1747767600-1747773000@www.firstunitarianportland.org
SUMMARY:Good Times Book Group: Circling the Sun by Paula McLain
DESCRIPTION:We meet by Zoom from 7 – 8:30 pm. Please contact Sue L. to get on the email list for Zoom links.
URL:https://www.firstunitarianportland.org/event/good-times-book-group-circling-the-sun-by-paula-mclain/
LOCATION:Virtual
CATEGORIES:Gathering & Connection
END:VEVENT
BEGIN:VEVENT
DTSTART;TZID=America/Los_Angeles:20250520T190000
DTEND;TZID=America/Los_Angeles:20250520T204500
DTSTAMP:20260424T094518
CREATED:20250513T000808Z
LAST-MODIFIED:20250515T220438Z
UID:10001520-1747767600-1747773900@www.firstunitarianportland.org
SUMMARY:Music Ministry Transition Team Online Listening Meeting
DESCRIPTION:Since its inception last summer\, the Music Ministry Transition Team (MMTT) has been actively engaged in helping church leadership and the Interim Director of Music Ministries move our music program forward. We’ve come to a point where we need to hear from congregants. We have already had three in-person listening meetings. We know that in-person meetings do not work for everyone\, so we have scheduled a Zoom meeting on May 20 at 7 p.m. \nOur objective is to hear your thoughts about how the music program has been evolving so far\, what you might envision for the future\, and what you have found positive about our current music program\, and what we need to improve. The MMTT looks forward to hearing about your feelings\, ideas\, and suggestions\, which will play a vital role in planning for the future of the music program at church. \nYou can access the Zoom meeting here.
URL:https://www.firstunitarianportland.org/event/music-ministry-transition-team-online-listening-meeting/
LOCATION:Virtual
CATEGORIES:Meeting
END:VEVENT
BEGIN:VEVENT
DTSTART;TZID=America/Los_Angeles:20250522T190000
DTEND;TZID=America/Los_Angeles:20250522T210000
DTSTAMP:20260424T094518
CREATED:20250203T191926Z
LAST-MODIFIED:20250313T010710Z
UID:10001260-1747940400-1747947600@www.firstunitarianportland.org
SUMMARY:*Registration Required* Journey to Articulating Your Faith
DESCRIPTION:A Spiritual Development Opportunity for People in Their 20s and 30s \nJoin Rev. Alison and Danielle Garrett for an 8-session course of theological exploration and discovery for young adults. Together\, we will trace our spiritual paths\, explore our understandings of the sacred\, human nature\, and religious practice\, and develop our personal credos: an expression of our most sacred beliefs and fundamental values that guide our lives. We will also get a chance to learn a little more about Unitarian Universalist history and build community with one another! To register or for more information\, contact Danielle.
URL:https://www.firstunitarianportland.org/event/journey-to-articulating-your-faith/2025-05-22/
LOCATION:OR
CATEGORIES:Program/Event
END:VEVENT
BEGIN:VEVENT
DTSTART;TZID=America/Los_Angeles:20250523T170000
DTEND;TZID=America/Los_Angeles:20250523T174000
DTSTAMP:20260424T094518
CREATED:20241127T211744Z
LAST-MODIFIED:20260210T222057Z
UID:10000087-1748019600-1748022000@www.firstunitarianportland.org
SUMMARY:Vespers
DESCRIPTION:Our Lay Ministers will offer inspirational readings\, guided meditation\, and quiet music in a contemplative program at week’s end. \nCongregants and visitors are invited to bring their prayer requests to be held during the service. They are received in real-time through the Zoom chat box\, seen\, and read aloud anonymously by the hosts. This is a time to join in prayer not only for our community but also for the world. \nWe look forward to sharing this time of quiet reflection with you when we are all holding so much in our hearts. \nDetails: Fridays\, 5 – 5:40 p.m. \nJoin here (SAVE THIS LINK! It works every Friday.) \nhttps://tinyurl.com/Vespers-1stU
URL:https://www.firstunitarianportland.org/event/vespers/2025-05-23/
LOCATION:Virtual
CATEGORIES:Gathering & Connection
END:VEVENT
END:VCALENDAR