BEGIN:VCALENDAR
VERSION:2.0
PRODID:-//First Unitarian Portland - ECPv6.15.20//NONSGML v1.0//EN
CALSCALE:GREGORIAN
METHOD:PUBLISH
X-ORIGINAL-URL:https://www.firstunitarianportland.org
X-WR-CALDESC:Events for First Unitarian Portland
REFRESH-INTERVAL;VALUE=DURATION:PT1H
X-Robots-Tag:noindex
X-PUBLISHED-TTL:PT1H
BEGIN:VTIMEZONE
TZID:America/Los_Angeles
BEGIN:DAYLIGHT
TZOFFSETFROM:-0800
TZOFFSETTO:-0700
TZNAME:PDT
DTSTART:20240310T100000
END:DAYLIGHT
BEGIN:STANDARD
TZOFFSETFROM:-0700
TZOFFSETTO:-0800
TZNAME:PST
DTSTART:20241103T090000
END:STANDARD
BEGIN:DAYLIGHT
TZOFFSETFROM:-0800
TZOFFSETTO:-0700
TZNAME:PDT
DTSTART:20250309T100000
END:DAYLIGHT
BEGIN:STANDARD
TZOFFSETFROM:-0700
TZOFFSETTO:-0800
TZNAME:PST
DTSTART:20251102T090000
END:STANDARD
BEGIN:DAYLIGHT
TZOFFSETFROM:-0800
TZOFFSETTO:-0700
TZNAME:PDT
DTSTART:20260308T100000
END:DAYLIGHT
BEGIN:STANDARD
TZOFFSETFROM:-0700
TZOFFSETTO:-0800
TZNAME:PST
DTSTART:20261101T090000
END:STANDARD
END:VTIMEZONE
BEGIN:VEVENT
DTSTART;TZID=America/Los_Angeles:20250511T101500
DTEND;TZID=America/Los_Angeles:20250511T113000
DTSTAMP:20260424T134537
CREATED:20241127T213504Z
LAST-MODIFIED:20260210T222116Z
UID:10000400-1746958500-1746963000@www.firstunitarianportland.org
SUMMARY:🕯️ Sunday Worship
DESCRIPTION:In-person\nSanctuary\n1211 SW Main St.\nPortland\, OR 97205 \n  \nJoin us on livestream here
URL:https://www.firstunitarianportland.org/event/sunday-worship/2025-05-11/
LOCATION:Main Sanctuary\, 1211 SW Main St\, Portland\, OR\, 97205\, United States
CATEGORIES:Service
END:VEVENT
BEGIN:VEVENT
DTSTART;TZID=America/Los_Angeles:20250511T101500
DTEND;TZID=America/Los_Angeles:20250511T113000
DTSTAMP:20260424T134537
CREATED:20241127T214942Z
LAST-MODIFIED:20250509T213050Z
UID:10001005-1746958500-1746963000@www.firstunitarianportland.org
SUMMARY:Children and Youth Learning Community
DESCRIPTION:The Learning Community\, also referred to as R.E. (Religious Education)\, meets at 10:15 a.m. on Sunday mornings.  On the first Sunday of the month\, children and youth start out in the main Sanctuary for our monthly “Together Time” before moving on to their classrooms in our Eliot Center/Buchan Building\, right next door to our Sanctuary building.  Stop by the R.E. Information Desk in the Eliot Center if you need to register your children or youth\, or have questions for us.  All are welcome! \nClick here to view more information about our Learning Community.
URL:https://www.firstunitarianportland.org/event/learning-community-2025/2025-05-11/
LOCATION:OR
CATEGORIES:Learning Community
END:VEVENT
BEGIN:VEVENT
DTSTART;TZID=America/Los_Angeles:20250511T114500
DTEND;TZID=America/Los_Angeles:20250511T140000
DTSTAMP:20260424T134537
CREATED:20250203T192729Z
LAST-MODIFIED:20250602T223050Z
UID:10001619-1746963900-1746972000@www.firstunitarianportland.org
SUMMARY:Drop-In Parenting Circle
DESCRIPTION:Join the community of parents at First Unitarian and share stories\, wisdom\, and explore spiritual reflection. These circles are great for long-time families and newcomers alike to build community with those who share a parenting journey. Meets the 2nd Sunday of most months from October to May. You are welcome to bring your lunch. Childcare provided. \nFor more info\, check out the flyer.
URL:https://www.firstunitarianportland.org/event/parenting-circle/2025-05-11/
LOCATION:Daisy Bingham Room\, 1011 SW 12th Ave\, Portland\, OR\, 97205
CATEGORIES:Gathering & Connection
END:VEVENT
BEGIN:VEVENT
DTSTART;TZID=America/Los_Angeles:20250512T200000
DTEND;TZID=America/Los_Angeles:20250512T203000
DTSTAMP:20260424T134537
CREATED:20241128T002002Z
LAST-MODIFIED:20250512T180414Z
UID:10001095-1747080000-1747081800@www.firstunitarianportland.org
SUMMARY:Loving Kindness Meditation
DESCRIPTION:The teachings of Loving Kindness\, or Metta\, are about finding a path with heart. Jack Kornfield says\, “It’s about undertaking a path that transforms and touches us in the center of our being. To do so is to find a way of practice that allows us to live in the world wholly and fully from our heart.” \nWith this Spiritual Practice\, one can cultivate feelings of happiness\, dispel loneliness\,  let go of fear and anxiety. If you are feeling stuck\, this practice can help you enjoy a more compassionate life for yourself and others. \nJoin us on Zoom on Monday evenings to extend Loving-Kindness to yourself\, to those around you and to the world. \nNo previous meditation practice is necessary\, and new participants are always welcome.  Join on an ongoing basis\, or drop in as you’re able. \nMay we be at peace and keep our hearts open. \nContact Katie R. for more information. \nClick here to join.
URL:https://www.firstunitarianportland.org/event/loving-kindness-meditation-2025/2025-05-12/
LOCATION:Virtual
CATEGORIES:Gathering & Connection
END:VEVENT
BEGIN:VEVENT
DTSTART;TZID=America/Los_Angeles:20250513T170000
DTEND;TZID=America/Los_Angeles:20250513T183000
DTSTAMP:20260424T134537
CREATED:20241127T214643Z
LAST-MODIFIED:20250317T235517Z
UID:10000919-1747155600-1747161000@www.firstunitarianportland.org
SUMMARY:Finance Committee Meeting
DESCRIPTION:The Board Finance Committee meets on the second Tuesday of most months\, 5 – 6:30 p.m. Meetings are open to congregants. \nClick here to join on Zoom.
URL:https://www.firstunitarianportland.org/event/finance-committee-meeting/2025-05-13/
LOCATION:Virtual
CATEGORIES:Meeting
END:VEVENT
BEGIN:VEVENT
DTSTART;TZID=America/Los_Angeles:20250513T183000
DTEND;TZID=America/Los_Angeles:20250513T200000
DTSTAMP:20260424T134537
CREATED:20241127T214747Z
LAST-MODIFIED:20241127T233741Z
UID:10000936-1747161000-1747166400@www.firstunitarianportland.org
SUMMARY:Communications Committee Meeting
DESCRIPTION:The Board Communications Committee meets on the second Tuesday of each month\, 6:30 – 8 p.m. Meetings are open to congregants. \nClick here to join on Zoom.
URL:https://www.firstunitarianportland.org/event/communications-committee-meeting/2025-05-13/
LOCATION:Virtual
CATEGORIES:Meeting
END:VEVENT
BEGIN:VEVENT
DTSTART;TZID=America/Los_Angeles:20250513T190000
DTEND;TZID=America/Los_Angeles:20250513T200000
DTSTAMP:20260424T134537
CREATED:20250507T222307Z
LAST-MODIFIED:20250507T222307Z
UID:10001391-1747162800-1747166400@www.firstunitarianportland.org
SUMMARY:Conversation: How Do We Protect Immigrants in Our Communities?
DESCRIPTION:Over the past few months\, we’ve learned so much at the Immigration Forums hosted by IJAG and ARJAG. Now it’s time to do something! Please join other members of First Unitarian as we deepen our conversations about what we can do\, both individually and as a congregation. \nMany of you are already involved and might like others to join you. If you are not involved\, would you like to do so with others?  Come & meet others who want to do something! \nLet’s do something! \nRegister here!
URL:https://www.firstunitarianportland.org/event/conversation-how-do-we-protect-immigrants-in-our-communities/
LOCATION:Virtual
CATEGORIES:Program/Event,Social Justice
END:VEVENT
BEGIN:VEVENT
DTSTART;TZID=America/Los_Angeles:20250515T130000
DTEND;TZID=America/Los_Angeles:20250515T143000
DTSTAMP:20260424T134537
CREATED:20241212T192953Z
LAST-MODIFIED:20250917T235232Z
UID:10001203-1747314000-1747319400@www.firstunitarianportland.org
SUMMARY:Contemplative Practices Group
DESCRIPTION:First Thursdays in Channing (A101) \nThird Thursdays in Classroom A108 \n  \nThe Contemplative Practices Group is returning! Join with us on the first and third Thursdays of the month from 1 to 2:30 p.m. to sit together in silence. Connect to your inner self as well as something bigger than yourself. Bring more peace and joy into your life\, increase mindfulness and develop more perspective. \n“Contemplative spirituality is about slowing down and relaxing our action\, our striving\, and all of our ‘doings.’ In order to ‘wake up’ to the Reality in which we are already immersed\, we must slow down and gently transition ‘from doing to being.’ “ – Keith Kristich \nThis is a drop-in group. Any silent sitting practice is welcomed and no prior meditation experience is needed. If you would like to learn a contemplative practice for use during the group\, let the facilitators know and they will meet with you half an hour before the group sit begins. \nEach group meeting consists of a 20-minute meditation\, a check-in on a spiritually oriented topic\, and deep discussion of a poem or short reading.  Facilitators are Patty and Ron. They look forward to being with you! \n— \nPatty has been a UU since childhood and has attended First Church for 20 years. She has taught spiritual practice classes and been involved with Wellspring\, the Labyrinth and other church programs. She learned meditation in college and has had a daily meditation practice since joining First Church. She has been an active Spiritual Director since 2012. \nRon is a spiritual director and has been a lay minister\, Wellspring facilitator and taught in the learning community at First Church. He has maintained a centering prayer and lectio divina practice for over twenty years.
URL:https://www.firstunitarianportland.org/event/contemplative-practices-group-2/2025-05-15/
LOCATION:OR
CATEGORIES:Gathering & Connection
END:VEVENT
BEGIN:VEVENT
DTSTART;TZID=America/Los_Angeles:20250516T170000
DTEND;TZID=America/Los_Angeles:20250516T174000
DTSTAMP:20260424T134537
CREATED:20241127T211744Z
LAST-MODIFIED:20260210T222057Z
UID:10000086-1747414800-1747417200@www.firstunitarianportland.org
SUMMARY:Vespers
DESCRIPTION:Our Lay Ministers will offer inspirational readings\, guided meditation\, and quiet music in a contemplative program at week’s end. \nCongregants and visitors are invited to bring their prayer requests to be held during the service. They are received in real-time through the Zoom chat box\, seen\, and read aloud anonymously by the hosts. This is a time to join in prayer not only for our community but also for the world. \nWe look forward to sharing this time of quiet reflection with you when we are all holding so much in our hearts. \nDetails: Fridays\, 5 – 5:40 p.m. \nJoin here (SAVE THIS LINK! It works every Friday.) \nhttps://tinyurl.com/Vespers-1stU
URL:https://www.firstunitarianportland.org/event/vespers/2025-05-16/
LOCATION:Virtual
CATEGORIES:Gathering & Connection
END:VEVENT
END:VCALENDAR