BEGIN:VCALENDAR
VERSION:2.0
PRODID:-//First Unitarian Portland - ECPv6.15.20//NONSGML v1.0//EN
CALSCALE:GREGORIAN
METHOD:PUBLISH
X-WR-CALNAME:First Unitarian Portland
X-ORIGINAL-URL:https://www.firstunitarianportland.org
X-WR-CALDESC:Events for First Unitarian Portland
REFRESH-INTERVAL;VALUE=DURATION:PT1H
X-Robots-Tag:noindex
X-PUBLISHED-TTL:PT1H
BEGIN:VTIMEZONE
TZID:America/Los_Angeles
BEGIN:DAYLIGHT
TZOFFSETFROM:-0800
TZOFFSETTO:-0700
TZNAME:PDT
DTSTART:20240310T100000
END:DAYLIGHT
BEGIN:STANDARD
TZOFFSETFROM:-0700
TZOFFSETTO:-0800
TZNAME:PST
DTSTART:20241103T090000
END:STANDARD
BEGIN:DAYLIGHT
TZOFFSETFROM:-0800
TZOFFSETTO:-0700
TZNAME:PDT
DTSTART:20250309T100000
END:DAYLIGHT
BEGIN:STANDARD
TZOFFSETFROM:-0700
TZOFFSETTO:-0800
TZNAME:PST
DTSTART:20251102T090000
END:STANDARD
BEGIN:DAYLIGHT
TZOFFSETFROM:-0800
TZOFFSETTO:-0700
TZNAME:PDT
DTSTART:20260308T100000
END:DAYLIGHT
BEGIN:STANDARD
TZOFFSETFROM:-0700
TZOFFSETTO:-0800
TZNAME:PST
DTSTART:20261101T090000
END:STANDARD
END:VTIMEZONE
BEGIN:VEVENT
DTSTART;TZID=America/Los_Angeles:20250223T101500
DTEND;TZID=America/Los_Angeles:20250223T113000
DTSTAMP:20260425T035957
CREATED:20241127T213504Z
LAST-MODIFIED:20260210T222116Z
UID:10000389-1740305700-1740310200@www.firstunitarianportland.org
SUMMARY:🕯️ Sunday Worship
DESCRIPTION:In-person\nSanctuary\n1211 SW Main St.\nPortland\, OR 97205 \n  \nJoin us on livestream here
URL:https://www.firstunitarianportland.org/event/sunday-worship/2025-02-23/
LOCATION:Main Sanctuary\, 1211 SW Main St\, Portland\, OR\, 97205\, United States
CATEGORIES:Service
END:VEVENT
BEGIN:VEVENT
DTSTART;TZID=America/Los_Angeles:20250223T101500
DTEND;TZID=America/Los_Angeles:20250223T113000
DTSTAMP:20260425T035957
CREATED:20241127T214942Z
LAST-MODIFIED:20250509T213050Z
UID:10000997-1740305700-1740310200@www.firstunitarianportland.org
SUMMARY:Children and Youth Learning Community
DESCRIPTION:The Learning Community\, also referred to as R.E. (Religious Education)\, meets at 10:15 a.m. on Sunday mornings.  On the first Sunday of the month\, children and youth start out in the main Sanctuary for our monthly “Together Time” before moving on to their classrooms in our Eliot Center/Buchan Building\, right next door to our Sanctuary building.  Stop by the R.E. Information Desk in the Eliot Center if you need to register your children or youth\, or have questions for us.  All are welcome! \nClick here to view more information about our Learning Community.
URL:https://www.firstunitarianportland.org/event/learning-community-2025/2025-02-23/
LOCATION:OR
CATEGORIES:Learning Community
END:VEVENT
BEGIN:VEVENT
DTSTART;TZID=America/Los_Angeles:20250223T140000
DTEND;TZID=America/Los_Angeles:20250223T170000
DTSTAMP:20260425T035957
CREATED:20250123T192002Z
LAST-MODIFIED:20250123T192002Z
UID:10001226-1740319200-1740330000@www.firstunitarianportland.org
SUMMARY:Gordon Ware Memorial
DESCRIPTION:A memorial will be held for member Gordon Ware on Sunday\, February 23\, at 2 p.m. in Eliot Chapel\, with a reception to follow at 3:30 p.m. in Buchan Reception Hall.  \nLongtime member Gordon Ware died on December 8 after a lengthy struggle with Alzheimer’s at the age of 83. Gordon was a physicist\, an architect\, and an artist. Even after he lost the ability to speak\, he continued to express himself\, including through painting up until his last weeks of life.
URL:https://www.firstunitarianportland.org/event/gordon-ware-memorial/
LOCATION:Eliot Chapel\, 1011 SW 12th Ave\, Portland\, OR\, 97205
CATEGORIES:Memorial
END:VEVENT
BEGIN:VEVENT
DTSTART;TZID=America/Los_Angeles:20250224T160000
DTEND;TZID=America/Los_Angeles:20250224T173000
DTSTAMP:20260425T035957
CREATED:20250213T010820Z
LAST-MODIFIED:20250213T190404Z
UID:10001283-1740412800-1740418200@www.firstunitarianportland.org
SUMMARY:Celebration of Life for Martha Westgate
DESCRIPTION:A celebration of life for long-time member Martha Westgate will be held on February 24\, which would have been her 90th birthday. Martha died on May 31\, 2024. She was one of the founding members of our church’s 7th Principle Group\, now called Community for Earth. Martha and her husband John were active members of our church for many decades. The service will be held online at 4 p.m. so relatives in West Virginia and California can attend. Sign up here to receive a link for the service.
URL:https://www.firstunitarianportland.org/event/celebration-of-life-for-martha-westgate/
LOCATION:Virtual
CATEGORIES:Memorial
END:VEVENT
BEGIN:VEVENT
DTSTART;TZID=America/Los_Angeles:20250224T200000
DTEND;TZID=America/Los_Angeles:20250224T203000
DTSTAMP:20260425T035957
CREATED:20241128T002002Z
LAST-MODIFIED:20250512T180414Z
UID:10001084-1740427200-1740429000@www.firstunitarianportland.org
SUMMARY:Loving Kindness Meditation
DESCRIPTION:The teachings of Loving Kindness\, or Metta\, are about finding a path with heart. Jack Kornfield says\, “It’s about undertaking a path that transforms and touches us in the center of our being. To do so is to find a way of practice that allows us to live in the world wholly and fully from our heart.” \nWith this Spiritual Practice\, one can cultivate feelings of happiness\, dispel loneliness\,  let go of fear and anxiety. If you are feeling stuck\, this practice can help you enjoy a more compassionate life for yourself and others. \nJoin us on Zoom on Monday evenings to extend Loving-Kindness to yourself\, to those around you and to the world. \nNo previous meditation practice is necessary\, and new participants are always welcome.  Join on an ongoing basis\, or drop in as you’re able. \nMay we be at peace and keep our hearts open. \nContact Katie R. for more information. \nClick here to join.
URL:https://www.firstunitarianportland.org/event/loving-kindness-meditation-2025/2025-02-24/
LOCATION:Virtual
CATEGORIES:Gathering & Connection
END:VEVENT
BEGIN:VEVENT
DTSTART;TZID=America/Los_Angeles:20250225T170000
DTEND;TZID=America/Los_Angeles:20250225T183000
DTSTAMP:20260425T035957
CREATED:20250211T205853Z
LAST-MODIFIED:20250211T205853Z
UID:10001280-1740502800-1740508200@www.firstunitarianportland.org
SUMMARY:Finance Committee / Rescheduled from Feb. 11
DESCRIPTION:Click here to join on Zoom.
URL:https://www.firstunitarianportland.org/event/finance-committee-rescheduled-from-feb-11/
LOCATION:OR
CATEGORIES:Meeting
END:VEVENT
BEGIN:VEVENT
DTSTART;TZID=America/Los_Angeles:20250225T173000
DTEND;TZID=America/Los_Angeles:20250225T181500
DTSTAMP:20260425T035957
CREATED:20250131T021224Z
LAST-MODIFIED:20250410T230225Z
UID:10001239-1740504600-1740507300@www.firstunitarianportland.org
SUMMARY:Connect & Reflect
DESCRIPTION:Join Rev. Alison Miller and Jen Thomas on the 1st & 3rd Tuesdays of most months through June from 5:30 – 6:15 p.m. on Zoom. Come share in conversation centered on the topic of the most recent sermon. Look for the discussion question during preservice slides and order of service.
URL:https://www.firstunitarianportland.org/event/connect-reflect/2025-02-25/
LOCATION:Virtual
CATEGORIES:Gathering & Connection
END:VEVENT
BEGIN:VEVENT
DTSTART;TZID=America/Los_Angeles:20250225T183000
DTEND;TZID=America/Los_Angeles:20250225T200000
DTSTAMP:20260425T035957
CREATED:20250212T184830Z
LAST-MODIFIED:20250212T184830Z
UID:10001281-1740508200-1740513600@www.firstunitarianportland.org
SUMMARY:Learn about Activism for Peace in the Middle East
DESCRIPTION:Are you disturbed by the ongoing Israeli bombardment of Gaza with over 50\,000 Palestinians killed and rampant human rights violations? Are you upset about the billions of United States dollars in unconditional military aid to Israel? Were you appalled by President Trump’s call for ethnic cleansing of Palestinians from Gaza? Are you ready to learn what UUs can do to work for peace and human rights in Palestine/Israel? \nIf the answer to any of these questions is yes\, we hope you will join us on Tuesday\, February 25th to learn about Unitarian Universalists for Justice in the Middle East (UUJME) and how we can take action together. UUJME was founded in 1971 to educate and mobilize UUs to greater understanding and action for a just peace in Palestine/Israel.  There are over 12 UUJME chapters with over 2\,000 members. \nIn June of 2024\, the UUA General Assembly adopted an Action of Immediate Witness (AIW) called Solidarity with Palestinians. Our work is made more urgent by the calls for ethnic cleansing in Gaza and the increase in violence and forced removal of Palestinians in the West Bank. We hope that you will join our efforts in alignment with this denominational call to action. \nJoin us on February 25th to learn more about UUJME and to get to know other congregants who are seeking community as we work for peace and human rights.  Let us know if you are coming\, or if you can’t come but want to stay informed\, by filling out this RSVP.
URL:https://www.firstunitarianportland.org/event/learn-about-activism-for-peace-in-the-middle-east/
LOCATION:Buchan Hall\, 1226 SW Salmon St\, Portland\, OR\, 97205\, United States
CATEGORIES:Program/Event,Social Justice
END:VEVENT
BEGIN:VEVENT
DTSTART;TZID=America/Los_Angeles:20250227T190000
DTEND;TZID=America/Los_Angeles:20250227T210000
DTSTAMP:20260425T035957
CREATED:20250203T191926Z
LAST-MODIFIED:20250313T010710Z
UID:10001254-1740682800-1740690000@www.firstunitarianportland.org
SUMMARY:*Registration Required* Journey to Articulating Your Faith
DESCRIPTION:A Spiritual Development Opportunity for People in Their 20s and 30s \nJoin Rev. Alison and Danielle Garrett for an 8-session course of theological exploration and discovery for young adults. Together\, we will trace our spiritual paths\, explore our understandings of the sacred\, human nature\, and religious practice\, and develop our personal credos: an expression of our most sacred beliefs and fundamental values that guide our lives. We will also get a chance to learn a little more about Unitarian Universalist history and build community with one another! To register or for more information\, contact Danielle.
URL:https://www.firstunitarianportland.org/event/journey-to-articulating-your-faith/2025-02-27/
LOCATION:OR
CATEGORIES:Program/Event
END:VEVENT
BEGIN:VEVENT
DTSTART;TZID=America/Los_Angeles:20250228T170000
DTEND;TZID=America/Los_Angeles:20250228T174000
DTSTAMP:20260425T035957
CREATED:20241127T211744Z
LAST-MODIFIED:20260210T222057Z
UID:10000075-1740762000-1740764400@www.firstunitarianportland.org
SUMMARY:Vespers
DESCRIPTION:Our Lay Ministers will offer inspirational readings\, guided meditation\, and quiet music in a contemplative program at week’s end. \nCongregants and visitors are invited to bring their prayer requests to be held during the service. They are received in real-time through the Zoom chat box\, seen\, and read aloud anonymously by the hosts. This is a time to join in prayer not only for our community but also for the world. \nWe look forward to sharing this time of quiet reflection with you when we are all holding so much in our hearts. \nDetails: Fridays\, 5 – 5:40 p.m. \nJoin here (SAVE THIS LINK! It works every Friday.) \nhttps://tinyurl.com/Vespers-1stU
URL:https://www.firstunitarianportland.org/event/vespers/2025-02-28/
LOCATION:Virtual
CATEGORIES:Gathering & Connection
END:VEVENT
BEGIN:VEVENT
DTSTART;TZID=America/Los_Angeles:20250301T150000
DTEND;TZID=America/Los_Angeles:20250301T173000
DTSTAMP:20260425T035957
CREATED:20241219T193526Z
LAST-MODIFIED:20250227T015947Z
UID:10001218-1740841200-1740850200@www.firstunitarianportland.org
SUMMARY:The 2025 Sewell Lecture: A Tale of Two States
DESCRIPTION:Tickets are required for this event. To purchase\, visit our Eventbrite page. \nAlthough Oregon is a high-access abortion state\, we share a border with one of the lowest-access states in the US. That presents opportunities to partner with Idaho to understand their challenges and support initiatives within Idaho and access in Oregon – such as support for the 2026 Equal Rights for All ballot initiative. It also provides a cautionary tale because abortion was legal in Idaho until August 2022. We want to illuminate how to be in solidarity\, clarify the broader connection of abortion\, birth control\, and gender-affirming care to overall healthcare\, and find ways to join forces as a united front in opposition to a nationwide ban on abortion. \nThe 2025 Marilyn Sewell Social Justice Lecture will combine a production of Pro-Voice Project Abortion Diaries followed by a panel discussion with Dr. Amelia Huntsberger (OB/GYN)\, Jen Jackson Quintana of the Pro-Voice Project\, and Yesenia Morales of Latino Network and Oregon’s Equal Rights for All Campaign. \nCo-presented with Oregon Equal Rights for All Campaign & Pro-Voice Project of Idaho. \nFor more details and to purchase tickets\, visit our Eventbrite page.
URL:https://www.firstunitarianportland.org/event/sewell-lecture-2025/
LOCATION:Main Sanctuary\, 1211 SW Main St\, Portland\, OR\, 97205\, United States
CATEGORIES:Program/Event,Social Justice
END:VEVENT
END:VCALENDAR