BEGIN:VCALENDAR
VERSION:2.0
PRODID:-//First Unitarian Portland - ECPv6.15.20//NONSGML v1.0//EN
CALSCALE:GREGORIAN
METHOD:PUBLISH
X-WR-CALNAME:First Unitarian Portland
X-ORIGINAL-URL:https://www.firstunitarianportland.org
X-WR-CALDESC:Events for First Unitarian Portland
REFRESH-INTERVAL;VALUE=DURATION:PT1H
X-Robots-Tag:noindex
X-PUBLISHED-TTL:PT1H
BEGIN:VTIMEZONE
TZID:America/Los_Angeles
BEGIN:DAYLIGHT
TZOFFSETFROM:-0800
TZOFFSETTO:-0700
TZNAME:PDT
DTSTART:20240310T100000
END:DAYLIGHT
BEGIN:STANDARD
TZOFFSETFROM:-0700
TZOFFSETTO:-0800
TZNAME:PST
DTSTART:20241103T090000
END:STANDARD
BEGIN:DAYLIGHT
TZOFFSETFROM:-0800
TZOFFSETTO:-0700
TZNAME:PDT
DTSTART:20250309T100000
END:DAYLIGHT
BEGIN:STANDARD
TZOFFSETFROM:-0700
TZOFFSETTO:-0800
TZNAME:PST
DTSTART:20251102T090000
END:STANDARD
BEGIN:DAYLIGHT
TZOFFSETFROM:-0800
TZOFFSETTO:-0700
TZNAME:PDT
DTSTART:20260308T100000
END:DAYLIGHT
BEGIN:STANDARD
TZOFFSETFROM:-0700
TZOFFSETTO:-0800
TZNAME:PST
DTSTART:20261101T090000
END:STANDARD
END:VTIMEZONE
BEGIN:VEVENT
DTSTART;TZID=America/Los_Angeles:20250105T084500
DTEND;TZID=America/Los_Angeles:20250105T100000
DTSTAMP:20260425T040003
CREATED:20241127T211450Z
LAST-MODIFIED:20250530T192223Z
UID:10000008-1736066700-1736071200@www.firstunitarianportland.org
SUMMARY:🥞 Pancake Breakfast
DESCRIPTION:Join us for free\, delicious pancakes in Buchan Reception Hall from 8:45 to 10 a.m. on the first Sunday of the month. We will have plain\, blueberry\, chocolate\, and blueberry-chocolate pancakes fresh off the griddle. All are welcome! \nHosted by the UU Men’s Community.
URL:https://www.firstunitarianportland.org/event/%f0%9f%a5%9e-pancake-breakfast/2025-01-05/
LOCATION:Buchan Hall\, 1226 SW Salmon St\, Portland\, OR\, 97205\, United States
CATEGORIES:Gathering & Connection
END:VEVENT
BEGIN:VEVENT
DTSTART;TZID=America/Los_Angeles:20250105T093000
DTEND;TZID=America/Los_Angeles:20250105T120000
DTSTAMP:20260425T040003
CREATED:20241127T215737Z
LAST-MODIFIED:20241127T232849Z
UID:10000323-1736069400-1736078400@www.firstunitarianportland.org
SUMMARY:🌀 Labyrinth
DESCRIPTION:This year\, as we explore the church theme “Join the Journey\,” we will have monthly opportunities to deepen our spiritual practices and focus on our inner journeys through the Labyrinth. The Labyrinth will be set up in Fuller Hall on the first Sunday of most months from 9:30 a.m. to noon. \nWe’re always looking for more volunteers to help us set up our sacred space and plan other labyrinth related activities throughout the year. If you’d like to volunteer\, reach out to Teri.
URL:https://www.firstunitarianportland.org/event/%f0%9f%8c%80-labyrinth-2/
LOCATION:Fuller Hall\, 1211 SW Main St\, Portland\, OR\, 97205
CATEGORIES:Gathering & Connection
END:VEVENT
BEGIN:VEVENT
DTSTART;TZID=America/Los_Angeles:20250105T101500
DTEND;TZID=America/Los_Angeles:20250105T113000
DTSTAMP:20260425T040003
CREATED:20241127T213504Z
LAST-MODIFIED:20260210T222116Z
UID:10000382-1736072100-1736076600@www.firstunitarianportland.org
SUMMARY:🕯️ Sunday Worship
DESCRIPTION:In-person\nSanctuary\n1211 SW Main St.\nPortland\, OR 97205 \n  \nJoin us on livestream here
URL:https://www.firstunitarianportland.org/event/sunday-worship/2025-01-05/
LOCATION:Main Sanctuary\, 1211 SW Main St\, Portland\, OR\, 97205\, United States
CATEGORIES:Service
END:VEVENT
BEGIN:VEVENT
DTSTART;TZID=America/Los_Angeles:20250105T101500
DTEND;TZID=America/Los_Angeles:20250105T113000
DTSTAMP:20260425T040003
CREATED:20241127T215153Z
LAST-MODIFIED:20241127T232751Z
UID:10001049-1736072100-1736076600@www.firstunitarianportland.org
SUMMARY:Children and Youth Learning Community: Together Time
DESCRIPTION:The Learning Community\, also referred to as R.E. (Religious Education)\, meets at 10:15 a.m. on Sunday mornings.  On the first Sunday of the month\, children and youth start out in the main Sanctuary for our monthly “Together Time” before moving on to their classrooms in our Eliot Center/Buchan Building\, right next door to our Sanctuary building.  Stop by the R.E. Information Desk in the Eliot Center if you need to register your children or youth\, or have questions for us.  All are welcome! \nClick here to view more information about our Learning Community.
URL:https://www.firstunitarianportland.org/event/children-and-youth-learning-community-together-time/2025-01-05/
LOCATION:Main Sanctuary\, 1211 SW Main St\, Portland\, OR\, 97205\, United States
CATEGORIES:Learning Community
END:VEVENT
BEGIN:VEVENT
DTSTART;TZID=America/Los_Angeles:20250105T114500
DTEND;TZID=America/Los_Angeles:20250105T130000
DTSTAMP:20260425T040003
CREATED:20241223T214820Z
LAST-MODIFIED:20241223T214821Z
UID:10000638-1736077500-1736082000@www.firstunitarianportland.org
SUMMARY:First Steps Orientation and Campus Tour **Registration Required**
DESCRIPTION:This specific class is limited to 15 people. Please RSVP to Jen Thomas to join.\n\nFirst Steps Orientation and Campus Tour is a welcoming monthly event held on the first Sunday\, designed for new and returning members of First Unitarian Portland (First U PDX). This session offers an overview of the church’s history\, core values\, and vibrant community\, encouraging participants to explore their connection and discover ways to engage.\n\nFor assistance in finding your way\, please check in with the Welcome Desk in the main sanctuary narthex/lobby.\n\nAttendees will meet church leaders\, learn about various activities and programs\, ask questions about Unitarian Universalism\, and tour the campus. This informal setting fosters connections among newcomers and long-time members\, enhancing the sense of belonging.\n\nFor those interested in deepening their commitment\, the orientation covers membership requirements\, including signing the Membership Record Book and making an annual financial pledge. Participants can also submit their membership application during the session\, taking a significant step in their spiritual journey with First U PDX.\n\nHosted by Jen Thomas\, Member Engagement Coordinator.
URL:https://www.firstunitarianportland.org/event/first-steps-orientation-and-campus-tour-2/
LOCATION:Narthex/Lobby\, 1211 SW Main St\, Portland\, OR\, 97205\, United States
CATEGORIES:Gathering & Connection
END:VEVENT
BEGIN:VEVENT
DTSTART;TZID=America/Los_Angeles:20250106T200000
DTEND;TZID=America/Los_Angeles:20250106T203000
DTSTAMP:20260425T040003
CREATED:20241128T002002Z
LAST-MODIFIED:20250512T180414Z
UID:10001077-1736193600-1736195400@www.firstunitarianportland.org
SUMMARY:Loving Kindness Meditation
DESCRIPTION:The teachings of Loving Kindness\, or Metta\, are about finding a path with heart. Jack Kornfield says\, “It’s about undertaking a path that transforms and touches us in the center of our being. To do so is to find a way of practice that allows us to live in the world wholly and fully from our heart.” \nWith this Spiritual Practice\, one can cultivate feelings of happiness\, dispel loneliness\,  let go of fear and anxiety. If you are feeling stuck\, this practice can help you enjoy a more compassionate life for yourself and others. \nJoin us on Zoom on Monday evenings to extend Loving-Kindness to yourself\, to those around you and to the world. \nNo previous meditation practice is necessary\, and new participants are always welcome.  Join on an ongoing basis\, or drop in as you’re able. \nMay we be at peace and keep our hearts open. \nContact Katie R. for more information. \nClick here to join.
URL:https://www.firstunitarianportland.org/event/loving-kindness-meditation-2025/2025-01-06/
LOCATION:Virtual
CATEGORIES:Gathering & Connection
END:VEVENT
BEGIN:VEVENT
DTSTART;TZID=America/Los_Angeles:20250108T103000
DTEND;TZID=America/Los_Angeles:20250108T140000
DTSTAMP:20260425T040003
CREATED:20241127T214151Z
LAST-MODIFIED:20250320T184255Z
UID:10000913-1736332200-1736344800@www.firstunitarianportland.org
SUMMARY:The Alliance Presents "Homelessness in Portland: Upstream Causes\, Downstream Effects\, and Finding the Pathways Home"
DESCRIPTION:On any given night in the United States\, more than 650\,000 people experience homelessness. West Coast states\, including Oregon\, are among the most significantly affected. Why? And what are we doing locally to help more of our neighbors find pathways home? \nSpeaker: Ryan Deibert\, Interim Director of Multnomah County’s Homelessness Response System. \nTo join us for a brown bag lunch & dessert ($5) following the program\, email AllianceRSVP@firstunitarianportland.org.
URL:https://www.firstunitarianportland.org/event/the-alliance-presents-homelessness-in-portland/
LOCATION:Eliot Chapel\, 1011 SW 12th Ave\, Portland\, OR\, 97205
CATEGORIES:Program/Event
END:VEVENT
BEGIN:VEVENT
DTSTART;TZID=America/Los_Angeles:20250110T170000
DTEND;TZID=America/Los_Angeles:20250110T174000
DTSTAMP:20260425T040003
CREATED:20241127T211744Z
LAST-MODIFIED:20260210T222057Z
UID:10000068-1736528400-1736530800@www.firstunitarianportland.org
SUMMARY:Vespers
DESCRIPTION:Our Lay Ministers will offer inspirational readings\, guided meditation\, and quiet music in a contemplative program at week’s end. \nCongregants and visitors are invited to bring their prayer requests to be held during the service. They are received in real-time through the Zoom chat box\, seen\, and read aloud anonymously by the hosts. This is a time to join in prayer not only for our community but also for the world. \nWe look forward to sharing this time of quiet reflection with you when we are all holding so much in our hearts. \nDetails: Fridays\, 5 – 5:40 p.m. \nJoin here (SAVE THIS LINK! It works every Friday.) \nhttps://tinyurl.com/Vespers-1stU
URL:https://www.firstunitarianportland.org/event/vespers/2025-01-10/
LOCATION:Virtual
CATEGORIES:Gathering & Connection
END:VEVENT
END:VCALENDAR