BEGIN:VCALENDAR
VERSION:2.0
PRODID:-//First Unitarian Portland - ECPv6.15.20//NONSGML v1.0//EN
CALSCALE:GREGORIAN
METHOD:PUBLISH
X-WR-CALNAME:First Unitarian Portland
X-ORIGINAL-URL:https://www.firstunitarianportland.org
X-WR-CALDESC:Events for First Unitarian Portland
REFRESH-INTERVAL;VALUE=DURATION:PT1H
X-Robots-Tag:noindex
X-PUBLISHED-TTL:PT1H
BEGIN:VTIMEZONE
TZID:America/Los_Angeles
BEGIN:DAYLIGHT
TZOFFSETFROM:-0800
TZOFFSETTO:-0700
TZNAME:PDT
DTSTART:20240310T100000
END:DAYLIGHT
BEGIN:STANDARD
TZOFFSETFROM:-0700
TZOFFSETTO:-0800
TZNAME:PST
DTSTART:20241103T090000
END:STANDARD
BEGIN:DAYLIGHT
TZOFFSETFROM:-0800
TZOFFSETTO:-0700
TZNAME:PDT
DTSTART:20250309T100000
END:DAYLIGHT
BEGIN:STANDARD
TZOFFSETFROM:-0700
TZOFFSETTO:-0800
TZNAME:PST
DTSTART:20251102T090000
END:STANDARD
BEGIN:DAYLIGHT
TZOFFSETFROM:-0800
TZOFFSETTO:-0700
TZNAME:PDT
DTSTART:20260308T100000
END:DAYLIGHT
BEGIN:STANDARD
TZOFFSETFROM:-0700
TZOFFSETTO:-0800
TZNAME:PST
DTSTART:20261101T090000
END:STANDARD
BEGIN:DAYLIGHT
TZOFFSETFROM:-0800
TZOFFSETTO:-0700
TZNAME:PDT
DTSTART:20270314T100000
END:DAYLIGHT
BEGIN:STANDARD
TZOFFSETFROM:-0700
TZOFFSETTO:-0800
TZNAME:PST
DTSTART:20271107T090000
END:STANDARD
END:VTIMEZONE
BEGIN:VEVENT
DTSTART;VALUE=DATE:20260319
DTEND;VALUE=DATE:20260407
DTSTAMP:20260423T094910
CREATED:20260217T223925Z
LAST-MODIFIED:20260313T184407Z
UID:10001915-1773878400-1775519999@www.firstunitarianportland.org
SUMMARY:Auction Donations (3/19 - 4/6)
DESCRIPTION:Because we bought our church property piecemeal\, we have many roofs of different ages\, and almost all are leaking now\, causing damage to floors below. That’s why this year’s auction—CREATING CONNECTIONS: MANY BELIEFS\, MANY ROOFS—wants your help to raise funds for roof repair and long-term maintenance. Consult with your friends to create an event—a group hike\, a fancy dinner\, your vacation home? Donations accepted online beginning March 19. Our motto is: “Bid High\, Keep Dry!” \n Donations start March 19 and continues through April 6. The Auction’s online bidding starts April 19 and ends May 3. More news to follow in later Front Steps editions. Stay tuned.
URL:https://www.firstunitarianportland.org/event/auction-donations-2026/
LOCATION:Virtual
CATEGORIES:Special Notice
END:VEVENT
BEGIN:VEVENT
DTSTART;VALUE=DATE:20260216
DTEND;VALUE=DATE:20260217
DTSTAMP:20260423T094910
CREATED:20250625T001134Z
LAST-MODIFIED:20250625T001134Z
UID:10001639-1771200000-1771286399@www.firstunitarianportland.org
SUMMARY:Office CLOSED
DESCRIPTION:The office will be closed on this date in observance of Presidents’ Day.
URL:https://www.firstunitarianportland.org/event/office-closed-presidents-2026/
CATEGORIES:Special Notice
END:VEVENT
BEGIN:VEVENT
DTSTART;VALUE=DATE:20260119
DTEND;VALUE=DATE:20260120
DTSTAMP:20260423T094910
CREATED:20250625T001000Z
LAST-MODIFIED:20250625T001000Z
UID:10001638-1768780800-1768867199@www.firstunitarianportland.org
SUMMARY:Office CLOSED
DESCRIPTION:The office will be closed on this date in observance of Rev. Martin Luther King Jr. Day.
URL:https://www.firstunitarianportland.org/event/office-closed-mlk-2026/
CATEGORIES:Special Notice
END:VEVENT
BEGIN:VEVENT
DTSTART;VALUE=DATE:20260101
DTEND;VALUE=DATE:20260102
DTSTAMP:20260423T094910
CREATED:20250625T000650Z
LAST-MODIFIED:20250625T000650Z
UID:10001637-1767225600-1767311999@www.firstunitarianportland.org
SUMMARY:Office CLOSED
DESCRIPTION:The office will be closed on this date in observance of New Year’s Day.
URL:https://www.firstunitarianportland.org/event/office-closed-nyd-2026/
CATEGORIES:Special Notice
END:VEVENT
BEGIN:VEVENT
DTSTART;VALUE=DATE:20251231
DTEND;VALUE=DATE:20260101
DTSTAMP:20260423T094910
CREATED:20250625T000511Z
LAST-MODIFIED:20250625T000511Z
UID:10001636-1767139200-1767225599@www.firstunitarianportland.org
SUMMARY:Office CLOSED
DESCRIPTION:The office will be closed on this date in observance of New Year’s Eve.
URL:https://www.firstunitarianportland.org/event/office-closed-nye-2025/
CATEGORIES:Special Notice
END:VEVENT
BEGIN:VEVENT
DTSTART;VALUE=DATE:20251225
DTEND;VALUE=DATE:20251226
DTSTAMP:20260423T094910
CREATED:20250625T000202Z
LAST-MODIFIED:20250625T000202Z
UID:10001635-1766620800-1766707199@www.firstunitarianportland.org
SUMMARY:Office CLOSED
DESCRIPTION:The office will be closed on this date in observance of Christmas Day.
URL:https://www.firstunitarianportland.org/event/office-closed-christmas-day/
CATEGORIES:Special Notice
END:VEVENT
BEGIN:VEVENT
DTSTART;VALUE=DATE:20251224
DTEND;VALUE=DATE:20251225
DTSTAMP:20260423T094910
CREATED:20250625T000107Z
LAST-MODIFIED:20250625T000107Z
UID:10001634-1766534400-1766620799@www.firstunitarianportland.org
SUMMARY:Office CLOSED
DESCRIPTION:The office will be closed on this date in observance of Christmas Eve.
URL:https://www.firstunitarianportland.org/event/office-closed-christmas-eve/
CATEGORIES:Special Notice
END:VEVENT
BEGIN:VEVENT
DTSTART;VALUE=DATE:20251127
DTEND;VALUE=DATE:20251128
DTSTAMP:20260423T094910
CREATED:20250625T000021Z
LAST-MODIFIED:20250625T000021Z
UID:10001633-1764201600-1764287999@www.firstunitarianportland.org
SUMMARY:Office CLOSED
DESCRIPTION:The office will be closed on this date in observance of Thanksgiving Day.
URL:https://www.firstunitarianportland.org/event/office-closed-thanksgiving-day/
CATEGORIES:Special Notice
END:VEVENT
BEGIN:VEVENT
DTSTART;VALUE=DATE:20251111
DTEND;VALUE=DATE:20251112
DTSTAMP:20260423T094910
CREATED:20250624T235917Z
LAST-MODIFIED:20250624T235917Z
UID:10001632-1762819200-1762905599@www.firstunitarianportland.org
SUMMARY:Office CLOSED
DESCRIPTION:The office will be closed on this date in observance of Veterans Day.
URL:https://www.firstunitarianportland.org/event/office-closed-veterans-day/
CATEGORIES:Special Notice
END:VEVENT
BEGIN:VEVENT
DTSTART;VALUE=DATE:20250901
DTEND;VALUE=DATE:20250902
DTSTAMP:20260423T094910
CREATED:20250624T235831Z
LAST-MODIFIED:20250624T235831Z
UID:10001631-1756684800-1756771199@www.firstunitarianportland.org
SUMMARY:Office CLOSED
DESCRIPTION:The office will be closed on this date in observance of Labor Day.
URL:https://www.firstunitarianportland.org/event/office-closed-labor-day/
CATEGORIES:Special Notice
END:VEVENT
BEGIN:VEVENT
DTSTART;VALUE=DATE:20250622
DTEND;VALUE=DATE:20250623
DTSTAMP:20260423T094910
CREATED:20250527T232946Z
LAST-MODIFIED:20250609T190028Z
UID:10001526-1750550400-1750636799@www.firstunitarianportland.org
SUMMARY:Online Service ONLY
DESCRIPTION:Click for the livestream\n \nAll UUs are invited to watch the Unitarian Universalist Association (UUA) General Assembly’s online worship service from their homes on Sunday\, June 22. Read more about this special worship event here on the UUA website. \nOur building will be closed!
URL:https://www.firstunitarianportland.org/event/worship-service-for-ga/
CATEGORIES:Special Notice
END:VEVENT
BEGIN:VEVENT
DTSTART;VALUE=DATE:20250619
DTEND;VALUE=DATE:20250620
DTSTAMP:20260423T094910
CREATED:20241128T001029Z
LAST-MODIFIED:20241128T001029Z
UID:10001073-1750291200-1750377599@www.firstunitarianportland.org
SUMMARY:Office CLOSED
DESCRIPTION:The office will be closed on this date in observance of Juneteenth.
URL:https://www.firstunitarianportland.org/event/office-closed-juneteenth/
CATEGORIES:Special Notice
END:VEVENT
BEGIN:VEVENT
DTSTART;TZID=America/Los_Angeles:20250607T140000
DTEND;TZID=America/Los_Angeles:20250607T170000
DTSTAMP:20260423T094910
CREATED:20250417T194241Z
LAST-MODIFIED:20250529T212802Z
UID:10001279-1749304800-1749315600@www.firstunitarianportland.org
SUMMARY:Ordination of Danielle Garrett
DESCRIPTION:Click to watch the ceremony!\nJoin congregants and guests on June 7 at 2 p.m. in the Main Sanctuary for the ordination of our Assistant Minister\, Danielle Garrett. The Rev. Rob Hardies will preach\, our choir members will offer inspiring music\, and the congregation will confer the sacred rite of ordination. A reception with pie and champagne will follow in the Buchan Reception Hall! \nWe hope you will be able to join us for this special occasion and celebration. Read Rev. Alison’s blog post on the role of ordination in our tradition here. \nAll are welcome. Nursery care will be provided for our youngest guests\, and children are welcome to attend the service. \nRSVPs are not required\, but encouraged as they’ll help us make sure we have enough pie for everyone! To do so\, please use the RSVP box below. \nClergy are invited to gather in the Eliot Chapel at 1:30 p.m. to robe and process. \n\nWAYS TO HELP: \n\nVolunteer to help with the reception: Sign up here\nBake pies for the reception: Sign up here\nBring flowers for the ceremony and reception: Do you have tea roses\, lavender\, zinnias\, tulips\, or peonies? Flowers can be dropped off at our Salmon St. entrance on June 6 between 9 a.m. and 11 a.m. Contact Marti Y. for details and additional information.\nMake a financial gift to help cover the cost: Donate here\, or send a check (with the memo line “Ordination”) to our office: First Unitarian Portland\, 1034 SW 13th Ave\, Portland\, OR\, 97205. You can also drop off a check in our plate collection or the boxes in the Sanctuary lobby.\n\n\nTRAVEL DETAILS: \nJune 7 is going to be a very busy day with complicated travel and difficult parking expected due to the Grand Floral Parade and other events taking place downtown. \nThe church has secured the parking lot on 12th Ave. directly across from the Sanctuary for free parking from noon to 6 p.m.\, but we strongly encourage you to carpool or take public transportation when possible. \nPublic transportation options: \n\nPark and Ride: Your best bet may be to use Park and Ride\, then commute to church by MAX or bus. Park for free up to 24 hours at a Park and Ride and hop on a bus or MAX to your destination. For locations\, visit Trimet’s website.\nStreetcar: The Museum Stop at 10th and Main is the closest to First U. To plan your trip\, visit the streetcar schedule.\nMAX: Galleria/SW 10th (walking up to church) and Providence Park (walking down to church) are the closest stops.\nBus: Stops depend on bus routes. To plan your trip\, visit the Trimet trip planner.\n\nParking options: \n\nConsider carpooling and allowing extra time to commute and park!\n12th Avenue parking lot: The church has secured the parking lot on 12th Ave. directly across from the Sanctuary for free parking from noon to 6 p.m. Simply show up and park in any available space.\nPark and Ride: Your best bet may be to use Park and Ride\, then commute to church by MAX or bus. Park for free up to 24 hours at a Park and Ride and hop on a bus or MAX to your destination. For locations\, visit Trimet’s website.\nPSU parking: The closest PSU parking lot is a multi-story blue and grey building almost immediately off Hwy 405 at the 12th Avenue exit. It is called Parking Structure 3 and is 0.3 miles straight down 12th Street to First Unitarian\, about a 10-minute walk. More information on their website here.\n\nBicycle options: \n\nPersonal bike: Please email Jen Thomas to arrange for safe storage of your bike during the service.\nBiketown rentals: You can rent a Biketown e-bike near your starting destination (find one on the map here) and park in one of the several docks near First U. The closest docks are in front of Safeway (Columbia & 10th) which is 0.3 miles from First U\, about a 6-minute walk\, or at Director Park (Yamhill & 9th) which is 0.3 miles from First U\, about a 7-minute walk. This requires downloading an app and a distance-based fee. Read more details here.
URL:https://www.firstunitarianportland.org/event/ordination-of-danielle-garrett/
LOCATION:Main Sanctuary\, 1211 SW Main St\, Portland\, OR\, 97205\, United States
CATEGORIES:Program/Event,Special Notice
ATTACH;FMTTYPE=image/jpeg:https://www.firstunitarianportland.org/wp-content/uploads/2025/02/11.03-Alliance-Program-DG-Pilgrimage-e1745366458862.jpg
END:VEVENT
BEGIN:VEVENT
DTSTART;VALUE=DATE:20250526
DTEND;VALUE=DATE:20250527
DTSTAMP:20260423T094910
CREATED:20241128T000913Z
LAST-MODIFIED:20241128T001208Z
UID:10001072-1748217600-1748303999@www.firstunitarianportland.org
SUMMARY:Office CLOSED
DESCRIPTION:The office will be closed on this date in observance of Memorial Day.
URL:https://www.firstunitarianportland.org/event/office-closed-memorial-day/
CATEGORIES:Special Notice
END:VEVENT
BEGIN:VEVENT
DTSTART;VALUE=DATE:20250518
DTEND;VALUE=DATE:20250519
DTSTAMP:20260423T094910
CREATED:20250211T200820Z
LAST-MODIFIED:20250211T200822Z
UID:10001278-1747526400-1747612799@www.firstunitarianportland.org
SUMMARY:Annual Vote - Ballots Due at 10:30 a.m.!
DESCRIPTION:Ballots are due at the church by 10:30 a.m. on our Annual Vote day\, May 18. \nBallots mailed to the church via U.S. Postal system must be received in the office by Thursday\, May 15\, to be counted\, as the office is closed on Friday\, May 16\, and no mail is received.
URL:https://www.firstunitarianportland.org/event/annual-vote-ballots-due-at-1030-a-m/
LOCATION:Narthex/Lobby\, 1211 SW Main St\, Portland\, OR\, 97205\, United States
CATEGORIES:Special Notice
END:VEVENT
BEGIN:VEVENT
DTSTART;VALUE=DATE:20250420
DTEND;VALUE=DATE:20250505
DTSTAMP:20260423T094910
CREATED:20250315T012429Z
LAST-MODIFIED:20250422T174717Z
UID:10001307-1745107200-1746403199@www.firstunitarianportland.org
SUMMARY:Auction Bidding (4/20 - 5/4)
DESCRIPTION:The latest edition of “Creating Connections: Welcome In!” is here! With over 120 exciting events\, services\, and vacation homes up for grabs\, this year’s auction is not to be missed. Place your bids through the online catalog until May 4.\n \nNew this year\, you can view items in a calendar format for easier browsing by switching between Grid View and Calendar View below the Bidding Tips section.\n \n Click here to bid now!\n\n \n\nEveryone must register to bid! Even if you participated in last year’s auction\, you’ll need to register again to bid in Auction 2025. Don’t miss out on the chance to win incredible items – register here now!\n \nFor questions\, contact the Auction committee.
URL:https://www.firstunitarianportland.org/event/auction-bidding-2025/
LOCATION:Virtual
CATEGORIES:Special Notice
END:VEVENT
BEGIN:VEVENT
DTSTART;VALUE=DATE:20250323
DTEND;VALUE=DATE:20250408
DTSTAMP:20260423T094910
CREATED:20250315T012117Z
LAST-MODIFIED:20250321T204010Z
UID:10001305-1742688000-1744070399@www.firstunitarianportland.org
SUMMARY:Auction Donations (3/23 - 4/7)
DESCRIPTION:The latest edition of “Creating Connections: Welcome In!” is just around the corner! Donations start March 23rd and end on Monday\, April 7. For a list of donation ideas\, go here. Online bidding starts April 20 and continues through May 4. Join us! Look for more information in the Front Steps e-news.\n\nFor questions\, contact the Auction committee.
URL:https://www.firstunitarianportland.org/event/auction-donations-2025/
LOCATION:Virtual
CATEGORIES:Special Notice
END:VEVENT
BEGIN:VEVENT
DTSTART;VALUE=DATE:20250217
DTEND;VALUE=DATE:20250218
DTSTAMP:20260423T094910
CREATED:20241128T000621Z
LAST-MODIFIED:20241128T000725Z
UID:10001071-1739750400-1739836799@www.firstunitarianportland.org
SUMMARY:Office CLOSED
DESCRIPTION:The office will be closed on this date in observance of Presidents’ Day.
URL:https://www.firstunitarianportland.org/event/office-closed-presidents-day/
CATEGORIES:Special Notice
END:VEVENT
BEGIN:VEVENT
DTSTART;VALUE=DATE:20250120
DTEND;VALUE=DATE:20250121
DTSTAMP:20260423T094910
CREATED:20241127T213821Z
LAST-MODIFIED:20241128T000807Z
UID:10000656-1737331200-1737417599@www.firstunitarianportland.org
SUMMARY:Office CLOSED
DESCRIPTION:The office will be closed on this date in observance of Martin Luther King Jr. Day.
URL:https://www.firstunitarianportland.org/event/office-closed-martin-luther-king-jr-day/
CATEGORIES:Special Notice
END:VEVENT
BEGIN:VEVENT
DTSTART;VALUE=DATE:20250101
DTEND;VALUE=DATE:20250102
DTSTAMP:20260423T094910
CREATED:20241128T000213Z
LAST-MODIFIED:20241128T000749Z
UID:10001070-1735689600-1735775999@www.firstunitarianportland.org
SUMMARY:Office CLOSED
DESCRIPTION:The office will be closed on this date in observance of New Year’s Day.
URL:https://www.firstunitarianportland.org/event/office-closed-new-years-day/
CATEGORIES:Special Notice
END:VEVENT
END:VCALENDAR