BEGIN:VCALENDAR
VERSION:2.0
PRODID:-//First Unitarian Portland - ECPv6.15.20//NONSGML v1.0//EN
CALSCALE:GREGORIAN
METHOD:PUBLISH
X-WR-CALNAME:First Unitarian Portland
X-ORIGINAL-URL:https://www.firstunitarianportland.org
X-WR-CALDESC:Events for First Unitarian Portland
REFRESH-INTERVAL;VALUE=DURATION:PT1H
X-Robots-Tag:noindex
X-PUBLISHED-TTL:PT1H
BEGIN:VTIMEZONE
TZID:America/Los_Angeles
BEGIN:DAYLIGHT
TZOFFSETFROM:-0800
TZOFFSETTO:-0700
TZNAME:PDT
DTSTART:20240310T100000
END:DAYLIGHT
BEGIN:STANDARD
TZOFFSETFROM:-0700
TZOFFSETTO:-0800
TZNAME:PST
DTSTART:20241103T090000
END:STANDARD
BEGIN:DAYLIGHT
TZOFFSETFROM:-0800
TZOFFSETTO:-0700
TZNAME:PDT
DTSTART:20250309T100000
END:DAYLIGHT
BEGIN:STANDARD
TZOFFSETFROM:-0700
TZOFFSETTO:-0800
TZNAME:PST
DTSTART:20251102T090000
END:STANDARD
BEGIN:DAYLIGHT
TZOFFSETFROM:-0800
TZOFFSETTO:-0700
TZNAME:PDT
DTSTART:20260308T100000
END:DAYLIGHT
BEGIN:STANDARD
TZOFFSETFROM:-0700
TZOFFSETTO:-0800
TZNAME:PST
DTSTART:20261101T090000
END:STANDARD
END:VTIMEZONE
BEGIN:VEVENT
DTSTART;TZID=America/Los_Angeles:20250930T180000
DTEND;TZID=America/Los_Angeles:20250930T190000
DTSTAMP:20260423T200108
CREATED:20250930T225804Z
LAST-MODIFIED:20250930T225804Z
UID:10001837-1759255200-1759258800@www.firstunitarianportland.org
SUMMARY:Know Your Rights Training
DESCRIPTION:A beginner’s introduction and a veteran’s refresher to the principles and practices of nonviolence\, knowing your rights as a protester\, and an overview of basic de-escalation techniques. Facilitated by engaging\, long-time activist\, and trainer Malcom Scott.\n\nRegistration required! Click here to RSVP.
URL:https://www.firstunitarianportland.org/event/know-your-rights-training/
LOCATION:Virtual
CATEGORIES:Program/Event,Social Justice
END:VEVENT
END:VCALENDAR