BEGIN:VCALENDAR
VERSION:2.0
PRODID:-//First Unitarian Portland - ECPv6.15.20//NONSGML v1.0//EN
CALSCALE:GREGORIAN
METHOD:PUBLISH
X-ORIGINAL-URL:https://www.firstunitarianportland.org
X-WR-CALDESC:Events for First Unitarian Portland
REFRESH-INTERVAL;VALUE=DURATION:PT1H
X-Robots-Tag:noindex
X-PUBLISHED-TTL:PT1H
BEGIN:VTIMEZONE
TZID:America/Los_Angeles
BEGIN:DAYLIGHT
TZOFFSETFROM:-0800
TZOFFSETTO:-0700
TZNAME:PDT
DTSTART:20240310T100000
END:DAYLIGHT
BEGIN:STANDARD
TZOFFSETFROM:-0700
TZOFFSETTO:-0800
TZNAME:PST
DTSTART:20241103T090000
END:STANDARD
BEGIN:DAYLIGHT
TZOFFSETFROM:-0800
TZOFFSETTO:-0700
TZNAME:PDT
DTSTART:20250309T100000
END:DAYLIGHT
BEGIN:STANDARD
TZOFFSETFROM:-0700
TZOFFSETTO:-0800
TZNAME:PST
DTSTART:20251102T090000
END:STANDARD
BEGIN:DAYLIGHT
TZOFFSETFROM:-0800
TZOFFSETTO:-0700
TZNAME:PDT
DTSTART:20260308T100000
END:DAYLIGHT
BEGIN:STANDARD
TZOFFSETFROM:-0700
TZOFFSETTO:-0800
TZNAME:PST
DTSTART:20261101T090000
END:STANDARD
END:VTIMEZONE
BEGIN:VEVENT
DTSTART;TZID=America/Los_Angeles:20250824T113000
DTEND;TZID=America/Los_Angeles:20250824T130000
DTSTAMP:20260423T231705
CREATED:20250807T184708Z
LAST-MODIFIED:20250807T184708Z
UID:10001701-1756035000-1756040400@www.firstunitarianportland.org
SUMMARY:Shower Project Open House
DESCRIPTION:Curious about our 13 Salmon Shower Project that our congregation runs weekly on Wednesdays and Thursdays in the lower level of the Buchan Building? Come to the Open House after church on Sunday\, August 24\, from 11:30 a.m. – 1 p.m. Meet us in the Buchan Reception Hall for snacks and a brief movie about the Shower Project. We’ll then head downstairs to tour our shower\, day room\, and clothing closet and experience the welcome our unhoused guests receive. The Open House is open to all – with stickers for the kids! The space is ADA accessible. \nIf you’d like to contribute to the Shower Project\, feel free to bring NEW men’s or women’s underwear (size M boxer briefs\, sports bras\, etc.) or USED clothes\, shoes\, and belts for the clothing closet. 
URL:https://www.firstunitarianportland.org/event/shower-project-open-house/
LOCATION:Buchan Hall\, 1226 SW Salmon St\, Portland\, OR\, 97205\, United States
CATEGORIES:Program/Event,Social Justice
END:VEVENT
END:VCALENDAR