BEGIN:VCALENDAR
VERSION:2.0
PRODID:-//First Unitarian Portland - ECPv6.15.20//NONSGML v1.0//EN
CALSCALE:GREGORIAN
METHOD:PUBLISH
X-ORIGINAL-URL:https://www.firstunitarianportland.org
X-WR-CALDESC:Events for First Unitarian Portland
REFRESH-INTERVAL;VALUE=DURATION:PT1H
X-Robots-Tag:noindex
X-PUBLISHED-TTL:PT1H
BEGIN:VTIMEZONE
TZID:America/Los_Angeles
BEGIN:DAYLIGHT
TZOFFSETFROM:-0800
TZOFFSETTO:-0700
TZNAME:PDT
DTSTART:20240310T100000
END:DAYLIGHT
BEGIN:STANDARD
TZOFFSETFROM:-0700
TZOFFSETTO:-0800
TZNAME:PST
DTSTART:20241103T090000
END:STANDARD
BEGIN:DAYLIGHT
TZOFFSETFROM:-0800
TZOFFSETTO:-0700
TZNAME:PDT
DTSTART:20250309T100000
END:DAYLIGHT
BEGIN:STANDARD
TZOFFSETFROM:-0700
TZOFFSETTO:-0800
TZNAME:PST
DTSTART:20251102T090000
END:STANDARD
BEGIN:DAYLIGHT
TZOFFSETFROM:-0800
TZOFFSETTO:-0700
TZNAME:PDT
DTSTART:20260308T100000
END:DAYLIGHT
BEGIN:STANDARD
TZOFFSETFROM:-0700
TZOFFSETTO:-0800
TZNAME:PST
DTSTART:20261101T090000
END:STANDARD
END:VTIMEZONE
BEGIN:VEVENT
DTSTART;TZID=America/Los_Angeles:20250506T190000
DTEND;TZID=America/Los_Angeles:20250506T203000
DTSTAMP:20260425T064443
CREATED:20250212T185210Z
LAST-MODIFIED:20250409T184221Z
UID:10001222-1746558000-1746563400@www.firstunitarianportland.org
SUMMARY:Opportunities to Help Our Immigrant Neighbors
DESCRIPTION:With the incoming administration\, we know that big changes are coming that will impact immigrant communities. We want to be informed\, prepared\, and ready for action. \nThe third of our forums on protecting immigrants in our communities (co-sponsored by IJAG and ARJAG) will explore different paths to active allyship with our immigrant neighbors\, whether as individuals or as a community. We want to be informed\, prepared\, and ready for action\, as the current administration’s attacks on immigrant populations continue. \n  \nOur Panelists: \n\nKeren Rodriquez – Interfaith Movement for Immigrant Justice (IMIrJ)\nParker Berger – Western Farm Workers Assn. (WFWA)\nBeth Ronk – Immigrant Mutual Aid Coalition (IMAC)\nRomeo Sosa – Portland Immigrant Rights Coalition (PIRC)\n\n  \nRegistration info can be found in the Front Steps e-news. \n  \nWatch Part 1 (January 28): Featuring VOZ Workers’ Rights Education Project\, Innovation Law Lab\, and Oregon for All Coalition. The recording of that session is available here on YouTube. \nWatch Part 2 (March 4): Featuring Ricki Ruiz (District 50 Oregon State Representative)\, Pineros y Campesinos Unidos del Noroeste (PCUN)\, and ACLU of Oregon. The recording of that session is available here on YouTube.
URL:https://www.firstunitarianportland.org/event/opportunities-to-help-our-immigrant-neighbors/
LOCATION:Virtual
CATEGORIES:Program/Event,Social Justice
END:VEVENT
END:VCALENDAR