BEGIN:VCALENDAR
VERSION:2.0
PRODID:-//First Unitarian Portland - ECPv6.15.20//NONSGML v1.0//EN
CALSCALE:GREGORIAN
METHOD:PUBLISH
X-ORIGINAL-URL:https://www.firstunitarianportland.org
X-WR-CALDESC:Events for First Unitarian Portland
REFRESH-INTERVAL;VALUE=DURATION:PT1H
X-Robots-Tag:noindex
X-PUBLISHED-TTL:PT1H
BEGIN:VTIMEZONE
TZID:America/Los_Angeles
BEGIN:DAYLIGHT
TZOFFSETFROM:-0800
TZOFFSETTO:-0700
TZNAME:PDT
DTSTART:20250309T100000
END:DAYLIGHT
BEGIN:STANDARD
TZOFFSETFROM:-0700
TZOFFSETTO:-0800
TZNAME:PST
DTSTART:20251102T090000
END:STANDARD
BEGIN:DAYLIGHT
TZOFFSETFROM:-0800
TZOFFSETTO:-0700
TZNAME:PDT
DTSTART:20260308T100000
END:DAYLIGHT
BEGIN:STANDARD
TZOFFSETFROM:-0700
TZOFFSETTO:-0800
TZNAME:PST
DTSTART:20261101T090000
END:STANDARD
BEGIN:DAYLIGHT
TZOFFSETFROM:-0800
TZOFFSETTO:-0700
TZNAME:PDT
DTSTART:20270314T100000
END:DAYLIGHT
BEGIN:STANDARD
TZOFFSETFROM:-0700
TZOFFSETTO:-0800
TZNAME:PST
DTSTART:20271107T090000
END:STANDARD
BEGIN:DAYLIGHT
TZOFFSETFROM:-0800
TZOFFSETTO:-0700
TZNAME:PDT
DTSTART:20280312T100000
END:DAYLIGHT
BEGIN:STANDARD
TZOFFSETFROM:-0700
TZOFFSETTO:-0800
TZNAME:PST
DTSTART:20281105T090000
END:STANDARD
END:VTIMEZONE
BEGIN:VEVENT
DTSTART;TZID=America/Los_Angeles:20260201T101500
DTEND;TZID=America/Los_Angeles:20260201T113000
DTSTAMP:20260423T150621
CREATED:20241127T213504Z
LAST-MODIFIED:20260210T222116Z
UID:10001370-1769940900-1769945400@www.firstunitarianportland.org
SUMMARY:🕯️ Sunday Worship
DESCRIPTION:In-person\nSanctuary\n1211 SW Main St.\nPortland\, OR 97205 \n  \nJoin us on livestream here
URL:https://www.firstunitarianportland.org/event/sunday-worship/2026-02-01/
LOCATION:Main Sanctuary\, 1211 SW Main St\, Portland\, OR\, 97205\, United States
CATEGORIES:Service
END:VEVENT
BEGIN:VEVENT
DTSTART;TZID=America/Los_Angeles:20260208T101500
DTEND;TZID=America/Los_Angeles:20260208T113000
DTSTAMP:20260423T150621
CREATED:20241127T213504Z
LAST-MODIFIED:20260210T222116Z
UID:10001371-1770545700-1770550200@www.firstunitarianportland.org
SUMMARY:🕯️ Sunday Worship
DESCRIPTION:In-person\nSanctuary\n1211 SW Main St.\nPortland\, OR 97205 \n  \nJoin us on livestream here
URL:https://www.firstunitarianportland.org/event/sunday-worship/2026-02-08/
LOCATION:Main Sanctuary\, 1211 SW Main St\, Portland\, OR\, 97205\, United States
CATEGORIES:Service
END:VEVENT
BEGIN:VEVENT
DTSTART;TZID=America/Los_Angeles:20260215T101500
DTEND;TZID=America/Los_Angeles:20260215T113000
DTSTAMP:20260423T150621
CREATED:20241127T213504Z
LAST-MODIFIED:20260210T222116Z
UID:10001372-1771150500-1771155000@www.firstunitarianportland.org
SUMMARY:🕯️ Sunday Worship
DESCRIPTION:In-person\nSanctuary\n1211 SW Main St.\nPortland\, OR 97205 \n  \nJoin us on livestream here
URL:https://www.firstunitarianportland.org/event/sunday-worship/2026-02-15/
LOCATION:Main Sanctuary\, 1211 SW Main St\, Portland\, OR\, 97205\, United States
CATEGORIES:Service
END:VEVENT
BEGIN:VEVENT
DTSTART;TZID=America/Los_Angeles:20260222T101500
DTEND;TZID=America/Los_Angeles:20260222T113000
DTSTAMP:20260423T150621
CREATED:20241127T213504Z
LAST-MODIFIED:20260210T222116Z
UID:10001373-1771755300-1771759800@www.firstunitarianportland.org
SUMMARY:🕯️ Sunday Worship
DESCRIPTION:In-person\nSanctuary\n1211 SW Main St.\nPortland\, OR 97205 \n  \nJoin us on livestream here
URL:https://www.firstunitarianportland.org/event/sunday-worship/2026-02-22/
LOCATION:Main Sanctuary\, 1211 SW Main St\, Portland\, OR\, 97205\, United States
CATEGORIES:Service
END:VEVENT
BEGIN:VEVENT
DTSTART;TZID=America/Los_Angeles:20260301T101500
DTEND;TZID=America/Los_Angeles:20260301T113000
DTSTAMP:20260423T150621
CREATED:20241127T213504Z
LAST-MODIFIED:20260210T222116Z
UID:10001374-1772360100-1772364600@www.firstunitarianportland.org
SUMMARY:🕯️ Sunday Worship
DESCRIPTION:In-person\nSanctuary\n1211 SW Main St.\nPortland\, OR 97205 \n  \nJoin us on livestream here
URL:https://www.firstunitarianportland.org/event/sunday-worship/2026-03-01/
LOCATION:Main Sanctuary\, 1211 SW Main St\, Portland\, OR\, 97205\, United States
CATEGORIES:Service
END:VEVENT
BEGIN:VEVENT
DTSTART;TZID=America/Los_Angeles:20260308T101500
DTEND;TZID=America/Los_Angeles:20260308T113000
DTSTAMP:20260423T150621
CREATED:20241127T213504Z
LAST-MODIFIED:20260210T222116Z
UID:10001375-1772964900-1772969400@www.firstunitarianportland.org
SUMMARY:🕯️ Sunday Worship
DESCRIPTION:In-person\nSanctuary\n1211 SW Main St.\nPortland\, OR 97205 \n  \nJoin us on livestream here
URL:https://www.firstunitarianportland.org/event/sunday-worship/2026-03-08/
LOCATION:Main Sanctuary\, 1211 SW Main St\, Portland\, OR\, 97205\, United States
CATEGORIES:Service
END:VEVENT
BEGIN:VEVENT
DTSTART;TZID=America/Los_Angeles:20260315T101500
DTEND;TZID=America/Los_Angeles:20260315T113000
DTSTAMP:20260423T150621
CREATED:20241127T213504Z
LAST-MODIFIED:20260210T222116Z
UID:10001376-1773569700-1773574200@www.firstunitarianportland.org
SUMMARY:🕯️ Sunday Worship
DESCRIPTION:In-person\nSanctuary\n1211 SW Main St.\nPortland\, OR 97205 \n  \nJoin us on livestream here
URL:https://www.firstunitarianportland.org/event/sunday-worship/2026-03-15/
LOCATION:Main Sanctuary\, 1211 SW Main St\, Portland\, OR\, 97205\, United States
CATEGORIES:Service
END:VEVENT
BEGIN:VEVENT
DTSTART;TZID=America/Los_Angeles:20260318T180000
DTEND;TZID=America/Los_Angeles:20260318T200000
DTSTAMP:20260423T150621
CREATED:20260310T143120Z
LAST-MODIFIED:20260311T215843Z
UID:10001919-1773856800-1773864000@www.firstunitarianportland.org
SUMMARY:🌎 Ostara Ritual
DESCRIPTION:Join Rev. Charlotte Cramer for a series of earth-based rituals following the Wheel of the Year. These rituals will be simple and accessible to all\, rooted in the earth and human experience\, and for any faith background or belief system. Click here for more information about the full series. \nOn Wednesday\, March 18\, we will be celebrating Ostara\, the Spring Equinox\, through honoring the lessons we have learned this past winter\, and sending out wishes for the coming season and reemergence of the sun. Welcome the return of light and the season of new growth with an earth-based\, simple yet transformative community ritual. \nPotluck to follow! Please bring your favorite dish. \nNote: This event will take place in Buchan Hall. Please enter through the Salmon Street entrance (1226 SW Salmon St).
URL:https://www.firstunitarianportland.org/event/ostara-2026/
LOCATION:Buchan Hall\, 1226 SW Salmon St\, Portland\, OR\, 97205\, United States
CATEGORIES:Service
END:VEVENT
BEGIN:VEVENT
DTSTART;TZID=America/Los_Angeles:20260322T101500
DTEND;TZID=America/Los_Angeles:20260322T113000
DTSTAMP:20260423T150621
CREATED:20241127T213504Z
LAST-MODIFIED:20260210T222116Z
UID:10001377-1774174500-1774179000@www.firstunitarianportland.org
SUMMARY:🕯️ Sunday Worship
DESCRIPTION:In-person\nSanctuary\n1211 SW Main St.\nPortland\, OR 97205 \n  \nJoin us on livestream here
URL:https://www.firstunitarianportland.org/event/sunday-worship/2026-03-22/
LOCATION:Main Sanctuary\, 1211 SW Main St\, Portland\, OR\, 97205\, United States
CATEGORIES:Service
END:VEVENT
BEGIN:VEVENT
DTSTART;TZID=America/Los_Angeles:20260329T101500
DTEND;TZID=America/Los_Angeles:20260329T113000
DTSTAMP:20260423T150621
CREATED:20241127T213504Z
LAST-MODIFIED:20260210T222116Z
UID:10001378-1774779300-1774783800@www.firstunitarianportland.org
SUMMARY:🕯️ Sunday Worship
DESCRIPTION:In-person\nSanctuary\n1211 SW Main St.\nPortland\, OR 97205 \n  \nJoin us on livestream here
URL:https://www.firstunitarianportland.org/event/sunday-worship/2026-03-29/
LOCATION:Main Sanctuary\, 1211 SW Main St\, Portland\, OR\, 97205\, United States
CATEGORIES:Service
END:VEVENT
BEGIN:VEVENT
DTSTART;TZID=America/Los_Angeles:20260405T101500
DTEND;TZID=America/Los_Angeles:20260405T113000
DTSTAMP:20260423T150621
CREATED:20241127T213504Z
LAST-MODIFIED:20260210T222116Z
UID:10001379-1775384100-1775388600@www.firstunitarianportland.org
SUMMARY:🕯️ Sunday Worship
DESCRIPTION:In-person\nSanctuary\n1211 SW Main St.\nPortland\, OR 97205 \n  \nJoin us on livestream here
URL:https://www.firstunitarianportland.org/event/sunday-worship/2026-04-05/
LOCATION:Main Sanctuary\, 1211 SW Main St\, Portland\, OR\, 97205\, United States
CATEGORIES:Service
END:VEVENT
BEGIN:VEVENT
DTSTART;TZID=America/Los_Angeles:20260412T101500
DTEND;TZID=America/Los_Angeles:20260412T113000
DTSTAMP:20260423T150621
CREATED:20241127T213504Z
LAST-MODIFIED:20260210T222116Z
UID:10001380-1775988900-1775993400@www.firstunitarianportland.org
SUMMARY:🕯️ Sunday Worship
DESCRIPTION:In-person\nSanctuary\n1211 SW Main St.\nPortland\, OR 97205 \n  \nJoin us on livestream here
URL:https://www.firstunitarianportland.org/event/sunday-worship/2026-04-12/
LOCATION:Main Sanctuary\, 1211 SW Main St\, Portland\, OR\, 97205\, United States
CATEGORIES:Service
END:VEVENT
BEGIN:VEVENT
DTSTART;TZID=America/Los_Angeles:20260419T101500
DTEND;TZID=America/Los_Angeles:20260419T113000
DTSTAMP:20260423T150621
CREATED:20241127T213504Z
LAST-MODIFIED:20260210T222116Z
UID:10001381-1776593700-1776598200@www.firstunitarianportland.org
SUMMARY:🕯️ Sunday Worship
DESCRIPTION:In-person\nSanctuary\n1211 SW Main St.\nPortland\, OR 97205 \n  \nJoin us on livestream here
URL:https://www.firstunitarianportland.org/event/sunday-worship/2026-04-19/
LOCATION:Main Sanctuary\, 1211 SW Main St\, Portland\, OR\, 97205\, United States
CATEGORIES:Service
END:VEVENT
BEGIN:VEVENT
DTSTART;TZID=America/Los_Angeles:20260426T101500
DTEND;TZID=America/Los_Angeles:20260426T113000
DTSTAMP:20260423T150621
CREATED:20241127T213504Z
LAST-MODIFIED:20260210T222116Z
UID:10001382-1777198500-1777203000@www.firstunitarianportland.org
SUMMARY:🕯️ Sunday Worship
DESCRIPTION:In-person\nSanctuary\n1211 SW Main St.\nPortland\, OR 97205 \n  \nJoin us on livestream here
URL:https://www.firstunitarianportland.org/event/sunday-worship/2026-04-26/
LOCATION:Main Sanctuary\, 1211 SW Main St\, Portland\, OR\, 97205\, United States
CATEGORIES:Service
END:VEVENT
BEGIN:VEVENT
DTSTART;TZID=America/Los_Angeles:20260429T180000
DTEND;TZID=America/Los_Angeles:20260429T190000
DTSTAMP:20260423T150621
CREATED:20260309T191731Z
LAST-MODIFIED:20260416T185555Z
UID:10001927-1777485600-1777489200@www.firstunitarianportland.org
SUMMARY:🌎 Beltane Ritual
DESCRIPTION:Join Rev. Charlotte Cramer for a series of earth-based rituals following the Wheel of the Year. These rituals will be simple and accessible to all\, rooted in the earth and human experience\, and for any faith background or belief system. Click here for more information about the full series. \nOn Wednesday\, April 29\, we will be celebrating the fullness of spring\, your goals for the summer\, and the joy of togetherness! \nNote: This service will take place in Buchan Hall. Please enter through our Salmon Street entrance at 1226 SW Salmon St.
URL:https://www.firstunitarianportland.org/event/beltane-2026/
LOCATION:Buchan Hall\, 1226 SW Salmon St\, Portland\, OR\, 97205\, United States
CATEGORIES:Service
END:VEVENT
BEGIN:VEVENT
DTSTART;TZID=America/Los_Angeles:20260503T101500
DTEND;TZID=America/Los_Angeles:20260503T113000
DTSTAMP:20260423T150621
CREATED:20241127T213504Z
LAST-MODIFIED:20260210T222116Z
UID:10001383-1777803300-1777807800@www.firstunitarianportland.org
SUMMARY:🕯️ Sunday Worship
DESCRIPTION:In-person\nSanctuary\n1211 SW Main St.\nPortland\, OR 97205 \n  \nJoin us on livestream here
URL:https://www.firstunitarianportland.org/event/sunday-worship/2026-05-03/
LOCATION:Main Sanctuary\, 1211 SW Main St\, Portland\, OR\, 97205\, United States
CATEGORIES:Service
END:VEVENT
BEGIN:VEVENT
DTSTART;TZID=America/Los_Angeles:20260510T101500
DTEND;TZID=America/Los_Angeles:20260510T113000
DTSTAMP:20260423T150621
CREATED:20241127T213504Z
LAST-MODIFIED:20260210T222116Z
UID:10001384-1778408100-1778412600@www.firstunitarianportland.org
SUMMARY:🕯️ Sunday Worship
DESCRIPTION:In-person\nSanctuary\n1211 SW Main St.\nPortland\, OR 97205 \n  \nJoin us on livestream here
URL:https://www.firstunitarianportland.org/event/sunday-worship/2026-05-10/
LOCATION:Main Sanctuary\, 1211 SW Main St\, Portland\, OR\, 97205\, United States
CATEGORIES:Service
END:VEVENT
BEGIN:VEVENT
DTSTART;TZID=America/Los_Angeles:20260517T101500
DTEND;TZID=America/Los_Angeles:20260517T113000
DTSTAMP:20260423T150621
CREATED:20241127T213504Z
LAST-MODIFIED:20260210T222116Z
UID:10001385-1779012900-1779017400@www.firstunitarianportland.org
SUMMARY:🕯️ Sunday Worship
DESCRIPTION:In-person\nSanctuary\n1211 SW Main St.\nPortland\, OR 97205 \n  \nJoin us on livestream here
URL:https://www.firstunitarianportland.org/event/sunday-worship/2026-05-17/
LOCATION:Main Sanctuary\, 1211 SW Main St\, Portland\, OR\, 97205\, United States
CATEGORIES:Service
END:VEVENT
BEGIN:VEVENT
DTSTART;TZID=America/Los_Angeles:20260524T101500
DTEND;TZID=America/Los_Angeles:20260524T113000
DTSTAMP:20260423T150621
CREATED:20241127T213504Z
LAST-MODIFIED:20260210T222116Z
UID:10001386-1779617700-1779622200@www.firstunitarianportland.org
SUMMARY:🕯️ Sunday Worship
DESCRIPTION:In-person\nSanctuary\n1211 SW Main St.\nPortland\, OR 97205 \n  \nJoin us on livestream here
URL:https://www.firstunitarianportland.org/event/sunday-worship/2026-05-24/
LOCATION:Main Sanctuary\, 1211 SW Main St\, Portland\, OR\, 97205\, United States
CATEGORIES:Service
END:VEVENT
BEGIN:VEVENT
DTSTART;TZID=America/Los_Angeles:20260531T101500
DTEND;TZID=America/Los_Angeles:20260531T113000
DTSTAMP:20260423T150621
CREATED:20241127T213504Z
LAST-MODIFIED:20260210T222116Z
UID:10001387-1780222500-1780227000@www.firstunitarianportland.org
SUMMARY:🕯️ Sunday Worship
DESCRIPTION:In-person\nSanctuary\n1211 SW Main St.\nPortland\, OR 97205 \n  \nJoin us on livestream here
URL:https://www.firstunitarianportland.org/event/sunday-worship/2026-05-31/
LOCATION:Main Sanctuary\, 1211 SW Main St\, Portland\, OR\, 97205\, United States
CATEGORIES:Service
END:VEVENT
BEGIN:VEVENT
DTSTART;TZID=America/Los_Angeles:20260607T101500
DTEND;TZID=America/Los_Angeles:20260607T113000
DTSTAMP:20260423T150621
CREATED:20260217T223653Z
LAST-MODIFIED:20260217T223732Z
UID:10001388-1780827300-1780831800@www.firstunitarianportland.org
SUMMARY:Sunday Worship: Flower Communion! 🌼
DESCRIPTION:In-person\nSanctuary\n1211 SW Main St.\nPortland\, OR 97205 \n  \nJoin us on livestream here
URL:https://www.firstunitarianportland.org/event/flower-communion-2026/
LOCATION:Main Sanctuary\, 1211 SW Main St\, Portland\, OR\, 97205\, United States
CATEGORIES:Service
END:VEVENT
BEGIN:VEVENT
DTSTART;TZID=America/Los_Angeles:20260614T101500
DTEND;TZID=America/Los_Angeles:20260614T113000
DTSTAMP:20260423T150621
CREATED:20241127T213504Z
LAST-MODIFIED:20260210T222116Z
UID:10001389-1781432100-1781436600@www.firstunitarianportland.org
SUMMARY:🕯️ Sunday Worship
DESCRIPTION:In-person\nSanctuary\n1211 SW Main St.\nPortland\, OR 97205 \n  \nJoin us on livestream here
URL:https://www.firstunitarianportland.org/event/sunday-worship/2026-06-14/
LOCATION:Main Sanctuary\, 1211 SW Main St\, Portland\, OR\, 97205\, United States
CATEGORIES:Service
END:VEVENT
BEGIN:VEVENT
DTSTART;TZID=America/Los_Angeles:20260624T180000
DTEND;TZID=America/Los_Angeles:20260624T200000
DTSTAMP:20260423T150621
CREATED:20260310T143531Z
LAST-MODIFIED:20260310T234050Z
UID:10001928-1782324000-1782331200@www.firstunitarianportland.org
SUMMARY:🌎 Litha Ritual
DESCRIPTION:Join Rev. Charlotte Cramer for a series of earth-based rituals following the Wheel of the Year. These rituals will be simple and accessible to all\, rooted in the earth and human experience\, and for any faith background or belief system. Click here for more information about the full series. \nNote: This service will take place in Buchan Hall.
URL:https://www.firstunitarianportland.org/event/litha-2026/
LOCATION:Buchan Hall\, 1226 SW Salmon St\, Portland\, OR\, 97205\, United States
CATEGORIES:Service
END:VEVENT
BEGIN:VEVENT
DTSTART;TZID=America/Los_Angeles:20260729T180000
DTEND;TZID=America/Los_Angeles:20260729T200000
DTSTAMP:20260423T150621
CREATED:20260310T143712Z
LAST-MODIFIED:20260310T234003Z
UID:10001922-1785348000-1785355200@www.firstunitarianportland.org
SUMMARY:🌎 Lughnasa Ritual
DESCRIPTION:Join Rev. Charlotte Cramer for a series of earth-based rituals following the Wheel of the Year. These rituals will be simple and accessible to all\, rooted in the earth and human experience\, and for any faith background or belief system. Click here for more information about the full series. \nNote: This service will take place in Buchan Hall.
URL:https://www.firstunitarianportland.org/event/lughnasa-2026/
LOCATION:Buchan Hall\, 1226 SW Salmon St\, Portland\, OR\, 97205\, United States
CATEGORIES:Service
END:VEVENT
BEGIN:VEVENT
DTSTART;TZID=America/Los_Angeles:20260923T180000
DTEND;TZID=America/Los_Angeles:20260923T200000
DTSTAMP:20260423T150621
CREATED:20260310T143818Z
LAST-MODIFIED:20260310T234623Z
UID:10001923-1790186400-1790193600@www.firstunitarianportland.org
SUMMARY:🌎 Mabon Ritual
DESCRIPTION:Join Rev. Charlotte Cramer for a series of earth-based rituals following the Wheel of the Year. These rituals will be simple and accessible to all\, rooted in the earth and human experience\, and for any faith background or belief system. Click here for more information about the full series. \nNote: This service will take place in Buchan Hall.
URL:https://www.firstunitarianportland.org/event/mabon-2026/
LOCATION:Buchan Hall\, 1226 SW Salmon St\, Portland\, OR\, 97205\, United States
CATEGORIES:Service
END:VEVENT
BEGIN:VEVENT
DTSTART;TZID=America/Los_Angeles:20261028T180000
DTEND;TZID=America/Los_Angeles:20261028T200000
DTSTAMP:20260423T150621
CREATED:20260310T144023Z
LAST-MODIFIED:20260310T233930Z
UID:10001924-1793210400-1793217600@www.firstunitarianportland.org
SUMMARY:🌎 Samhain Ritual
DESCRIPTION:Join Rev. Charlotte Cramer for a series of earth-based rituals following the Wheel of the Year. These rituals will be simple and accessible to all\, rooted in the earth and human experience\, and for any faith background or belief system. Click here for more information about the full series. \nNote: This service will take place in Buchan Hall.
URL:https://www.firstunitarianportland.org/event/samhain-2026/
LOCATION:Buchan Hall\, 1226 SW Salmon St\, Portland\, OR\, 97205\, United States
CATEGORIES:Service
END:VEVENT
BEGIN:VEVENT
DTSTART;TZID=America/Los_Angeles:20261223T180000
DTEND;TZID=America/Los_Angeles:20261223T200000
DTSTAMP:20260423T150621
CREATED:20260310T144122Z
LAST-MODIFIED:20260310T234317Z
UID:10001925-1798048800-1798056000@www.firstunitarianportland.org
SUMMARY:🌎 Winter Solstice Service
DESCRIPTION:Join Rev. Charlotte Cramer for a series of earth-based rituals following the Wheel of the Year. These rituals will be simple and accessible to all\, rooted in the earth and human experience\, and for any faith background or belief system. Click here for more information about the full series. \nNote: This service will take place in Eliot Chapel.
URL:https://www.firstunitarianportland.org/event/winter-solstice-2026/
LOCATION:Eliot Chapel\, 1011 SW 12th Ave\, Portland\, OR\, 97205
CATEGORIES:Service
END:VEVENT
BEGIN:VEVENT
DTSTART;TZID=America/Los_Angeles:20270203T180000
DTEND;TZID=America/Los_Angeles:20270203T200000
DTSTAMP:20260423T150621
CREATED:20260310T233503Z
LAST-MODIFIED:20260310T234249Z
UID:10001929-1801677600-1801684800@www.firstunitarianportland.org
SUMMARY:🌎 Imbolc Ritual
DESCRIPTION:Join Rev. Charlotte Cramer for a series of earth-based rituals following the Wheel of the Year. These rituals will be simple and accessible to all\, rooted in the earth and human experience\, and for any faith background or belief system. Click here for more information about the full series. \nNote: This service will take place in Buchan Hall.
URL:https://www.firstunitarianportland.org/event/imbolc-2027/
LOCATION:Buchan Hall\, 1226 SW Salmon St\, Portland\, OR\, 97205\, United States
CATEGORIES:Service
END:VEVENT
END:VCALENDAR