BEGIN:VCALENDAR
VERSION:2.0
PRODID:-//First Unitarian Portland - ECPv6.15.20//NONSGML v1.0//EN
CALSCALE:GREGORIAN
METHOD:PUBLISH
X-ORIGINAL-URL:https://www.firstunitarianportland.org
X-WR-CALDESC:Events for First Unitarian Portland
REFRESH-INTERVAL;VALUE=DURATION:PT1H
X-Robots-Tag:noindex
X-PUBLISHED-TTL:PT1H
BEGIN:VTIMEZONE
TZID:America/Los_Angeles
BEGIN:DAYLIGHT
TZOFFSETFROM:-0800
TZOFFSETTO:-0700
TZNAME:PDT
DTSTART:20240310T100000
END:DAYLIGHT
BEGIN:STANDARD
TZOFFSETFROM:-0700
TZOFFSETTO:-0800
TZNAME:PST
DTSTART:20241103T090000
END:STANDARD
BEGIN:DAYLIGHT
TZOFFSETFROM:-0800
TZOFFSETTO:-0700
TZNAME:PDT
DTSTART:20250309T100000
END:DAYLIGHT
BEGIN:STANDARD
TZOFFSETFROM:-0700
TZOFFSETTO:-0800
TZNAME:PST
DTSTART:20251102T090000
END:STANDARD
BEGIN:DAYLIGHT
TZOFFSETFROM:-0800
TZOFFSETTO:-0700
TZNAME:PDT
DTSTART:20260308T100000
END:DAYLIGHT
BEGIN:STANDARD
TZOFFSETFROM:-0700
TZOFFSETTO:-0800
TZNAME:PST
DTSTART:20261101T090000
END:STANDARD
END:VTIMEZONE
BEGIN:VEVENT
DTSTART;TZID=America/Los_Angeles:20250921T090000
DTEND;TZID=America/Los_Angeles:20250921T100000
DTSTAMP:20260424T081320
CREATED:20250827T212039Z
LAST-MODIFIED:20250827T212202Z
UID:10001772-1758445200-1758448800@www.firstunitarianportland.org
SUMMARY:*Registration Required* Autumn Yoga
DESCRIPTION:We will have yoga classes led by our own Ginny K. on September 7 and 21 before service at 9 a.m. in room A108. LIMIT of 15 participants. First come\, first served. We release the sign-up form through our Front Steps e-news. \nPlease bring your own yoga mat and water bottle. Wear clothing appropriate for yoga and then join the congregation for Sunday service at 10:15 a.m.
URL:https://www.firstunitarianportland.org/event/autumn-yoga/2025-09-21/
LOCATION:Classroom A108
CATEGORIES:Gathering & Connection,Program/Event
END:VEVENT
END:VCALENDAR