BEGIN:VCALENDAR
VERSION:2.0
PRODID:-//First Unitarian Portland - ECPv6.15.20//NONSGML v1.0//EN
CALSCALE:GREGORIAN
METHOD:PUBLISH
X-WR-CALNAME:First Unitarian Portland
X-ORIGINAL-URL:https://www.firstunitarianportland.org
X-WR-CALDESC:Events for First Unitarian Portland
REFRESH-INTERVAL;VALUE=DURATION:PT1H
X-Robots-Tag:noindex
X-PUBLISHED-TTL:PT1H
BEGIN:VTIMEZONE
TZID:America/Los_Angeles
BEGIN:DAYLIGHT
TZOFFSETFROM:-0800
TZOFFSETTO:-0700
TZNAME:PDT
DTSTART:20240310T100000
END:DAYLIGHT
BEGIN:STANDARD
TZOFFSETFROM:-0700
TZOFFSETTO:-0800
TZNAME:PST
DTSTART:20241103T090000
END:STANDARD
BEGIN:DAYLIGHT
TZOFFSETFROM:-0800
TZOFFSETTO:-0700
TZNAME:PDT
DTSTART:20250309T100000
END:DAYLIGHT
BEGIN:STANDARD
TZOFFSETFROM:-0700
TZOFFSETTO:-0800
TZNAME:PST
DTSTART:20251102T090000
END:STANDARD
BEGIN:DAYLIGHT
TZOFFSETFROM:-0800
TZOFFSETTO:-0700
TZNAME:PDT
DTSTART:20260308T100000
END:DAYLIGHT
BEGIN:STANDARD
TZOFFSETFROM:-0700
TZOFFSETTO:-0800
TZNAME:PST
DTSTART:20261101T090000
END:STANDARD
END:VTIMEZONE
BEGIN:VEVENT
DTSTART;TZID=America/Los_Angeles:20250903T103000
DTEND;TZID=America/Los_Angeles:20250903T140000
DTSTAMP:20260424T010124
CREATED:20250821T010559Z
LAST-MODIFIED:20250821T010559Z
UID:10001703-1756895400-1756908000@www.firstunitarianportland.org
SUMMARY:The Alliance Presents "Weaving Together Through Storytelling"
DESCRIPTION:Kelly Clendenon will show and discuss “Helpers\,” a new documentary that weaves his story of recovering from addiction and incarceration with the inspiring work of the 13 Salmon Shower Project. His film addresses the twin crises of fentanyl addiction and homelessness. Told through the lens of Kelly’s personal journey and people working on the frontlines in Portland. \nBring your lunch for after the program. Email AllianceRSVP@firstunitarianportland.org to join for the dessert ($5).
URL:https://www.firstunitarianportland.org/event/the-alliance-presents-weaving-together-through-storytelling/
LOCATION:Eliot Chapel\, 1011 SW 12th Ave\, Portland\, OR\, 97205
CATEGORIES:Program/Event
END:VEVENT
END:VCALENDAR