BEGIN:VCALENDAR
VERSION:2.0
PRODID:-//First Unitarian Portland - ECPv6.15.20//NONSGML v1.0//EN
CALSCALE:GREGORIAN
METHOD:PUBLISH
X-WR-CALNAME:First Unitarian Portland
X-ORIGINAL-URL:https://www.firstunitarianportland.org
X-WR-CALDESC:Events for First Unitarian Portland
REFRESH-INTERVAL;VALUE=DURATION:PT1H
X-Robots-Tag:noindex
X-PUBLISHED-TTL:PT1H
BEGIN:VTIMEZONE
TZID:America/Los_Angeles
BEGIN:DAYLIGHT
TZOFFSETFROM:-0800
TZOFFSETTO:-0700
TZNAME:PDT
DTSTART:20250309T100000
END:DAYLIGHT
BEGIN:STANDARD
TZOFFSETFROM:-0700
TZOFFSETTO:-0800
TZNAME:PST
DTSTART:20251102T090000
END:STANDARD
BEGIN:DAYLIGHT
TZOFFSETFROM:-0800
TZOFFSETTO:-0700
TZNAME:PDT
DTSTART:20260308T100000
END:DAYLIGHT
BEGIN:STANDARD
TZOFFSETFROM:-0700
TZOFFSETTO:-0800
TZNAME:PST
DTSTART:20261101T090000
END:STANDARD
BEGIN:DAYLIGHT
TZOFFSETFROM:-0800
TZOFFSETTO:-0700
TZNAME:PDT
DTSTART:20270314T100000
END:DAYLIGHT
BEGIN:STANDARD
TZOFFSETFROM:-0700
TZOFFSETTO:-0800
TZNAME:PST
DTSTART:20271107T090000
END:STANDARD
END:VTIMEZONE
BEGIN:VEVENT
DTSTART;TZID=America/Los_Angeles:20260419T114500
DTEND;TZID=America/Los_Angeles:20260419T133000
DTSTAMP:20260423T111513
CREATED:20260410T175404Z
LAST-MODIFIED:20260410T175404Z
UID:10001936-1776599100-1776605400@www.firstunitarianportland.org
SUMMARY:FUSE Forum: We All Need a Village
DESCRIPTION:We All Need a Village: Weaving Community as We Age \nJoin panelists from NW Villages to discuss aging in place and solo aging. Snacks & beverages provided. \nFirst Unitarian’s Senior Engagement (FUSE) works to increase meaningful connections\, help members experiencing loneliness\, and enhance the spiritual well-being and centeredness of members.
URL:https://www.firstunitarianportland.org/event/fuse-forum-we-all-need-a-village/
LOCATION:Buchan Hall\, 1226 SW Salmon St\, Portland\, OR\, 97205\, United States
CATEGORIES:Gathering & Connection,Program/Event
END:VEVENT
BEGIN:VEVENT
DTSTART;TZID=America/Los_Angeles:20260425T130000
DTEND;TZID=America/Los_Angeles:20260425T163000
DTSTAMP:20260423T111513
CREATED:20260402T213703Z
LAST-MODIFIED:20260402T213703Z
UID:10001935-1777122000-1777134600@www.firstunitarianportland.org
SUMMARY:2026 Sewell Social Justice Lecture: AI as a Tool for Oppression and for Resistance & Liberation
DESCRIPTION:Sylvester Johnson explores AI as a force that can entrench systemic control or catalyze human agency. Lecture 1pm; Optional Workshop 3pm. \n Register here!\n\n\nAI as a Tool for Oppression and for Resistance & Liberation: \nLecture: 1-2:30 pm \nJoin us in person to explore how AI can be both a force of control and a powerful ally in the fight for freedom. Dr. Johnson will dive into the ways technology shapes society\, from surveillance to activism\, and discuss how to harness AI for positive change. \nOptional Workshop: 3-4:30 pm \nPlease join us for Dr. Johnson’s optional workshop after the lecture. We’ll explore more deeply the implications of AI for social justice and identify ways to take action in our communities. \nSummary: \nAI introduces profound risks to privacy\, the integrity of information\, and collective well-being. We will critically examine the tension between state-sponsored surveillance\, which poses an existential threat to civil liberties\, and the rise of democratized civic technology fueled by the plummeting costs of computing and expanding access to information. Ultimately\, Dr. Johnson details the building of an automated infrastructure of oppression and how we can leverage these powerful tools to create a new era of resistance and liberation. \n 
URL:https://www.firstunitarianportland.org/event/2026-sewell/
LOCATION:Main Sanctuary\, 1211 SW Main St\, Portland\, OR\, 97205\, United States
CATEGORIES:Program/Event,Social Justice
END:VEVENT
BEGIN:VEVENT
DTSTART;TZID=America/Los_Angeles:20260428T173000
DTEND;TZID=America/Los_Angeles:20260428T200000
DTSTAMP:20260423T111513
CREATED:20260416T183654Z
LAST-MODIFIED:20260416T184110Z
UID:10001937-1777397400-1777406400@www.firstunitarianportland.org
SUMMARY:Rumble on the River Data Centers Forum
DESCRIPTION:As a follow up to our Sewell Lecture about AI as a Tool for Oppression and for Resistance & Liberation\, First Unitarian is hosting a session on data centers in Oregon. Aside from providing limited long-term employment opportunities and receiving tax breaks\, data centers demand extreme amounts of water\, energy and land. \nThe excellent panel includes Klickitat Chief Wilbur Slockish\, John DeVoe from WaterWatch\, Kaleb Lay from Oregon Rural Action\, Nellie McAdams from Oregon Agricultural Trust\, Kelsey Shaw Nakama from Tualatin Riverkeepers\, and Jody Wiser from Tax Fairness Oregon. Moderator: Barbara Bernstein\, Filmmaker and host of KBOO Radio’s Locus Focus. \nDoors open at 5:30 p.m. for tabling. Session begins at 6:30 p.m.
URL:https://www.firstunitarianportland.org/event/rumble-on-the-river-data-centers-forum/
LOCATION:Main Sanctuary\, 1211 SW Main St\, Portland\, OR\, 97205\, United States
CATEGORIES:Program/Event,Social Justice
END:VEVENT
BEGIN:VEVENT
DTSTART;TZID=America/Los_Angeles:20260513T173000
DTEND;TZID=America/Los_Angeles:20260513T193000
DTSTAMP:20260423T111513
CREATED:20251016T224218Z
LAST-MODIFIED:20251107T013603Z
UID:10001864-1778693400-1778700600@www.firstunitarianportland.org
SUMMARY:*Registration Closed* Journey to Articulating Your Faith
DESCRIPTION:A Spiritual Development Opportunity for Adults of All Ages \nJoin Rev. Alison and Rev. Tom for an 8-session course of theological exploration and discovery. Together\, we will trace our spiritual paths\, explore our understandings of the sacred\, human nature\, and religious practice\, and develop our personal credos: an expression of our most sacred beliefs and fundamental values that guide our lives. We will also get a chance to learn a little more about Unitarian Universalist history and build community with one another! \n**Registration is now closed.** \nSchedule: 5:30 – 7:30 p.m. on November 12\, December 10\, January 14\, February 11\, March 11\, April 8\, May 13\, and June 10.
URL:https://www.firstunitarianportland.org/event/journey-to-articulating-your-faith-all-adults/2026-05-13/
LOCATION:OR
CATEGORIES:Program/Event
END:VEVENT
BEGIN:VEVENT
DTSTART;TZID=America/Los_Angeles:20260610T173000
DTEND;TZID=America/Los_Angeles:20260610T193000
DTSTAMP:20260423T111513
CREATED:20251016T224218Z
LAST-MODIFIED:20251107T013603Z
UID:10001865-1781112600-1781119800@www.firstunitarianportland.org
SUMMARY:*Registration Closed* Journey to Articulating Your Faith
DESCRIPTION:A Spiritual Development Opportunity for Adults of All Ages \nJoin Rev. Alison and Rev. Tom for an 8-session course of theological exploration and discovery. Together\, we will trace our spiritual paths\, explore our understandings of the sacred\, human nature\, and religious practice\, and develop our personal credos: an expression of our most sacred beliefs and fundamental values that guide our lives. We will also get a chance to learn a little more about Unitarian Universalist history and build community with one another! \n**Registration is now closed.** \nSchedule: 5:30 – 7:30 p.m. on November 12\, December 10\, January 14\, February 11\, March 11\, April 8\, May 13\, and June 10.
URL:https://www.firstunitarianportland.org/event/journey-to-articulating-your-faith-all-adults/2026-06-10/
LOCATION:OR
CATEGORIES:Program/Event
END:VEVENT
BEGIN:VEVENT
DTSTART;TZID=America/Los_Angeles:20260613T140000
DTEND;TZID=America/Los_Angeles:20260613T160000
DTSTAMP:20260423T111513
CREATED:20260423T180502Z
LAST-MODIFIED:20260423T180502Z
UID:10001939-1781359200-1781366400@www.firstunitarianportland.org
SUMMARY:Ordination of Jennifer Springsteen
DESCRIPTION:You are joyfully invited to the ordination of Jennifer Springsteen as a Minister in the Unitarian Universalist tradition.\n\nOrdination is an important and sacred tradition in our faith. The decision for First Unitarian Portland and Unitarian Universalist Church of Vancouver to ordain Jennifer represents their faith and support for her ministry. Friends\, colleagues\, and community members are welcome to join in this support and celebration!\n\nReception to follow in Buchan Hall.\n\nTo register\, click here.
URL:https://www.firstunitarianportland.org/event/ordination-of-jennifer-springsteen/
LOCATION:Eliot Chapel\, 1011 SW 12th Ave\, Portland\, OR\, 97205
CATEGORIES:Program/Event
END:VEVENT
END:VCALENDAR