BEGIN:VCALENDAR
VERSION:2.0
PRODID:-//First Unitarian Portland - ECPv6.15.20//NONSGML v1.0//EN
CALSCALE:GREGORIAN
METHOD:PUBLISH
X-WR-CALNAME:First Unitarian Portland
X-ORIGINAL-URL:https://www.firstunitarianportland.org
X-WR-CALDESC:Events for First Unitarian Portland
REFRESH-INTERVAL;VALUE=DURATION:PT1H
X-Robots-Tag:noindex
X-PUBLISHED-TTL:PT1H
BEGIN:VTIMEZONE
TZID:America/Los_Angeles
BEGIN:DAYLIGHT
TZOFFSETFROM:-0800
TZOFFSETTO:-0700
TZNAME:PDT
DTSTART:20240310T100000
END:DAYLIGHT
BEGIN:STANDARD
TZOFFSETFROM:-0700
TZOFFSETTO:-0800
TZNAME:PST
DTSTART:20241103T090000
END:STANDARD
BEGIN:DAYLIGHT
TZOFFSETFROM:-0800
TZOFFSETTO:-0700
TZNAME:PDT
DTSTART:20250309T100000
END:DAYLIGHT
BEGIN:STANDARD
TZOFFSETFROM:-0700
TZOFFSETTO:-0800
TZNAME:PST
DTSTART:20251102T090000
END:STANDARD
BEGIN:DAYLIGHT
TZOFFSETFROM:-0800
TZOFFSETTO:-0700
TZNAME:PDT
DTSTART:20260308T100000
END:DAYLIGHT
BEGIN:STANDARD
TZOFFSETFROM:-0700
TZOFFSETTO:-0800
TZNAME:PST
DTSTART:20261101T090000
END:STANDARD
END:VTIMEZONE
BEGIN:VEVENT
DTSTART;TZID=America/Los_Angeles:20251030T190000
DTEND;TZID=America/Los_Angeles:20251030T210000
DTSTAMP:20260423T153801
CREATED:20251015T001504Z
LAST-MODIFIED:20251015T001504Z
UID:10001851-1761850800-1761858000@www.firstunitarianportland.org
SUMMARY:Targeting Doctors in Gaza: Breaking the Silence
DESCRIPTION:Join us for a vigil for murdered Palestinian health care workers\, followed by a screening of Jan Haaken’s short film\, “SUMUD: A Doctor’s Report on Genocide and Survival in Gaza\,” and a presentation and Q&A with Dr. Travis Meleen on his experiences in Gaza in summer 2025. \nDoors open at 6:30 p.m. $5 – 20 suggested donation; no one turned away for lack of funds. \nTo learn more\, visit the Facebook event. \nHosted by Nadia Hasan\, Beaverton City Councilor. Co-sponsored by our Economic Justice Action Group\, Peace Action Group\, and UUs for Justice in the Middle East\, as well as Americans United for Palestinian Human Rights\, Jewish-Palestinian Alliance of Oregon\, Oregon Physicians for Social Responsibility\, Portland for Palestine\, and Veterans for Peace.
URL:https://www.firstunitarianportland.org/event/targeting-doctors-in-gaza/
LOCATION:Eliot Chapel\, 1011 SW 12th Ave\, Portland\, OR\, 97205
CATEGORIES:Program/Event,Social Justice
END:VEVENT
END:VCALENDAR