BEGIN:VCALENDAR
VERSION:2.0
PRODID:-//First Unitarian Portland - ECPv6.15.20//NONSGML v1.0//EN
CALSCALE:GREGORIAN
METHOD:PUBLISH
X-WR-CALNAME:First Unitarian Portland
X-ORIGINAL-URL:https://www.firstunitarianportland.org
X-WR-CALDESC:Events for First Unitarian Portland
REFRESH-INTERVAL;VALUE=DURATION:PT1H
X-Robots-Tag:noindex
X-PUBLISHED-TTL:PT1H
BEGIN:VTIMEZONE
TZID:America/Los_Angeles
BEGIN:DAYLIGHT
TZOFFSETFROM:-0800
TZOFFSETTO:-0700
TZNAME:PDT
DTSTART:20240310T100000
END:DAYLIGHT
BEGIN:STANDARD
TZOFFSETFROM:-0700
TZOFFSETTO:-0800
TZNAME:PST
DTSTART:20241103T090000
END:STANDARD
BEGIN:DAYLIGHT
TZOFFSETFROM:-0800
TZOFFSETTO:-0700
TZNAME:PDT
DTSTART:20250309T100000
END:DAYLIGHT
BEGIN:STANDARD
TZOFFSETFROM:-0700
TZOFFSETTO:-0800
TZNAME:PST
DTSTART:20251102T090000
END:STANDARD
BEGIN:DAYLIGHT
TZOFFSETFROM:-0800
TZOFFSETTO:-0700
TZNAME:PDT
DTSTART:20260308T100000
END:DAYLIGHT
BEGIN:STANDARD
TZOFFSETFROM:-0700
TZOFFSETTO:-0800
TZNAME:PST
DTSTART:20261101T090000
END:STANDARD
END:VTIMEZONE
BEGIN:VEVENT
DTSTART;TZID=America/Los_Angeles:20251027T100000
DTEND;TZID=America/Los_Angeles:20251027T120000
DTSTAMP:20260423T165403
CREATED:20250908T190519Z
LAST-MODIFIED:20250923T193437Z
UID:10001793-1761559200-1761566400@www.firstunitarianportland.org
SUMMARY:*Registration Closed* Writing Life Stories
DESCRIPTION:We all have stories to tell — perhaps big and important events and accomplishments\, or small and quiet everyday happenings that give life meaning. \nJoin fellow congregants to begin or continue writing the narratives of our lives. We will write together\, share if desired\, and create connections with one another through our stories. All levels of writing experience and those with works in progress are welcome. \nDates: September 29\, October 13 and 27\, and November 10 \nPlease commit to all sessions. Class is limited to 12. \nRegistration is now closed! \nFor questions\, email facilitator Jennifer O.
URL:https://www.firstunitarianportland.org/event/writing-life-stories/2025-10-27/
LOCATION:Buchan Hall\, 1226 SW Salmon St\, Portland\, OR\, 97205\, United States
CATEGORIES:Program/Event
END:VEVENT
END:VCALENDAR