BEGIN:VCALENDAR
VERSION:2.0
PRODID:-//First Unitarian Portland - ECPv6.15.20//NONSGML v1.0//EN
CALSCALE:GREGORIAN
METHOD:PUBLISH
X-ORIGINAL-URL:https://www.firstunitarianportland.org
X-WR-CALDESC:Events for First Unitarian Portland
REFRESH-INTERVAL;VALUE=DURATION:PT1H
X-Robots-Tag:noindex
X-PUBLISHED-TTL:PT1H
BEGIN:VTIMEZONE
TZID:America/Los_Angeles
BEGIN:DAYLIGHT
TZOFFSETFROM:-0800
TZOFFSETTO:-0700
TZNAME:PDT
DTSTART:20240310T100000
END:DAYLIGHT
BEGIN:STANDARD
TZOFFSETFROM:-0700
TZOFFSETTO:-0800
TZNAME:PST
DTSTART:20241103T090000
END:STANDARD
BEGIN:DAYLIGHT
TZOFFSETFROM:-0800
TZOFFSETTO:-0700
TZNAME:PDT
DTSTART:20250309T100000
END:DAYLIGHT
BEGIN:STANDARD
TZOFFSETFROM:-0700
TZOFFSETTO:-0800
TZNAME:PST
DTSTART:20251102T090000
END:STANDARD
BEGIN:DAYLIGHT
TZOFFSETFROM:-0800
TZOFFSETTO:-0700
TZNAME:PDT
DTSTART:20260308T100000
END:DAYLIGHT
BEGIN:STANDARD
TZOFFSETFROM:-0700
TZOFFSETTO:-0800
TZNAME:PST
DTSTART:20261101T090000
END:STANDARD
END:VTIMEZONE
BEGIN:VEVENT
DTSTART;TZID=America/Los_Angeles:20250225T183000
DTEND;TZID=America/Los_Angeles:20250225T200000
DTSTAMP:20260425T084932
CREATED:20250212T184830Z
LAST-MODIFIED:20250212T184830Z
UID:10001281-1740508200-1740513600@www.firstunitarianportland.org
SUMMARY:Learn about Activism for Peace in the Middle East
DESCRIPTION:Are you disturbed by the ongoing Israeli bombardment of Gaza with over 50\,000 Palestinians killed and rampant human rights violations? Are you upset about the billions of United States dollars in unconditional military aid to Israel? Were you appalled by President Trump’s call for ethnic cleansing of Palestinians from Gaza? Are you ready to learn what UUs can do to work for peace and human rights in Palestine/Israel? \nIf the answer to any of these questions is yes\, we hope you will join us on Tuesday\, February 25th to learn about Unitarian Universalists for Justice in the Middle East (UUJME) and how we can take action together. UUJME was founded in 1971 to educate and mobilize UUs to greater understanding and action for a just peace in Palestine/Israel.  There are over 12 UUJME chapters with over 2\,000 members. \nIn June of 2024\, the UUA General Assembly adopted an Action of Immediate Witness (AIW) called Solidarity with Palestinians. Our work is made more urgent by the calls for ethnic cleansing in Gaza and the increase in violence and forced removal of Palestinians in the West Bank. We hope that you will join our efforts in alignment with this denominational call to action. \nJoin us on February 25th to learn more about UUJME and to get to know other congregants who are seeking community as we work for peace and human rights.  Let us know if you are coming\, or if you can’t come but want to stay informed\, by filling out this RSVP.
URL:https://www.firstunitarianportland.org/event/learn-about-activism-for-peace-in-the-middle-east/
LOCATION:Buchan Hall\, 1226 SW Salmon St\, Portland\, OR\, 97205\, United States
CATEGORIES:Program/Event,Social Justice
END:VEVENT
END:VCALENDAR