BEGIN:VCALENDAR
VERSION:2.0
PRODID:-//First Unitarian Portland - ECPv6.15.20//NONSGML v1.0//EN
CALSCALE:GREGORIAN
METHOD:PUBLISH
X-ORIGINAL-URL:https://www.firstunitarianportland.org
X-WR-CALDESC:Events for First Unitarian Portland
REFRESH-INTERVAL;VALUE=DURATION:PT1H
X-Robots-Tag:noindex
X-PUBLISHED-TTL:PT1H
BEGIN:VTIMEZONE
TZID:America/Los_Angeles
BEGIN:DAYLIGHT
TZOFFSETFROM:-0800
TZOFFSETTO:-0700
TZNAME:PDT
DTSTART:20250309T100000
END:DAYLIGHT
BEGIN:STANDARD
TZOFFSETFROM:-0700
TZOFFSETTO:-0800
TZNAME:PST
DTSTART:20251102T090000
END:STANDARD
BEGIN:DAYLIGHT
TZOFFSETFROM:-0800
TZOFFSETTO:-0700
TZNAME:PDT
DTSTART:20260308T100000
END:DAYLIGHT
BEGIN:STANDARD
TZOFFSETFROM:-0700
TZOFFSETTO:-0800
TZNAME:PST
DTSTART:20261101T090000
END:STANDARD
BEGIN:DAYLIGHT
TZOFFSETFROM:-0800
TZOFFSETTO:-0700
TZNAME:PDT
DTSTART:20270314T100000
END:DAYLIGHT
BEGIN:STANDARD
TZOFFSETFROM:-0700
TZOFFSETTO:-0800
TZNAME:PST
DTSTART:20271107T090000
END:STANDARD
END:VTIMEZONE
BEGIN:VEVENT
DTSTART;TZID=America/Los_Angeles:20260301T114500
DTEND;TZID=America/Los_Angeles:20260301T133000
DTSTAMP:20260423T080413
CREATED:20260209T210402Z
LAST-MODIFIED:20260209T211002Z
UID:10001905-1772365500-1772371800@www.firstunitarianportland.org
SUMMARY:"The Water Factor" Author Reading
DESCRIPTION:A reading and discussion with author Marilynne Eichinger \nJoin members of Community for Earth for a reading from The Water Factor\, a near-future eco-thriller set in the Oregon High Desert\, and a discussion of what happens when something as sacred as water is treated as a commodity instead of a human right. Light refreshments provided. Grab a drink from coffee hour and join us for a lively conversation.  \nThe Water Factor raises urgent moral and spiritual questions about stewardship\, justice\, and our responsibility to one another. Award-winning author Marilynne Eichinger follows James Hokama Byrne as his trust in corporate systems gives way to a deeper calling to protect life and community. Set in Oregon’s High Desert and drought-stricken Ethiopia\, the novel blends action and compassion into a powerful call to conscience. Join us for a conversation about the story\, the real-world issues behind it\, and what our faith asks of us in a time of climate crisis and growing inequality.
URL:https://www.firstunitarianportland.org/event/the-water-factor-author-reading/
LOCATION:Classroom B304
CATEGORIES:Program/Event,Social Justice
END:VEVENT
BEGIN:VEVENT
DTSTART;TZID=America/Los_Angeles:20260301T114500
DTEND;TZID=America/Los_Angeles:20260301T133000
DTSTAMP:20260423T080413
CREATED:20260209T235229Z
LAST-MODIFIED:20260209T235229Z
UID:10001906-1772365500-1772371800@www.firstunitarianportland.org
SUMMARY:Considering Membership Class
DESCRIPTION:Every community is like a tapestry—each person adding their own color and texture to the whole. If you’ve been attending First Unitarian Portland and are feeling ready to become a woven part of the fabric of this congregation\, we invite you to our Considering Membership class. \nIn this one-session gathering\, you’ll learn about the commitments and joys of membership\, ask questions\, and—if you’re ready—complete the necessary steps to officially join\, including signing the membership book. \nPlease let us know you’re coming by filling out this RSVP form. Childcare will be available. \nWhether you’re new to Unitarian Universalism or simply new to Portland\, we’d be honored to help you find your place in the weave of our shared spiritual community.
URL:https://www.firstunitarianportland.org/event/2026-considering-membership-class/
LOCATION:Channing\, A101
CATEGORIES:Gathering & Connection,Program/Event
END:VEVENT
BEGIN:VEVENT
DTSTART;TZID=America/Los_Angeles:20260304T103000
DTEND;TZID=America/Los_Angeles:20260304T130000
DTSTAMP:20260423T080413
CREATED:20260210T192053Z
LAST-MODIFIED:20260324T012439Z
UID:10001907-1772620200-1772629200@www.firstunitarianportland.org
SUMMARY:The Alliance Presents “Stories of Lan Su"
DESCRIPTION:Weaving Together Portland Communities: Stories of Lan Su – Revealing the Untold Tales of Portland’s Chinese Garden \nJoin Venus Sun\, Senior Director of Experience at Lan Su Chinese Garden\, as she traces the roots of Portland’s one-of-a-kind classical Chinese garden with its profound identity as a living expression of art\, philosophy\, and tradition\, and its cultural impact through diverse programs that invites community to connect with traditions both ancient and modern. \nBring your lunch and $5 to enjoy dessert & beverage after the program. RSVP by emailing AllianceRSVP@firstunitarianportland.org. \nTo watch online\, join us here.
URL:https://www.firstunitarianportland.org/event/the-alliance-presents-stories-of-lan-su/
LOCATION:Eliot Chapel\, 1011 SW 12th Ave\, Portland\, OR\, 97205
CATEGORIES:Program/Event
END:VEVENT
BEGIN:VEVENT
DTSTART;TZID=America/Los_Angeles:20260311T173000
DTEND;TZID=America/Los_Angeles:20260311T193000
DTSTAMP:20260423T080413
CREATED:20251016T224218Z
LAST-MODIFIED:20251107T013603Z
UID:10001862-1773250200-1773257400@www.firstunitarianportland.org
SUMMARY:*Registration Closed* Journey to Articulating Your Faith
DESCRIPTION:A Spiritual Development Opportunity for Adults of All Ages \nJoin Rev. Alison and Rev. Tom for an 8-session course of theological exploration and discovery. Together\, we will trace our spiritual paths\, explore our understandings of the sacred\, human nature\, and religious practice\, and develop our personal credos: an expression of our most sacred beliefs and fundamental values that guide our lives. We will also get a chance to learn a little more about Unitarian Universalist history and build community with one another! \n**Registration is now closed.** \nSchedule: 5:30 – 7:30 p.m. on November 12\, December 10\, January 14\, February 11\, March 11\, April 8\, May 13\, and June 10.
URL:https://www.firstunitarianportland.org/event/journey-to-articulating-your-faith-all-adults/2026-03-11/
LOCATION:OR
CATEGORIES:Program/Event
END:VEVENT
BEGIN:VEVENT
DTSTART;TZID=America/Los_Angeles:20260329T120000
DTEND;TZID=America/Los_Angeles:20260329T133000
DTSTAMP:20260423T080413
CREATED:20260217T150137Z
LAST-MODIFIED:20260326T000536Z
UID:10001914-1774785600-1774791000@www.firstunitarianportland.org
SUMMARY:*Registration Closed* Seder Luncheon
DESCRIPTION:You are cordially invited to our First Unitarian Seder in celebration of Passover\, the Jewish holiday that symbolizes the universal human quest for liberty. Our Seder celebration will be held on Sunday\, March 29 at 12:15 p.m. This special ceremonial UU interfaith event\, beautifully structured for all ages\, is a remembrance of the Jews’ flight from slavery in Egypt long ago. Our community Passover Seder will be led by Rev. Alison Miller and her family\, Bill Y.\, Rich S.\, and the Seder team. It is a worship service\, a songfest\, a banquet\, and a blend of goodness\, goodies\, gravity\, and joy. Children\, Youth\, Adults\, Elders – All are welcome. We will provide a delicious lunch of traditional Seder foods. \nAdults $30 each / Children $15 each \nCome one and all to enjoy food\, fellowship\, candlelight\, stories\, music and more! \nRegistration is now closed.
URL:https://www.firstunitarianportland.org/event/seder-luncheon/
LOCATION:Buchan Hall\, 1226 SW Salmon St\, Portland\, OR\, 97205\, United States
CATEGORIES:Gathering & Connection,Program/Event
END:VEVENT
END:VCALENDAR