BEGIN:VCALENDAR
VERSION:2.0
PRODID:-//First Unitarian Portland - ECPv6.15.20//NONSGML v1.0//EN
CALSCALE:GREGORIAN
METHOD:PUBLISH
X-ORIGINAL-URL:https://www.firstunitarianportland.org
X-WR-CALDESC:Events for First Unitarian Portland
REFRESH-INTERVAL;VALUE=DURATION:PT1H
X-Robots-Tag:noindex
X-PUBLISHED-TTL:PT1H
BEGIN:VTIMEZONE
TZID:America/Los_Angeles
BEGIN:DAYLIGHT
TZOFFSETFROM:-0800
TZOFFSETTO:-0700
TZNAME:PDT
DTSTART:20240310T100000
END:DAYLIGHT
BEGIN:STANDARD
TZOFFSETFROM:-0700
TZOFFSETTO:-0800
TZNAME:PST
DTSTART:20241103T090000
END:STANDARD
BEGIN:DAYLIGHT
TZOFFSETFROM:-0800
TZOFFSETTO:-0700
TZNAME:PDT
DTSTART:20250309T100000
END:DAYLIGHT
BEGIN:STANDARD
TZOFFSETFROM:-0700
TZOFFSETTO:-0800
TZNAME:PST
DTSTART:20251102T090000
END:STANDARD
BEGIN:DAYLIGHT
TZOFFSETFROM:-0800
TZOFFSETTO:-0700
TZNAME:PDT
DTSTART:20260308T100000
END:DAYLIGHT
BEGIN:STANDARD
TZOFFSETFROM:-0700
TZOFFSETTO:-0800
TZNAME:PST
DTSTART:20261101T090000
END:STANDARD
END:VTIMEZONE
BEGIN:VEVENT
DTSTART;TZID=America/Los_Angeles:20250108T103000
DTEND;TZID=America/Los_Angeles:20250108T140000
DTSTAMP:20260425T084917
CREATED:20241127T214151Z
LAST-MODIFIED:20250320T184255Z
UID:10000913-1736332200-1736344800@www.firstunitarianportland.org
SUMMARY:The Alliance Presents "Homelessness in Portland: Upstream Causes\, Downstream Effects\, and Finding the Pathways Home"
DESCRIPTION:On any given night in the United States\, more than 650\,000 people experience homelessness. West Coast states\, including Oregon\, are among the most significantly affected. Why? And what are we doing locally to help more of our neighbors find pathways home? \nSpeaker: Ryan Deibert\, Interim Director of Multnomah County’s Homelessness Response System. \nTo join us for a brown bag lunch & dessert ($5) following the program\, email AllianceRSVP@firstunitarianportland.org.
URL:https://www.firstunitarianportland.org/event/the-alliance-presents-homelessness-in-portland/
LOCATION:Eliot Chapel\, 1011 SW 12th Ave\, Portland\, OR\, 97205
CATEGORIES:Program/Event
END:VEVENT
BEGIN:VEVENT
DTSTART;TZID=America/Los_Angeles:20250112T160000
DTEND;TZID=America/Los_Angeles:20250112T180000
DTSTAMP:20260425T084917
CREATED:20241220T220315Z
LAST-MODIFIED:20250313T010942Z
UID:10001219-1736697600-1736704800@www.firstunitarianportland.org
SUMMARY:*Registration Required* Countering Antisemitism in Our Movements
DESCRIPTION:With the rise of Christian Nationalism in the US and abroad\, overt antisemitism is resurging to fuel these movements. We’ve seen violent attacks on Jews in recent years\, including the murder of congregants worshipping at the Tree of Life synagogue in Pittsburgh and right-wing marchers carrying tiki-torches and yelling anti-Jewish slogans. Antisemitism is real and it is deeply woven into our culture. It is both subtle and overt and has had traumatizing impacts on Jewish communities for generations.\n\nAntisemitism is also confusing\, including when claims of antisemitism are used to divert and divide justice seeking movements or when progressive people perpetuate antisemitic tropes. UU efforts to address the unspeakable violence in Israel and Palestine have activated people’s trauma\, confusion\, and frustration. We believe that in order to act effectively and accountably within our UU communities\, we must understand how antisemitism is present and how we can counter it as we fight for justice and human rights.\n\nIf you’d like to learn alongside us\, we invite you to join us for a two-part in-person program\, taking place on January 12 and January 26. Registration is required. Attendance at the first session is required to join the second session. Read more and register here.
URL:https://www.firstunitarianportland.org/event/countering-antisemitism-in-our-movements/
LOCATION:Buchan Hall\, 1226 SW Salmon St\, Portland\, OR\, 97205\, United States
CATEGORIES:Program/Event,Social Justice
END:VEVENT
BEGIN:VEVENT
DTSTART;TZID=America/Los_Angeles:20250126T084500
DTEND;TZID=America/Los_Angeles:20250126T100000
DTSTAMP:20260425T084917
CREATED:20250116T002347Z
LAST-MODIFIED:20250212T185145Z
UID:10001224-1737881100-1737885600@www.firstunitarianportland.org
SUMMARY:COP29 and Beyond – Climate Action in the Wake of the November Elections
DESCRIPTION:Join members of Community for Earth for a presentation by Dr. Frank Granshaw\, who will summarize some of the key takeaways from the most recent U.N. climate summit held in Baku\, Azerbaijan\, and share his insights about next steps for climate action as the world braces for a new U.S. administration. Dr. Granshaw is a retired geoscience instructor and a glacial geologist who remains active in climate education and advocacy.   \nContact CFEUUPDX@gmail.com for questions about this gathering or to learn more about Community for Earth. Watch for more information about our upcoming Climate Justice Action Series\, starting with a session on legislative advocacy scheduled for February 16th.
URL:https://www.firstunitarianportland.org/event/cop29-and-beyond-climate-action-in-the-wake-of-the-november-elections/
LOCATION:Buchan Hall\, 1226 SW Salmon St\, Portland\, OR\, 97205\, United States
CATEGORIES:Program/Event,Social Justice
END:VEVENT
END:VCALENDAR