BEGIN:VCALENDAR
VERSION:2.0
PRODID:-//First Unitarian Portland - ECPv6.15.20//NONSGML v1.0//EN
CALSCALE:GREGORIAN
METHOD:PUBLISH
X-ORIGINAL-URL:https://www.firstunitarianportland.org
X-WR-CALDESC:Events for First Unitarian Portland
REFRESH-INTERVAL;VALUE=DURATION:PT1H
X-Robots-Tag:noindex
X-PUBLISHED-TTL:PT1H
BEGIN:VTIMEZONE
TZID:America/Los_Angeles
BEGIN:DAYLIGHT
TZOFFSETFROM:-0800
TZOFFSETTO:-0700
TZNAME:PDT
DTSTART:20240310T100000
END:DAYLIGHT
BEGIN:STANDARD
TZOFFSETFROM:-0700
TZOFFSETTO:-0800
TZNAME:PST
DTSTART:20241103T090000
END:STANDARD
BEGIN:DAYLIGHT
TZOFFSETFROM:-0800
TZOFFSETTO:-0700
TZNAME:PDT
DTSTART:20250309T100000
END:DAYLIGHT
BEGIN:STANDARD
TZOFFSETFROM:-0700
TZOFFSETTO:-0800
TZNAME:PST
DTSTART:20251102T090000
END:STANDARD
BEGIN:DAYLIGHT
TZOFFSETFROM:-0800
TZOFFSETTO:-0700
TZNAME:PDT
DTSTART:20260308T100000
END:DAYLIGHT
BEGIN:STANDARD
TZOFFSETFROM:-0700
TZOFFSETTO:-0800
TZNAME:PST
DTSTART:20261101T090000
END:STANDARD
END:VTIMEZONE
BEGIN:VEVENT
DTSTART;TZID=America/Los_Angeles:20251203T103000
DTEND;TZID=America/Los_Angeles:20251203T140000
DTSTAMP:20260423T161758
CREATED:20251119T005805Z
LAST-MODIFIED:20251119T005916Z
UID:10001875-1764757800-1764770400@www.firstunitarianportland.org
SUMMARY:The Alliance Presents "A Musical Conversation with Garrett Bond"
DESCRIPTION:Join for music and a presentation from Garrett Bond\, our Interim Director of Music Ministries and award-winning vocalist\, pianist\, conductor\, and composer. \nTo participate in the $25 catered lunch after the service\, email AllianceRSVP@firstunitarianportland.org.
URL:https://www.firstunitarianportland.org/event/the-alliance-presents-a-musical-conversation-with-garrett-bond/
LOCATION:Eliot Chapel\, 1011 SW 12th Ave\, Portland\, OR\, 97205
CATEGORIES:Music/Concert,Program/Event
END:VEVENT
BEGIN:VEVENT
DTSTART;TZID=America/Los_Angeles:20250518T101500
DTEND;TZID=America/Los_Angeles:20250518T113000
DTSTAMP:20260423T161758
CREATED:20250429T231212Z
LAST-MODIFIED:20250504T192933Z
UID:10000401-1747563300-1747567800@www.firstunitarianportland.org
SUMMARY:Sunday Service: Music & Worship! 🎵
DESCRIPTION:In-person\nSanctuary\n1211 SW Main St.\nPortland\, OR 97205 \n  \nClick here to see more about this very special Music & Worship service … Gabriel Fauré’s Requiem.\n  \nJoin us on livestream here.
URL:https://www.firstunitarianportland.org/event/mw-service-2025/
LOCATION:Main Sanctuary\, 1211 SW Main St\, Portland\, OR\, 97205\, United States
CATEGORIES:Music/Concert,Service
END:VEVENT
BEGIN:VEVENT
DTSTART;TZID=America/Los_Angeles:20250510T190000
DTEND;TZID=America/Los_Angeles:20250510T213000
DTSTAMP:20260423T161758
CREATED:20250429T180554Z
LAST-MODIFIED:20250502T181640Z
UID:10001337-1746903600-1746912600@www.firstunitarianportland.org
SUMMARY:Music Retreat Talent Show!
DESCRIPTION:Come experience the “home version” of our “Saturday Night Soiree” talent shows that have occurred at our yearly Music Department retreats over the years. See a collection of serious and not-so-serious acts from the singers and ringers in our music department. There will be snacks and beverages to boot. Come on out and have some fun while helping to support the church! Please enter through the Salmon St. door. \nYou can buy $20 tickets at the door if you don’t already have slots that you purchased from last year’s auction. \nPlease note! There’s a Timbers game at 7:30pm that night\, and parking on the street and in lots may be difficult\, so plan to arrive early for parking.
URL:https://www.firstunitarianportland.org/event/music-retreat-talent-show/
LOCATION:Buchan Hall\, 1226 SW Salmon St\, Portland\, OR\, 97205\, United States
CATEGORIES:Music/Concert,Program/Event
END:VEVENT
END:VCALENDAR