BEGIN:VCALENDAR
VERSION:2.0
PRODID:-//First Unitarian Portland - ECPv6.15.20//NONSGML v1.0//EN
CALSCALE:GREGORIAN
METHOD:PUBLISH
X-ORIGINAL-URL:https://www.firstunitarianportland.org
X-WR-CALDESC:Events for First Unitarian Portland
REFRESH-INTERVAL;VALUE=DURATION:PT1H
X-Robots-Tag:noindex
X-PUBLISHED-TTL:PT1H
BEGIN:VTIMEZONE
TZID:America/Los_Angeles
BEGIN:DAYLIGHT
TZOFFSETFROM:-0800
TZOFFSETTO:-0700
TZNAME:PDT
DTSTART:20250309T100000
END:DAYLIGHT
BEGIN:STANDARD
TZOFFSETFROM:-0700
TZOFFSETTO:-0800
TZNAME:PST
DTSTART:20251102T090000
END:STANDARD
BEGIN:DAYLIGHT
TZOFFSETFROM:-0800
TZOFFSETTO:-0700
TZNAME:PDT
DTSTART:20260308T100000
END:DAYLIGHT
BEGIN:STANDARD
TZOFFSETFROM:-0700
TZOFFSETTO:-0800
TZNAME:PST
DTSTART:20261101T090000
END:STANDARD
BEGIN:DAYLIGHT
TZOFFSETFROM:-0800
TZOFFSETTO:-0700
TZNAME:PDT
DTSTART:20270314T100000
END:DAYLIGHT
BEGIN:STANDARD
TZOFFSETFROM:-0700
TZOFFSETTO:-0800
TZNAME:PST
DTSTART:20271107T090000
END:STANDARD
END:VTIMEZONE
BEGIN:VEVENT
DTSTART;TZID=America/Los_Angeles:20260516T140000
DTEND;TZID=America/Los_Angeles:20260516T170000
DTSTAMP:20260423T094511
CREATED:20260421T165808Z
LAST-MODIFIED:20260421T165911Z
UID:10001938-1778940000-1778950800@www.firstunitarianportland.org
SUMMARY:Pam Noble Celebration of Life
DESCRIPTION:Long time member Pam Noble died on April 14 at the age of 80 after a long health journey including hospitalization. Pam grew up in the church and later served as a Learning Community teacher\, Wedding Coordinator\, Family Camp Director\, Parker Bell ringer\, and helped restore the Children’s Mosaic. She will be remembered for her sense of humor and love of community building. Her son Geoff McMacken invites us to wear a splash of color to celebrate Pam’s love of rainbows and her artistic nature.  \nJoin us in Eliot Chapel at 2 p.m. on May 16 to celebrate her life.
URL:https://www.firstunitarianportland.org/event/pam-noble-celebration-of-life/
LOCATION:Eliot Chapel\, 1011 SW 12th Ave\, Portland\, OR\, 97205
CATEGORIES:Memorial
END:VEVENT
END:VCALENDAR