BEGIN:VCALENDAR
VERSION:2.0
PRODID:-//First Unitarian Portland - ECPv6.15.20//NONSGML v1.0//EN
CALSCALE:GREGORIAN
METHOD:PUBLISH
X-ORIGINAL-URL:https://www.firstunitarianportland.org
X-WR-CALDESC:Events for First Unitarian Portland
REFRESH-INTERVAL;VALUE=DURATION:PT1H
X-Robots-Tag:noindex
X-PUBLISHED-TTL:PT1H
BEGIN:VTIMEZONE
TZID:America/Los_Angeles
BEGIN:DAYLIGHT
TZOFFSETFROM:-0800
TZOFFSETTO:-0700
TZNAME:PDT
DTSTART:20240310T100000
END:DAYLIGHT
BEGIN:STANDARD
TZOFFSETFROM:-0700
TZOFFSETTO:-0800
TZNAME:PST
DTSTART:20241103T090000
END:STANDARD
BEGIN:DAYLIGHT
TZOFFSETFROM:-0800
TZOFFSETTO:-0700
TZNAME:PDT
DTSTART:20250309T100000
END:DAYLIGHT
BEGIN:STANDARD
TZOFFSETFROM:-0700
TZOFFSETTO:-0800
TZNAME:PST
DTSTART:20251102T090000
END:STANDARD
BEGIN:DAYLIGHT
TZOFFSETFROM:-0800
TZOFFSETTO:-0700
TZNAME:PDT
DTSTART:20260308T100000
END:DAYLIGHT
BEGIN:STANDARD
TZOFFSETFROM:-0700
TZOFFSETTO:-0800
TZNAME:PST
DTSTART:20261101T090000
END:STANDARD
END:VTIMEZONE
BEGIN:VEVENT
DTSTART;TZID=America/Los_Angeles:20250309T140000
DTEND;TZID=America/Los_Angeles:20250309T170000
DTSTAMP:20260425T054936
CREATED:20250304T004643Z
LAST-MODIFIED:20250304T004804Z
UID:10001295-1741528800-1741539600@www.firstunitarianportland.org
SUMMARY:Michael Wade Memorial
DESCRIPTION:Member Michael Wade died on November 4\, 2024\, at the age of 73. He was diagnosed with cancer about 10 months prior and his illness progressed quickly. Michael was active in our Economic Justice Action Group here along with other groups. Toward the end Michael said “I guess my ride is here…” Michael leaves his wife\, Elizabeth\, son Alex\, and daughter Catherine. \nJoin us in Eliot Chapel for the service at 2 p.m.\, followed by a reception in Buchan Reception Hall.
URL:https://www.firstunitarianportland.org/event/michael-wade-memorial/
LOCATION:Eliot Chapel\, 1011 SW 12th Ave\, Portland\, OR\, 97205
CATEGORIES:Memorial
END:VEVENT
END:VCALENDAR