BEGIN:VCALENDAR
VERSION:2.0
PRODID:-//First Unitarian Portland - ECPv6.15.20//NONSGML v1.0//EN
CALSCALE:GREGORIAN
METHOD:PUBLISH
X-WR-CALNAME:First Unitarian Portland
X-ORIGINAL-URL:https://www.firstunitarianportland.org
X-WR-CALDESC:Events for First Unitarian Portland
REFRESH-INTERVAL;VALUE=DURATION:PT1H
X-Robots-Tag:noindex
X-PUBLISHED-TTL:PT1H
BEGIN:VTIMEZONE
TZID:America/Los_Angeles
BEGIN:DAYLIGHT
TZOFFSETFROM:-0800
TZOFFSETTO:-0700
TZNAME:PDT
DTSTART:20240310T100000
END:DAYLIGHT
BEGIN:STANDARD
TZOFFSETFROM:-0700
TZOFFSETTO:-0800
TZNAME:PST
DTSTART:20241103T090000
END:STANDARD
BEGIN:DAYLIGHT
TZOFFSETFROM:-0800
TZOFFSETTO:-0700
TZNAME:PDT
DTSTART:20250309T100000
END:DAYLIGHT
BEGIN:STANDARD
TZOFFSETFROM:-0700
TZOFFSETTO:-0800
TZNAME:PST
DTSTART:20251102T090000
END:STANDARD
BEGIN:DAYLIGHT
TZOFFSETFROM:-0800
TZOFFSETTO:-0700
TZNAME:PDT
DTSTART:20260308T100000
END:DAYLIGHT
BEGIN:STANDARD
TZOFFSETFROM:-0700
TZOFFSETTO:-0800
TZNAME:PST
DTSTART:20261101T090000
END:STANDARD
END:VTIMEZONE
BEGIN:VEVENT
DTSTART;TZID=America/Los_Angeles:20250927T160000
DTEND;TZID=America/Los_Angeles:20250927T170000
DTSTAMP:20260423T190343
CREATED:20250902T172452Z
LAST-MODIFIED:20250902T172452Z
UID:10001773-1758988800-1758992400@www.firstunitarianportland.org
SUMMARY:Margo Clark Memorial
DESCRIPTION:Long-time member Margo Clark died on August 14 at the age of 71 after living with cancer for several years. Margo served in many roles here at the church. She was a member of our Music & Arts Committee\, Leadership Council\, was a Sunday morning usher\, and for 11 years served delicious homemade soup for our Monday evening activities here at the church. Church Administrator Kathryn Estey says\, “I was pleased to serve with her on our Board of Trustees back in the early 2000s. Margo was just plain fun to be with.” She leaves her husband Bill\, also a member here\, and her children Janie and Matt and their kids. Our tender thoughts are with the whole family.
URL:https://www.firstunitarianportland.org/event/margo-clark-memorial/
LOCATION:OR
CATEGORIES:Memorial
END:VEVENT
END:VCALENDAR