BEGIN:VCALENDAR
VERSION:2.0
PRODID:-//First Unitarian Portland - ECPv6.15.20//NONSGML v1.0//EN
CALSCALE:GREGORIAN
METHOD:PUBLISH
X-ORIGINAL-URL:https://www.firstunitarianportland.org
X-WR-CALDESC:Events for First Unitarian Portland
REFRESH-INTERVAL;VALUE=DURATION:PT1H
X-Robots-Tag:noindex
X-PUBLISHED-TTL:PT1H
BEGIN:VTIMEZONE
TZID:America/Los_Angeles
BEGIN:DAYLIGHT
TZOFFSETFROM:-0800
TZOFFSETTO:-0700
TZNAME:PDT
DTSTART:20240310T100000
END:DAYLIGHT
BEGIN:STANDARD
TZOFFSETFROM:-0700
TZOFFSETTO:-0800
TZNAME:PST
DTSTART:20241103T090000
END:STANDARD
BEGIN:DAYLIGHT
TZOFFSETFROM:-0800
TZOFFSETTO:-0700
TZNAME:PDT
DTSTART:20250309T100000
END:DAYLIGHT
BEGIN:STANDARD
TZOFFSETFROM:-0700
TZOFFSETTO:-0800
TZNAME:PST
DTSTART:20251102T090000
END:STANDARD
BEGIN:DAYLIGHT
TZOFFSETFROM:-0800
TZOFFSETTO:-0700
TZNAME:PDT
DTSTART:20260308T100000
END:DAYLIGHT
BEGIN:STANDARD
TZOFFSETFROM:-0700
TZOFFSETTO:-0800
TZNAME:PST
DTSTART:20261101T090000
END:STANDARD
END:VTIMEZONE
BEGIN:VEVENT
DTSTART;TZID=America/Los_Angeles:20250510T140000
DTEND;TZID=America/Los_Angeles:20250510T170000
DTSTAMP:20260424T094322
CREATED:20250429T175310Z
LAST-MODIFIED:20250508T233435Z
UID:10001336-1746885600-1746896400@www.firstunitarianportland.org
SUMMARY:Liz Julee Celebration of Life
DESCRIPTION:Long-time member Elizabeth (Liz) Julee died on March 21. Her daughter Tara Johnson-Medinger served as our Children’s Christmas Pageant director in past years. \nJoin us in Eliot Chapel from 2 – 3 p.m. for a memorial service\, followed by a reception in the Buchan Reception Hall until 5 p.m.
URL:https://www.firstunitarianportland.org/event/liz-julee-celebration-of-life/
LOCATION:Eliot Chapel\, 1011 SW 12th Ave\, Portland\, OR\, 97205
CATEGORIES:Memorial
END:VEVENT
END:VCALENDAR