BEGIN:VCALENDAR
VERSION:2.0
PRODID:-//First Unitarian Portland - ECPv6.15.20//NONSGML v1.0//EN
CALSCALE:GREGORIAN
METHOD:PUBLISH
X-ORIGINAL-URL:https://www.firstunitarianportland.org
X-WR-CALDESC:Events for First Unitarian Portland
REFRESH-INTERVAL;VALUE=DURATION:PT1H
X-Robots-Tag:noindex
X-PUBLISHED-TTL:PT1H
BEGIN:VTIMEZONE
TZID:America/Los_Angeles
BEGIN:DAYLIGHT
TZOFFSETFROM:-0800
TZOFFSETTO:-0700
TZNAME:PDT
DTSTART:20240310T100000
END:DAYLIGHT
BEGIN:STANDARD
TZOFFSETFROM:-0700
TZOFFSETTO:-0800
TZNAME:PST
DTSTART:20241103T090000
END:STANDARD
BEGIN:DAYLIGHT
TZOFFSETFROM:-0800
TZOFFSETTO:-0700
TZNAME:PDT
DTSTART:20250309T100000
END:DAYLIGHT
BEGIN:STANDARD
TZOFFSETFROM:-0700
TZOFFSETTO:-0800
TZNAME:PST
DTSTART:20251102T090000
END:STANDARD
BEGIN:DAYLIGHT
TZOFFSETFROM:-0800
TZOFFSETTO:-0700
TZNAME:PDT
DTSTART:20260308T100000
END:DAYLIGHT
BEGIN:STANDARD
TZOFFSETFROM:-0700
TZOFFSETTO:-0800
TZNAME:PST
DTSTART:20261101T090000
END:STANDARD
END:VTIMEZONE
BEGIN:VEVENT
DTSTART;TZID=America/Los_Angeles:20250427T120000
DTEND;TZID=America/Los_Angeles:20250427T133000
DTSTAMP:20260425T090121
CREATED:20250409T010603Z
LAST-MODIFIED:20250417T214101Z
UID:10001327-1745755200-1745760600@www.firstunitarianportland.org
SUMMARY:Congregant Budget Meeting
DESCRIPTION:Rescheduled from April 13. \nJoin other congregants to learn about the final budget for the upcoming fiscal year\, which begins on July 1. Church Finance Committee and Executive Team members will walk folks through the numbers and the basis for decisions made. This budget will be presented to our Voting Members at our May election. \nJoin us in Eliot Chapel or watch online.
URL:https://www.firstunitarianportland.org/event/congregant-budget-meeting-april2025/
LOCATION:Eliot Chapel\, 1011 SW 12th Ave\, Portland\, OR\, 97205
CATEGORIES:Meeting
END:VEVENT
BEGIN:VEVENT
DTSTART;TZID=America/Los_Angeles:20250430T190000
DTEND;TZID=America/Los_Angeles:20250430T203000
DTSTAMP:20260425T090121
CREATED:20250411T000315Z
LAST-MODIFIED:20250428T201227Z
UID:10001330-1746039600-1746045000@www.firstunitarianportland.org
SUMMARY:Communications/Governance Committees Info Session: Proposed Bylaws Changes
DESCRIPTION:Join the Board of Trustees Communications and Governance Committees to hear about the proposed bylaws changes on the May ballot. \nClick here to join on Zoom.
URL:https://www.firstunitarianportland.org/event/communications-governance-committees-info-session-proposed-bylaws-changes-2/
LOCATION:Virtual
CATEGORIES:Meeting
END:VEVENT
END:VCALENDAR