BEGIN:VCALENDAR
VERSION:2.0
PRODID:-//First Unitarian Portland - ECPv6.15.20//NONSGML v1.0//EN
CALSCALE:GREGORIAN
METHOD:PUBLISH
X-WR-CALNAME:First Unitarian Portland
X-ORIGINAL-URL:https://www.firstunitarianportland.org
X-WR-CALDESC:Events for First Unitarian Portland
REFRESH-INTERVAL;VALUE=DURATION:PT1H
X-Robots-Tag:noindex
X-PUBLISHED-TTL:PT1H
BEGIN:VTIMEZONE
TZID:America/Los_Angeles
BEGIN:DAYLIGHT
TZOFFSETFROM:-0800
TZOFFSETTO:-0700
TZNAME:PDT
DTSTART:20240310T100000
END:DAYLIGHT
BEGIN:STANDARD
TZOFFSETFROM:-0700
TZOFFSETTO:-0800
TZNAME:PST
DTSTART:20241103T090000
END:STANDARD
BEGIN:DAYLIGHT
TZOFFSETFROM:-0800
TZOFFSETTO:-0700
TZNAME:PDT
DTSTART:20250309T100000
END:DAYLIGHT
BEGIN:STANDARD
TZOFFSETFROM:-0700
TZOFFSETTO:-0800
TZNAME:PST
DTSTART:20251102T090000
END:STANDARD
BEGIN:DAYLIGHT
TZOFFSETFROM:-0800
TZOFFSETTO:-0700
TZNAME:PDT
DTSTART:20260308T100000
END:DAYLIGHT
BEGIN:STANDARD
TZOFFSETFROM:-0700
TZOFFSETTO:-0800
TZNAME:PST
DTSTART:20261101T090000
END:STANDARD
END:VTIMEZONE
BEGIN:VEVENT
DTSTART;TZID=America/Los_Angeles:20250408T170000
DTEND;TZID=America/Los_Angeles:20250408T183000
DTSTAMP:20260425T073741
CREATED:20241127T214643Z
LAST-MODIFIED:20250317T235517Z
UID:10000918-1744131600-1744137000@www.firstunitarianportland.org
SUMMARY:Finance Committee Meeting
DESCRIPTION:The Board Finance Committee meets on the second Tuesday of most months\, 5 – 6:30 p.m. Meetings are open to congregants. \nClick here to join on Zoom.
URL:https://www.firstunitarianportland.org/event/finance-committee-meeting/2025-04-08/
LOCATION:Virtual
CATEGORIES:Meeting
END:VEVENT
BEGIN:VEVENT
DTSTART;TZID=America/Los_Angeles:20250408T183000
DTEND;TZID=America/Los_Angeles:20250408T200000
DTSTAMP:20260425T073741
CREATED:20241127T214747Z
LAST-MODIFIED:20241127T233741Z
UID:10000935-1744137000-1744142400@www.firstunitarianportland.org
SUMMARY:Communications Committee Meeting
DESCRIPTION:The Board Communications Committee meets on the second Tuesday of each month\, 6:30 – 8 p.m. Meetings are open to congregants. \nClick here to join on Zoom.
URL:https://www.firstunitarianportland.org/event/communications-committee-meeting/2025-04-08/
LOCATION:Virtual
CATEGORIES:Meeting
END:VEVENT
END:VCALENDAR