BEGIN:VCALENDAR
VERSION:2.0
PRODID:-//First Unitarian Portland - ECPv6.15.20//NONSGML v1.0//EN
CALSCALE:GREGORIAN
METHOD:PUBLISH
X-WR-CALNAME:First Unitarian Portland
X-ORIGINAL-URL:https://www.firstunitarianportland.org
X-WR-CALDESC:Events for First Unitarian Portland
REFRESH-INTERVAL;VALUE=DURATION:PT1H
X-Robots-Tag:noindex
X-PUBLISHED-TTL:PT1H
BEGIN:VTIMEZONE
TZID:America/Los_Angeles
BEGIN:DAYLIGHT
TZOFFSETFROM:-0800
TZOFFSETTO:-0700
TZNAME:PDT
DTSTART:20240310T100000
END:DAYLIGHT
BEGIN:STANDARD
TZOFFSETFROM:-0700
TZOFFSETTO:-0800
TZNAME:PST
DTSTART:20241103T090000
END:STANDARD
BEGIN:DAYLIGHT
TZOFFSETFROM:-0800
TZOFFSETTO:-0700
TZNAME:PDT
DTSTART:20250309T100000
END:DAYLIGHT
BEGIN:STANDARD
TZOFFSETFROM:-0700
TZOFFSETTO:-0800
TZNAME:PST
DTSTART:20251102T090000
END:STANDARD
BEGIN:DAYLIGHT
TZOFFSETFROM:-0800
TZOFFSETTO:-0700
TZNAME:PDT
DTSTART:20260308T100000
END:DAYLIGHT
BEGIN:STANDARD
TZOFFSETFROM:-0700
TZOFFSETTO:-0800
TZNAME:PST
DTSTART:20261101T090000
END:STANDARD
END:VTIMEZONE
BEGIN:VEVENT
DTSTART;TZID=America/Los_Angeles:20250330T114500
DTEND;TZID=America/Los_Angeles:20250330T133000
DTSTAMP:20260425T073821
CREATED:20250321T202805Z
LAST-MODIFIED:20250321T202805Z
UID:10001321-1743335100-1743341400@www.firstunitarianportland.org
SUMMARY:Music Ministry Transition Team Listening Meeting with Congregants
DESCRIPTION:Since its inception last summer\, the MMTT has been actively engaged in helping church leadership and the Interim Director of Music Ministries move our music program forward in support of the worship and communal life of our church. We’ve come to a point where we need to hear from congregants. We are scheduling three listening meetings\, with more to come. Our objective is to hear your thoughts about how the music program has been evolving so far\, and what you might envision for the future. \nOur first meeting will be with choir members\, bell ringers and other church musicians on Sunday\, March 23 in the Sanctuary after the service. Then we will meet with interested congregants on Sunday\, March 30 in Eliot Chapel. Our third meeting\, this time with parents from the learning community\, will be held on Sunday\, April 13 in the Daisy Bingham room. All of these meetings will be held at 11:45 a.m. There will also be a survey for people to fill out online. \nChildcare will be provided for all meetings.
URL:https://www.firstunitarianportland.org/event/mmtt-congregants/
LOCATION:Eliot Chapel\, 1011 SW 12th Ave\, Portland\, OR\, 97205
CATEGORIES:Meeting
END:VEVENT
BEGIN:VEVENT
DTSTART;TZID=America/Los_Angeles:20250402T190000
DTEND;TZID=America/Los_Angeles:20250402T210000
DTSTAMP:20260425T073821
CREATED:20250313T005752Z
LAST-MODIFIED:20250603T191701Z
UID:10001302-1743620400-1743627600@www.firstunitarianportland.org
SUMMARY:Board Meeting
DESCRIPTION:The Board of Trustees meets on the first Wednesday of most months\, 7 – 9 p.m. Meetings are open to congregants. \nJoin us in Buchan Reception Hall (B102)\, or click here to join on Zoom. \nMeeting ID: 829 3022 3125\nPasscode: DaisyB# \nOr join by phone: +1 253 215 8782 US (Tacoma)
URL:https://www.firstunitarianportland.org/event/board-meeting/2025-04-02/
LOCATION:Buchan Hall\, 1226 SW Salmon St\, Portland\, OR\, 97205\, United States
CATEGORIES:Meeting
END:VEVENT
END:VCALENDAR