BEGIN:VCALENDAR
VERSION:2.0
PRODID:-//First Unitarian Portland - ECPv6.15.20//NONSGML v1.0//EN
CALSCALE:GREGORIAN
METHOD:PUBLISH
X-ORIGINAL-URL:https://www.firstunitarianportland.org
X-WR-CALDESC:Events for First Unitarian Portland
REFRESH-INTERVAL;VALUE=DURATION:PT1H
X-Robots-Tag:noindex
X-PUBLISHED-TTL:PT1H
BEGIN:VTIMEZONE
TZID:America/Los_Angeles
BEGIN:DAYLIGHT
TZOFFSETFROM:-0800
TZOFFSETTO:-0700
TZNAME:PDT
DTSTART:20240310T100000
END:DAYLIGHT
BEGIN:STANDARD
TZOFFSETFROM:-0700
TZOFFSETTO:-0800
TZNAME:PST
DTSTART:20241103T090000
END:STANDARD
BEGIN:DAYLIGHT
TZOFFSETFROM:-0800
TZOFFSETTO:-0700
TZNAME:PDT
DTSTART:20250309T100000
END:DAYLIGHT
BEGIN:STANDARD
TZOFFSETFROM:-0700
TZOFFSETTO:-0800
TZNAME:PST
DTSTART:20251102T090000
END:STANDARD
BEGIN:DAYLIGHT
TZOFFSETFROM:-0800
TZOFFSETTO:-0700
TZNAME:PDT
DTSTART:20260308T100000
END:DAYLIGHT
BEGIN:STANDARD
TZOFFSETFROM:-0700
TZOFFSETTO:-0800
TZNAME:PST
DTSTART:20261101T090000
END:STANDARD
BEGIN:DAYLIGHT
TZOFFSETFROM:-0800
TZOFFSETTO:-0700
TZNAME:PDT
DTSTART:20270314T100000
END:DAYLIGHT
BEGIN:STANDARD
TZOFFSETFROM:-0700
TZOFFSETTO:-0800
TZNAME:PST
DTSTART:20271107T090000
END:STANDARD
END:VTIMEZONE
BEGIN:VEVENT
DTSTART;TZID=America/Los_Angeles:20260412T120000
DTEND;TZID=America/Los_Angeles:20260412T133000
DTSTAMP:20260423T134504
CREATED:20260108T002006Z
LAST-MODIFIED:20260320T231842Z
UID:10001902-1775995200-1776000600@www.firstunitarianportland.org
SUMMARY:2026 All-Church Forum
DESCRIPTION:The calendar is set for forums and meetings through the end of the year. Events will be held at noon in Eliot Chapel unless otherwise announced. Childcare will be available. \n\nFeb 8 – hear budget priorities from Rev. Alison and an update from the Board.\nMar 8 – review the proposed budget for next church year\, ask questions\, and provide feedback.\nApril 12 – learn about bylaws changes\, see the final budget\, and ask questions ahead of voting in May.\nMay 17 (Year-End Forum) – learn election results and hear year-end reports from the Board and Rev. Alison.\n\nWatch our Front Steps e-news for more details.
URL:https://www.firstunitarianportland.org/event/2026-board-senior-minister-forum/2026-04-12/
LOCATION:Eliot Chapel\, 1011 SW 12th Ave\, Portland\, OR\, 97205
CATEGORIES:Meeting
END:VEVENT
BEGIN:VEVENT
DTSTART;TZID=America/Los_Angeles:20260401T190000
DTEND;TZID=America/Los_Angeles:20260401T210000
DTSTAMP:20260423T134504
CREATED:20251007T221555Z
LAST-MODIFIED:20260210T222213Z
UID:10001847-1775070000-1775077200@www.firstunitarianportland.org
SUMMARY:Monthly Board Meeting
DESCRIPTION:Congregants are welcome to join us in person (Buchan Reception Hall) or on Zoom: \nhttps://us02web.zoom.us/j/82930223125?pwd=nWHAO9V2u2GYaaNeMOcai3cKCsz4VU.1
URL:https://www.firstunitarianportland.org/event/monthly-board-meeting-2/2026-04-01/
LOCATION:Buchan Hall\, 1226 SW Salmon St\, Portland\, OR\, 97205\, United States
CATEGORIES:Meeting
END:VEVENT
BEGIN:VEVENT
DTSTART;TZID=America/Los_Angeles:20260308T120000
DTEND;TZID=America/Los_Angeles:20260308T133000
DTSTAMP:20260423T134504
CREATED:20260108T002006Z
LAST-MODIFIED:20260320T231842Z
UID:10001901-1772971200-1772976600@www.firstunitarianportland.org
SUMMARY:2026 All-Church Forum
DESCRIPTION:The calendar is set for forums and meetings through the end of the year. Events will be held at noon in Eliot Chapel unless otherwise announced. Childcare will be available. \n\nFeb 8 – hear budget priorities from Rev. Alison and an update from the Board.\nMar 8 – review the proposed budget for next church year\, ask questions\, and provide feedback.\nApril 12 – learn about bylaws changes\, see the final budget\, and ask questions ahead of voting in May.\nMay 17 (Year-End Forum) – learn election results and hear year-end reports from the Board and Rev. Alison.\n\nWatch our Front Steps e-news for more details.
URL:https://www.firstunitarianportland.org/event/2026-board-senior-minister-forum/2026-03-08/
LOCATION:Eliot Chapel\, 1011 SW 12th Ave\, Portland\, OR\, 97205
CATEGORIES:Meeting
END:VEVENT
BEGIN:VEVENT
DTSTART;TZID=America/Los_Angeles:20260304T190000
DTEND;TZID=America/Los_Angeles:20260304T210000
DTSTAMP:20260423T134504
CREATED:20251007T221555Z
LAST-MODIFIED:20260210T222213Z
UID:10001846-1772650800-1772658000@www.firstunitarianportland.org
SUMMARY:Monthly Board Meeting
DESCRIPTION:Congregants are welcome to join us in person (Buchan Reception Hall) or on Zoom: \nhttps://us02web.zoom.us/j/82930223125?pwd=nWHAO9V2u2GYaaNeMOcai3cKCsz4VU.1
URL:https://www.firstunitarianportland.org/event/monthly-board-meeting-2/2026-03-04/
LOCATION:Buchan Hall\, 1226 SW Salmon St\, Portland\, OR\, 97205\, United States
CATEGORIES:Meeting
END:VEVENT
BEGIN:VEVENT
DTSTART;TZID=America/Los_Angeles:20260208T120000
DTEND;TZID=America/Los_Angeles:20260208T133000
DTSTAMP:20260423T134504
CREATED:20260108T002006Z
LAST-MODIFIED:20260320T231842Z
UID:10001900-1770552000-1770557400@www.firstunitarianportland.org
SUMMARY:2026 All-Church Forum
DESCRIPTION:The calendar is set for forums and meetings through the end of the year. Events will be held at noon in Eliot Chapel unless otherwise announced. Childcare will be available. \n\nFeb 8 – hear budget priorities from Rev. Alison and an update from the Board.\nMar 8 – review the proposed budget for next church year\, ask questions\, and provide feedback.\nApril 12 – learn about bylaws changes\, see the final budget\, and ask questions ahead of voting in May.\nMay 17 (Year-End Forum) – learn election results and hear year-end reports from the Board and Rev. Alison.\n\nWatch our Front Steps e-news for more details.
URL:https://www.firstunitarianportland.org/event/2026-board-senior-minister-forum/2026-02-08/
LOCATION:Eliot Chapel\, 1011 SW 12th Ave\, Portland\, OR\, 97205
CATEGORIES:Meeting
END:VEVENT
BEGIN:VEVENT
DTSTART;TZID=America/Los_Angeles:20260204T190000
DTEND;TZID=America/Los_Angeles:20260204T210000
DTSTAMP:20260423T134504
CREATED:20251007T221555Z
LAST-MODIFIED:20260210T222213Z
UID:10001845-1770231600-1770238800@www.firstunitarianportland.org
SUMMARY:Monthly Board Meeting
DESCRIPTION:Congregants are welcome to join us in person (Buchan Reception Hall) or on Zoom: \nhttps://us02web.zoom.us/j/82930223125?pwd=nWHAO9V2u2GYaaNeMOcai3cKCsz4VU.1
URL:https://www.firstunitarianportland.org/event/monthly-board-meeting-2/2026-02-04/
LOCATION:Buchan Hall\, 1226 SW Salmon St\, Portland\, OR\, 97205\, United States
CATEGORIES:Meeting
END:VEVENT
BEGIN:VEVENT
DTSTART;TZID=America/Los_Angeles:20260107T190000
DTEND;TZID=America/Los_Angeles:20260107T210000
DTSTAMP:20260423T134504
CREATED:20251007T221555Z
LAST-MODIFIED:20260210T222213Z
UID:10001844-1767812400-1767819600@www.firstunitarianportland.org
SUMMARY:Monthly Board Meeting
DESCRIPTION:Congregants are welcome to join us in person (Buchan Reception Hall) or on Zoom: \nhttps://us02web.zoom.us/j/82930223125?pwd=nWHAO9V2u2GYaaNeMOcai3cKCsz4VU.1
URL:https://www.firstunitarianportland.org/event/monthly-board-meeting-2/2026-01-07/
LOCATION:Buchan Hall\, 1226 SW Salmon St\, Portland\, OR\, 97205\, United States
CATEGORIES:Meeting
END:VEVENT
BEGIN:VEVENT
DTSTART;TZID=America/Los_Angeles:20251203T190000
DTEND;TZID=America/Los_Angeles:20251203T210000
DTSTAMP:20260423T134504
CREATED:20251007T221555Z
LAST-MODIFIED:20260210T222213Z
UID:10001843-1764788400-1764795600@www.firstunitarianportland.org
SUMMARY:Monthly Board Meeting
DESCRIPTION:Congregants are welcome to join us in person (Buchan Reception Hall) or on Zoom: \nhttps://us02web.zoom.us/j/82930223125?pwd=nWHAO9V2u2GYaaNeMOcai3cKCsz4VU.1
URL:https://www.firstunitarianportland.org/event/monthly-board-meeting-2/2025-12-03/
LOCATION:Buchan Hall\, 1226 SW Salmon St\, Portland\, OR\, 97205\, United States
CATEGORIES:Meeting
END:VEVENT
BEGIN:VEVENT
DTSTART;TZID=America/Los_Angeles:20251105T190000
DTEND;TZID=America/Los_Angeles:20251105T210000
DTSTAMP:20260423T134504
CREATED:20251007T221555Z
LAST-MODIFIED:20260210T222213Z
UID:10001842-1762369200-1762376400@www.firstunitarianportland.org
SUMMARY:Monthly Board Meeting
DESCRIPTION:Congregants are welcome to join us in person (Buchan Reception Hall) or on Zoom: \nhttps://us02web.zoom.us/j/82930223125?pwd=nWHAO9V2u2GYaaNeMOcai3cKCsz4VU.1
URL:https://www.firstunitarianportland.org/event/monthly-board-meeting-2/2025-11-05/
LOCATION:Buchan Hall\, 1226 SW Salmon St\, Portland\, OR\, 97205\, United States
CATEGORIES:Meeting
END:VEVENT
BEGIN:VEVENT
DTSTART;TZID=America/Los_Angeles:20251102T121500
DTEND;TZID=America/Los_Angeles:20251102T134500
DTSTAMP:20260423T134504
CREATED:20251015T002740Z
LAST-MODIFIED:20251023T202925Z
UID:10001852-1762085700-1762091100@www.firstunitarianportland.org
SUMMARY:Fall Forum
DESCRIPTION:Join Rev. Alison and your Board of Trustees for this update. Topics include… \n\nPriorities for 2026 – 2027 budget\nUpdate on congregational life\nReport on last Spring’s congregational survey\nReport on Board goals 2025-2026\n\nChildcare available!
URL:https://www.firstunitarianportland.org/event/fall-forum/
LOCATION:Eliot Chapel\, 1011 SW 12th Ave\, Portland\, OR\, 97205
CATEGORIES:Meeting
END:VEVENT
BEGIN:VEVENT
DTSTART;TZID=America/Los_Angeles:20251008T190000
DTEND;TZID=America/Los_Angeles:20251008T210000
DTSTAMP:20260423T134504
CREATED:20251008T001552Z
LAST-MODIFIED:20251008T001604Z
UID:10001841-1759950000-1759957200@www.firstunitarianportland.org
SUMMARY:Monthly Board Meeting
DESCRIPTION:Congregants are welcome to join us in person (Buchan Reception Hall) or on Zoom: \nhttps://us02web.zoom.us/j/82930223125?pwd=nWHAO9V2u2GYaaNeMOcai3cKCsz4VU.1
URL:https://www.firstunitarianportland.org/event/monthly-board-meeting-3/
LOCATION:Buchan Hall\, 1226 SW Salmon St\, Portland\, OR\, 97205\, United States
CATEGORIES:Meeting
END:VEVENT
BEGIN:VEVENT
DTSTART;TZID=America/Los_Angeles:20250910T140000
DTEND;TZID=America/Los_Angeles:20250910T153000
DTSTAMP:20260423T134504
CREATED:20250813T180208Z
LAST-MODIFIED:20251215T192039Z
UID:10001702-1757512800-1757518200@www.firstunitarianportland.org
SUMMARY:*Canceled* Grief Group
DESCRIPTION:This group has been canceled due to a scheduling conflict. \nPlease keep an eye out for an announcement in our Front Steps e-news for the grief group running in November and December.
URL:https://www.firstunitarianportland.org/event/canceled-lay-ministry-grief-group/
LOCATION:OR
CATEGORIES:Gathering & Connection,Meeting,Program/Event
END:VEVENT
BEGIN:VEVENT
DTSTART;TZID=America/Los_Angeles:20250903T190000
DTEND;TZID=America/Los_Angeles:20250903T210000
DTSTAMP:20260423T134504
CREATED:20250903T193222Z
LAST-MODIFIED:20251007T221419Z
UID:10001785-1756926000-1756933200@www.firstunitarianportland.org
SUMMARY:Monthly Board Meeting
DESCRIPTION:Congregants are welcome to join us in person (Buchan Reception Hall) or on Zoom: \nhttps://us02web.zoom.us/j/82930223125?pwd=nWHAO9V2u2GYaaNeMOcai3cKCsz4VU.1 \nTonight’s agenda and additional materials can be found here: \nClick to access Board-Packet-Final-1.pdf
URL:https://www.firstunitarianportland.org/event/monthly-board-meeting/
LOCATION:Buchan Hall\, 1226 SW Salmon St\, Portland\, OR\, 97205\, United States
CATEGORIES:Meeting
END:VEVENT
BEGIN:VEVENT
DTSTART;TZID=America/Los_Angeles:20250604T190000
DTEND;TZID=America/Los_Angeles:20250604T210000
DTSTAMP:20260423T134504
CREATED:20250313T005752Z
LAST-MODIFIED:20250603T191701Z
UID:10001629-1749063600-1749070800@www.firstunitarianportland.org
SUMMARY:Board Meeting
DESCRIPTION:The Board of Trustees meets on the first Wednesday of most months\, 7 – 9 p.m. Meetings are open to congregants. \nJoin us in Buchan Reception Hall (B102)\, or click here to join on Zoom. \nMeeting ID: 829 3022 3125\nPasscode: DaisyB# \nOr join by phone: +1 253 215 8782 US (Tacoma)
URL:https://www.firstunitarianportland.org/event/board-meeting/2025-06-04/
LOCATION:Buchan Hall\, 1226 SW Salmon St\, Portland\, OR\, 97205\, United States
CATEGORIES:Meeting
END:VEVENT
BEGIN:VEVENT
DTSTART;TZID=America/Los_Angeles:20250520T190000
DTEND;TZID=America/Los_Angeles:20250520T204500
DTSTAMP:20260423T134504
CREATED:20250513T000808Z
LAST-MODIFIED:20250515T220438Z
UID:10001520-1747767600-1747773900@www.firstunitarianportland.org
SUMMARY:Music Ministry Transition Team Online Listening Meeting
DESCRIPTION:Since its inception last summer\, the Music Ministry Transition Team (MMTT) has been actively engaged in helping church leadership and the Interim Director of Music Ministries move our music program forward. We’ve come to a point where we need to hear from congregants. We have already had three in-person listening meetings. We know that in-person meetings do not work for everyone\, so we have scheduled a Zoom meeting on May 20 at 7 p.m. \nOur objective is to hear your thoughts about how the music program has been evolving so far\, what you might envision for the future\, and what you have found positive about our current music program\, and what we need to improve. The MMTT looks forward to hearing about your feelings\, ideas\, and suggestions\, which will play a vital role in planning for the future of the music program at church. \nYou can access the Zoom meeting here.
URL:https://www.firstunitarianportland.org/event/music-ministry-transition-team-online-listening-meeting/
LOCATION:Virtual
CATEGORIES:Meeting
END:VEVENT
BEGIN:VEVENT
DTSTART;TZID=America/Los_Angeles:20250518T120000
DTEND;TZID=America/Los_Angeles:20250518T130000
DTSTAMP:20260423T134504
CREATED:20250411T000505Z
LAST-MODIFIED:20250508T192344Z
UID:10001331-1747569600-1747573200@www.firstunitarianportland.org
SUMMARY:Year-End Congregational Meeting
DESCRIPTION:Join the Board of Trustees in Eliot Chapel or by livestream for a Congregational Meeting and announcement of election results. Agenda includes short reports from Rev. Alison and Board Moderator Leslie Pohl-Kosbau\, as well as an HR report\, info on new Right Relations program\, and a preview of congregational annual report process.
URL:https://www.firstunitarianportland.org/event/congregational-meeting/
LOCATION:Eliot Chapel\, 1011 SW 12th Ave\, Portland\, OR\, 97205
CATEGORIES:Meeting
END:VEVENT
BEGIN:VEVENT
DTSTART;TZID=America/Los_Angeles:20250513T183000
DTEND;TZID=America/Los_Angeles:20250513T200000
DTSTAMP:20260423T134504
CREATED:20241127T214747Z
LAST-MODIFIED:20241127T233741Z
UID:10000936-1747161000-1747166400@www.firstunitarianportland.org
SUMMARY:Communications Committee Meeting
DESCRIPTION:The Board Communications Committee meets on the second Tuesday of each month\, 6:30 – 8 p.m. Meetings are open to congregants. \nClick here to join on Zoom.
URL:https://www.firstunitarianportland.org/event/communications-committee-meeting/2025-05-13/
LOCATION:Virtual
CATEGORIES:Meeting
END:VEVENT
BEGIN:VEVENT
DTSTART;TZID=America/Los_Angeles:20250513T170000
DTEND;TZID=America/Los_Angeles:20250513T183000
DTSTAMP:20260423T134504
CREATED:20241127T214643Z
LAST-MODIFIED:20250317T235517Z
UID:10000919-1747155600-1747161000@www.firstunitarianportland.org
SUMMARY:Finance Committee Meeting
DESCRIPTION:The Board Finance Committee meets on the second Tuesday of most months\, 5 – 6:30 p.m. Meetings are open to congregants. \nClick here to join on Zoom.
URL:https://www.firstunitarianportland.org/event/finance-committee-meeting/2025-05-13/
LOCATION:Virtual
CATEGORIES:Meeting
END:VEVENT
BEGIN:VEVENT
DTSTART;TZID=America/Los_Angeles:20250507T190000
DTEND;TZID=America/Los_Angeles:20250507T210000
DTSTAMP:20260423T134504
CREATED:20250313T005752Z
LAST-MODIFIED:20250603T191701Z
UID:10001303-1746644400-1746651600@www.firstunitarianportland.org
SUMMARY:Board Meeting
DESCRIPTION:The Board of Trustees meets on the first Wednesday of most months\, 7 – 9 p.m. Meetings are open to congregants. \nJoin us in Buchan Reception Hall (B102)\, or click here to join on Zoom. \nMeeting ID: 829 3022 3125\nPasscode: DaisyB# \nOr join by phone: +1 253 215 8782 US (Tacoma)
URL:https://www.firstunitarianportland.org/event/board-meeting/2025-05-07/
LOCATION:Buchan Hall\, 1226 SW Salmon St\, Portland\, OR\, 97205\, United States
CATEGORIES:Meeting
END:VEVENT
BEGIN:VEVENT
DTSTART;TZID=America/Los_Angeles:20250430T190000
DTEND;TZID=America/Los_Angeles:20250430T203000
DTSTAMP:20260423T134504
CREATED:20250411T000315Z
LAST-MODIFIED:20250428T201227Z
UID:10001330-1746039600-1746045000@www.firstunitarianportland.org
SUMMARY:Communications/Governance Committees Info Session: Proposed Bylaws Changes
DESCRIPTION:Join the Board of Trustees Communications and Governance Committees to hear about the proposed bylaws changes on the May ballot. \nClick here to join on Zoom.
URL:https://www.firstunitarianportland.org/event/communications-governance-committees-info-session-proposed-bylaws-changes-2/
LOCATION:Virtual
CATEGORIES:Meeting
END:VEVENT
BEGIN:VEVENT
DTSTART;TZID=America/Los_Angeles:20250427T120000
DTEND;TZID=America/Los_Angeles:20250427T133000
DTSTAMP:20260423T134504
CREATED:20250409T010603Z
LAST-MODIFIED:20250417T214101Z
UID:10001327-1745755200-1745760600@www.firstunitarianportland.org
SUMMARY:Congregant Budget Meeting
DESCRIPTION:Rescheduled from April 13. \nJoin other congregants to learn about the final budget for the upcoming fiscal year\, which begins on July 1. Church Finance Committee and Executive Team members will walk folks through the numbers and the basis for decisions made. This budget will be presented to our Voting Members at our May election. \nJoin us in Eliot Chapel or watch online.
URL:https://www.firstunitarianportland.org/event/congregant-budget-meeting-april2025/
LOCATION:Eliot Chapel\, 1011 SW 12th Ave\, Portland\, OR\, 97205
CATEGORIES:Meeting
END:VEVENT
BEGIN:VEVENT
DTSTART;TZID=America/Los_Angeles:20250420T120000
DTEND;TZID=America/Los_Angeles:20250420T133000
DTSTAMP:20260423T134504
CREATED:20250411T000118Z
LAST-MODIFIED:20250417T213903Z
UID:10001329-1745150400-1745155800@www.firstunitarianportland.org
SUMMARY:Communications/Governance Committees Info Session: Proposed Bylaws Changes
DESCRIPTION:Join the Board of Trustees Communications and Governance Committees to hear about the proposed bylaws changes on the May ballot.
URL:https://www.firstunitarianportland.org/event/communications-governance-committees-info-session-proposed-bylaws-changes-1/
LOCATION:Buchan Hall\, 1226 SW Salmon St\, Portland\, OR\, 97205\, United States
CATEGORIES:Meeting
END:VEVENT
BEGIN:VEVENT
DTSTART;TZID=America/Los_Angeles:20250413T120000
DTEND;TZID=America/Los_Angeles:20250413T133000
DTSTAMP:20260423T134504
CREATED:20250321T202111Z
LAST-MODIFIED:20250417T214001Z
UID:10001319-1744545600-1744551000@www.firstunitarianportland.org
SUMMARY:**RESCHEDULED to 4/27** Congregant Budget Meeting
DESCRIPTION:Join other congregants to learn about the final budget for the upcoming fiscal year\, which begins on July 1. Church Finance Committee and Executive Team members will walk folks through the numbers and the basis for decisions made. This budget will be presented to our Voting Members at our May election. \nJoin us in Eliot Chapel or watch online.
URL:https://www.firstunitarianportland.org/event/congregant-budget-meeting-april2025-postponed/
LOCATION:Eliot Chapel\, 1011 SW 12th Ave\, Portland\, OR\, 97205
CATEGORIES:Meeting
END:VEVENT
BEGIN:VEVENT
DTSTART;TZID=America/Los_Angeles:20250413T114500
DTEND;TZID=America/Los_Angeles:20250413T133000
DTSTAMP:20260423T134504
CREATED:20250321T202935Z
LAST-MODIFIED:20250321T202935Z
UID:10001322-1744544700-1744551000@www.firstunitarianportland.org
SUMMARY:Music Ministry Transition Team Listening Meeting with LC Parents
DESCRIPTION:Since its inception last summer\, the MMTT has been actively engaged in helping church leadership and the Interim Director of Music Ministries move our music program forward in support of the worship and communal life of our church. We’ve come to a point where we need to hear from congregants. We are scheduling three listening meetings\, with more to come. Our objective is to hear your thoughts about how the music program has been evolving so far\, and what you might envision for the future. \nOur first meeting will be with choir members\, bell ringers and other church musicians on Sunday\, March 23 in the Sanctuary after the service. Then we will meet with interested congregants on Sunday\, March 30 in Eliot Chapel. Our third meeting\, this time with parents from the learning community\, will be held on Sunday\, April 13 in the Daisy Bingham room. All of these meetings will be held at 11:45 a.m. There will also be a survey for people to fill out online. \nChildcare will be provided for all meetings.
URL:https://www.firstunitarianportland.org/event/mmtt-parents/
LOCATION:Daisy Bingham Room\, 1011 SW 12th Ave\, Portland\, OR\, 97205
CATEGORIES:Meeting
END:VEVENT
BEGIN:VEVENT
DTSTART;TZID=America/Los_Angeles:20250408T183000
DTEND;TZID=America/Los_Angeles:20250408T200000
DTSTAMP:20260423T134504
CREATED:20241127T214747Z
LAST-MODIFIED:20241127T233741Z
UID:10000935-1744137000-1744142400@www.firstunitarianportland.org
SUMMARY:Communications Committee Meeting
DESCRIPTION:The Board Communications Committee meets on the second Tuesday of each month\, 6:30 – 8 p.m. Meetings are open to congregants. \nClick here to join on Zoom.
URL:https://www.firstunitarianportland.org/event/communications-committee-meeting/2025-04-08/
LOCATION:Virtual
CATEGORIES:Meeting
END:VEVENT
BEGIN:VEVENT
DTSTART;TZID=America/Los_Angeles:20250408T170000
DTEND;TZID=America/Los_Angeles:20250408T183000
DTSTAMP:20260423T134504
CREATED:20241127T214643Z
LAST-MODIFIED:20250317T235517Z
UID:10000918-1744131600-1744137000@www.firstunitarianportland.org
SUMMARY:Finance Committee Meeting
DESCRIPTION:The Board Finance Committee meets on the second Tuesday of most months\, 5 – 6:30 p.m. Meetings are open to congregants. \nClick here to join on Zoom.
URL:https://www.firstunitarianportland.org/event/finance-committee-meeting/2025-04-08/
LOCATION:Virtual
CATEGORIES:Meeting
END:VEVENT
BEGIN:VEVENT
DTSTART;TZID=America/Los_Angeles:20250402T190000
DTEND;TZID=America/Los_Angeles:20250402T210000
DTSTAMP:20260423T134504
CREATED:20250313T005752Z
LAST-MODIFIED:20250603T191701Z
UID:10001302-1743620400-1743627600@www.firstunitarianportland.org
SUMMARY:Board Meeting
DESCRIPTION:The Board of Trustees meets on the first Wednesday of most months\, 7 – 9 p.m. Meetings are open to congregants. \nJoin us in Buchan Reception Hall (B102)\, or click here to join on Zoom. \nMeeting ID: 829 3022 3125\nPasscode: DaisyB# \nOr join by phone: +1 253 215 8782 US (Tacoma)
URL:https://www.firstunitarianportland.org/event/board-meeting/2025-04-02/
LOCATION:Buchan Hall\, 1226 SW Salmon St\, Portland\, OR\, 97205\, United States
CATEGORIES:Meeting
END:VEVENT
BEGIN:VEVENT
DTSTART;TZID=America/Los_Angeles:20250330T114500
DTEND;TZID=America/Los_Angeles:20250330T133000
DTSTAMP:20260423T134504
CREATED:20250321T202805Z
LAST-MODIFIED:20250321T202805Z
UID:10001321-1743335100-1743341400@www.firstunitarianportland.org
SUMMARY:Music Ministry Transition Team Listening Meeting with Congregants
DESCRIPTION:Since its inception last summer\, the MMTT has been actively engaged in helping church leadership and the Interim Director of Music Ministries move our music program forward in support of the worship and communal life of our church. We’ve come to a point where we need to hear from congregants. We are scheduling three listening meetings\, with more to come. Our objective is to hear your thoughts about how the music program has been evolving so far\, and what you might envision for the future. \nOur first meeting will be with choir members\, bell ringers and other church musicians on Sunday\, March 23 in the Sanctuary after the service. Then we will meet with interested congregants on Sunday\, March 30 in Eliot Chapel. Our third meeting\, this time with parents from the learning community\, will be held on Sunday\, April 13 in the Daisy Bingham room. All of these meetings will be held at 11:45 a.m. There will also be a survey for people to fill out online. \nChildcare will be provided for all meetings.
URL:https://www.firstunitarianportland.org/event/mmtt-congregants/
LOCATION:Eliot Chapel\, 1011 SW 12th Ave\, Portland\, OR\, 97205
CATEGORIES:Meeting
END:VEVENT
BEGIN:VEVENT
DTSTART;TZID=America/Los_Angeles:20250323T120000
DTEND;TZID=America/Los_Angeles:20250323T133000
DTSTAMP:20260423T134504
CREATED:20250321T195503Z
LAST-MODIFIED:20250321T203648Z
UID:10001318-1742731200-1742736600@www.firstunitarianportland.org
SUMMARY:Congregant Budget Meeting
DESCRIPTION:Join other congregants to learn about the proposed budget for the upcoming fiscal year\, which begins on July 1. Church Finance Committee and Executive Team members will walk folks through the numbers and the basis for decisions made. This budget will be presented for the Board’s approval at their April 2 meeting and then on to our Voting Members at our May election. \nJoin us in Eliot Chapel or watch online. Childcare will be provided.
URL:https://www.firstunitarianportland.org/event/congregant-budget-meeting-march2025/
LOCATION:Eliot Chapel\, 1011 SW 12th Ave\, Portland\, OR\, 97205
CATEGORIES:Meeting
END:VEVENT
BEGIN:VEVENT
DTSTART;TZID=America/Los_Angeles:20250323T114500
DTEND;TZID=America/Los_Angeles:20250323T133000
DTSTAMP:20260423T134504
CREATED:20250321T202613Z
LAST-MODIFIED:20250321T202859Z
UID:10001320-1742730300-1742736600@www.firstunitarianportland.org
SUMMARY:Music Ministry Transition Team Listening Meeting with Music Ensembles
DESCRIPTION:Since its inception last summer\, the MMTT has been actively engaged in helping church leadership and the Interim Director of Music Ministries move our music program forward in support of the worship and communal life of our church. We’ve come to a point where we need to hear from congregants. We are scheduling three listening meetings\, with more to come. Our objective is to hear your thoughts about how the music program has been evolving so far\, and what you might envision for the future. \nOur first meeting will be with choir members\, bell ringers and other church musicians on Sunday\, March 23 in the Sanctuary after the service. Then we will meet with interested congregants on Sunday\, March 30 in Eliot Chapel. Our third meeting\, this time with parents from the learning community\, will be held on Sunday\, April 13 in the Daisy Bingham room. All of these meetings will be held at 11:45 a.m. There will also be a survey for people to fill out online. \nChildcare will be provided for all meetings.
URL:https://www.firstunitarianportland.org/event/mmtt-ensembles/
LOCATION:Main Sanctuary\, 1211 SW Main St\, Portland\, OR\, 97205\, United States
CATEGORIES:Meeting
END:VEVENT
END:VCALENDAR