BEGIN:VCALENDAR
VERSION:2.0
PRODID:-//First Unitarian Portland - ECPv6.15.20//NONSGML v1.0//EN
CALSCALE:GREGORIAN
METHOD:PUBLISH
X-WR-CALNAME:First Unitarian Portland
X-ORIGINAL-URL:https://www.firstunitarianportland.org
X-WR-CALDESC:Events for First Unitarian Portland
REFRESH-INTERVAL;VALUE=DURATION:PT1H
X-Robots-Tag:noindex
X-PUBLISHED-TTL:PT1H
BEGIN:VTIMEZONE
TZID:America/Los_Angeles
BEGIN:DAYLIGHT
TZOFFSETFROM:-0800
TZOFFSETTO:-0700
TZNAME:PDT
DTSTART:20240310T100000
END:DAYLIGHT
BEGIN:STANDARD
TZOFFSETFROM:-0700
TZOFFSETTO:-0800
TZNAME:PST
DTSTART:20241103T090000
END:STANDARD
BEGIN:DAYLIGHT
TZOFFSETFROM:-0800
TZOFFSETTO:-0700
TZNAME:PDT
DTSTART:20250309T100000
END:DAYLIGHT
BEGIN:STANDARD
TZOFFSETFROM:-0700
TZOFFSETTO:-0800
TZNAME:PST
DTSTART:20251102T090000
END:STANDARD
BEGIN:DAYLIGHT
TZOFFSETFROM:-0800
TZOFFSETTO:-0700
TZNAME:PDT
DTSTART:20260308T100000
END:DAYLIGHT
BEGIN:STANDARD
TZOFFSETFROM:-0700
TZOFFSETTO:-0800
TZNAME:PST
DTSTART:20261101T090000
END:STANDARD
END:VTIMEZONE
BEGIN:VEVENT
DTSTART;TZID=America/Los_Angeles:20250518T120000
DTEND;TZID=America/Los_Angeles:20250518T130000
DTSTAMP:20260424T203730
CREATED:20250411T000505Z
LAST-MODIFIED:20250508T192344Z
UID:10001331-1747569600-1747573200@www.firstunitarianportland.org
SUMMARY:Year-End Congregational Meeting
DESCRIPTION:Join the Board of Trustees in Eliot Chapel or by livestream for a Congregational Meeting and announcement of election results. Agenda includes short reports from Rev. Alison and Board Moderator Leslie Pohl-Kosbau\, as well as an HR report\, info on new Right Relations program\, and a preview of congregational annual report process.
URL:https://www.firstunitarianportland.org/event/congregational-meeting/
LOCATION:Eliot Chapel\, 1011 SW 12th Ave\, Portland\, OR\, 97205
CATEGORIES:Meeting
END:VEVENT
END:VCALENDAR