BEGIN:VCALENDAR
VERSION:2.0
PRODID:-//First Unitarian Portland - ECPv6.15.20//NONSGML v1.0//EN
CALSCALE:GREGORIAN
METHOD:PUBLISH
X-WR-CALNAME:First Unitarian Portland
X-ORIGINAL-URL:https://www.firstunitarianportland.org
X-WR-CALDESC:Events for First Unitarian Portland
REFRESH-INTERVAL;VALUE=DURATION:PT1H
X-Robots-Tag:noindex
X-PUBLISHED-TTL:PT1H
BEGIN:VTIMEZONE
TZID:America/Los_Angeles
BEGIN:DAYLIGHT
TZOFFSETFROM:-0800
TZOFFSETTO:-0700
TZNAME:PDT
DTSTART:20250309T100000
END:DAYLIGHT
BEGIN:STANDARD
TZOFFSETFROM:-0700
TZOFFSETTO:-0800
TZNAME:PST
DTSTART:20251102T090000
END:STANDARD
BEGIN:DAYLIGHT
TZOFFSETFROM:-0800
TZOFFSETTO:-0700
TZNAME:PDT
DTSTART:20260308T100000
END:DAYLIGHT
BEGIN:STANDARD
TZOFFSETFROM:-0700
TZOFFSETTO:-0800
TZNAME:PST
DTSTART:20261101T090000
END:STANDARD
BEGIN:DAYLIGHT
TZOFFSETFROM:-0800
TZOFFSETTO:-0700
TZNAME:PDT
DTSTART:20270314T100000
END:DAYLIGHT
BEGIN:STANDARD
TZOFFSETFROM:-0700
TZOFFSETTO:-0800
TZNAME:PST
DTSTART:20271107T090000
END:STANDARD
END:VTIMEZONE
BEGIN:VEVENT
DTSTART;TZID=America/Los_Angeles:20260607T084500
DTEND;TZID=America/Los_Angeles:20260607T100000
DTSTAMP:20260423T134437
CREATED:20241127T211450Z
LAST-MODIFIED:20250530T192223Z
UID:10001555-1780821900-1780826400@www.firstunitarianportland.org
SUMMARY:🥞 Pancake Breakfast
DESCRIPTION:Join us for free\, delicious pancakes in Buchan Reception Hall from 8:45 to 10 a.m. on the first Sunday of the month. We will have plain\, blueberry\, chocolate\, and blueberry-chocolate pancakes fresh off the griddle. All are welcome! \nHosted by the UU Men’s Community.
URL:https://www.firstunitarianportland.org/event/%f0%9f%a5%9e-pancake-breakfast/2026-06-07/
LOCATION:Buchan Hall\, 1226 SW Salmon St\, Portland\, OR\, 97205\, United States
CATEGORIES:Gathering & Connection
END:VEVENT
BEGIN:VEVENT
DTSTART;TZID=America/Los_Angeles:20260607T114500
DTEND;TZID=America/Los_Angeles:20260607T130000
DTSTAMP:20260423T134437
CREATED:20250529T201500Z
LAST-MODIFIED:20260316T233841Z
UID:10001784-1780832700-1780837200@www.firstunitarianportland.org
SUMMARY:First Steps Orientation and Campus Tour
DESCRIPTION:First Steps Orientation and Campus Tour is a welcoming regular event held on the first Sunday of most months\, designed for new and returning members of First Unitarian Portland (First U PDX). This session offers an overview of the church’s history\, core values\, and vibrant community\, encouraging participants to explore their connection and discover ways to engage. \nFor assistance in finding your way\, please check in with the Welcome Desk in the main sanctuary narthex/lobby. \nAttendees will meet church leaders\, learn about various activities and programs\, ask questions about Unitarian Universalism\, and tour the campus. This informal setting fosters connections among newcomers and long-time members\, enhancing the sense of belonging. \nFor those interested in deepening their commitment\, the orientation covers membership requirements\, including signing the Membership Record Book and making an annual financial pledge. Participants can also submit their membership application during the session\, taking a significant step in their spiritual journey with First U PDX. \nHosted by Jen Thomas\, Director of Congregational Life.
URL:https://www.firstunitarianportland.org/event/first-steps-orientation-and-campus-tour-2526/2026-06-07/
LOCATION:Narthex/Lobby\, 1211 SW Main St\, Portland\, OR\, 97205\, United States
CATEGORIES:Gathering & Connection
END:VEVENT
BEGIN:VEVENT
DTSTART;TZID=America/Los_Angeles:20260608T200000
DTEND;TZID=America/Los_Angeles:20260608T203000
DTSTAMP:20260423T134437
CREATED:20250512T180448Z
LAST-MODIFIED:20260210T222140Z
UID:10001510-1780948800-1780950600@www.firstunitarianportland.org
SUMMARY:Loving Kindness Meditation
DESCRIPTION:The teachings of Loving Kindness\, or Metta\, are about finding a path with heart. Jack Kornfield says\, “It’s about undertaking a path that transforms and touches us in the center of our being. To do so is to find a way of practice that allows us to live in the world wholly and fully from our heart.” \nWith this Spiritual Practice\, one can cultivate feelings of happiness\, dispel loneliness\,  let go of fear and anxiety. If you are feeling stuck\, this practice can help you enjoy a more compassionate life for yourself and others. \nJoin us on Zoom on Monday evenings to extend Loving-Kindness to yourself\, to those around you and to the world. \nNo previous meditation practice is necessary\, and new participants are always welcome.  Join on an ongoing basis\, or drop in as you’re able. \nMay we be at peace and keep our hearts open. \nContact Katie R. for more information. \nClick here to join.
URL:https://www.firstunitarianportland.org/event/loving-kindness-meditation-2026/2026-06-08/
LOCATION:Virtual
CATEGORIES:Gathering & Connection
END:VEVENT
BEGIN:VEVENT
DTSTART;TZID=America/Los_Angeles:20260612T170000
DTEND;TZID=America/Los_Angeles:20260612T174000
DTSTAMP:20260423T134437
CREATED:20241127T211744Z
LAST-MODIFIED:20260210T222057Z
UID:10001602-1781283600-1781286000@www.firstunitarianportland.org
SUMMARY:Vespers
DESCRIPTION:Our Lay Ministers will offer inspirational readings\, guided meditation\, and quiet music in a contemplative program at week’s end. \nCongregants and visitors are invited to bring their prayer requests to be held during the service. They are received in real-time through the Zoom chat box\, seen\, and read aloud anonymously by the hosts. This is a time to join in prayer not only for our community but also for the world. \nWe look forward to sharing this time of quiet reflection with you when we are all holding so much in our hearts. \nDetails: Fridays\, 5 – 5:40 p.m. \nJoin here (SAVE THIS LINK! It works every Friday.) \nhttps://tinyurl.com/Vespers-1stU
URL:https://www.firstunitarianportland.org/event/vespers/2026-06-12/
LOCATION:Virtual
CATEGORIES:Gathering & Connection
END:VEVENT
END:VCALENDAR