BEGIN:VCALENDAR
VERSION:2.0
PRODID:-//First Unitarian Portland - ECPv6.15.20//NONSGML v1.0//EN
CALSCALE:GREGORIAN
METHOD:PUBLISH
X-WR-CALNAME:First Unitarian Portland
X-ORIGINAL-URL:https://www.firstunitarianportland.org
X-WR-CALDESC:Events for First Unitarian Portland
REFRESH-INTERVAL;VALUE=DURATION:PT1H
X-Robots-Tag:noindex
X-PUBLISHED-TTL:PT1H
BEGIN:VTIMEZONE
TZID:America/Los_Angeles
BEGIN:DAYLIGHT
TZOFFSETFROM:-0800
TZOFFSETTO:-0700
TZNAME:PDT
DTSTART:20240310T100000
END:DAYLIGHT
BEGIN:STANDARD
TZOFFSETFROM:-0700
TZOFFSETTO:-0800
TZNAME:PST
DTSTART:20241103T090000
END:STANDARD
BEGIN:DAYLIGHT
TZOFFSETFROM:-0800
TZOFFSETTO:-0700
TZNAME:PDT
DTSTART:20250309T100000
END:DAYLIGHT
BEGIN:STANDARD
TZOFFSETFROM:-0700
TZOFFSETTO:-0800
TZNAME:PST
DTSTART:20251102T090000
END:STANDARD
BEGIN:DAYLIGHT
TZOFFSETFROM:-0800
TZOFFSETTO:-0700
TZNAME:PDT
DTSTART:20260308T100000
END:DAYLIGHT
BEGIN:STANDARD
TZOFFSETFROM:-0700
TZOFFSETTO:-0800
TZNAME:PST
DTSTART:20261101T090000
END:STANDARD
END:VTIMEZONE
BEGIN:VEVENT
DTSTART;TZID=America/Los_Angeles:20250810T113000
DTEND;TZID=America/Los_Angeles:20250810T140000
DTSTAMP:20260424T044723
CREATED:20250512T181333Z
LAST-MODIFIED:20250808T184136Z
UID:10001519-1754825400-1754834400@www.firstunitarianportland.org
SUMMARY:Last Wishes: How Do We Want to Be Remembered?
DESCRIPTION:What are the life stories you want others to know and remember about you? What do you want your legacy to be? How do you start sometimes difficult conversations regarding your last wishes with friends and family? Join Rev. Duane Fickeisen and First U Senior Engagement (FUSE) team for an afternoon of conversation with one another about the journey of life\, who we have become along the paths we’ve taken\, and what we hope others will remember. We’ll talk about how to plan for a memorial service and how to approach writing your obituary. We will also ask for your ideas on topics for future forums. All ages welcome! \nBring your own lunch and desserts. Drinks will be provided. Please RSVP with the “Going” button below so we can plan accordingly.
URL:https://www.firstunitarianportland.org/event/last-wishes-forum/
LOCATION:Buchan Hall\, 1226 SW Salmon St\, Portland\, OR\, 97205\, United States
CATEGORIES:Gathering & Connection,Program/Event
END:VEVENT
BEGIN:VEVENT
DTSTART;TZID=America/Los_Angeles:20250815T170000
DTEND;TZID=America/Los_Angeles:20250815T174000
DTSTAMP:20260424T044723
CREATED:20241127T211744Z
LAST-MODIFIED:20260210T222057Z
UID:10001908-1755277200-1755279600@www.firstunitarianportland.org
SUMMARY:Vespers
DESCRIPTION:Our Lay Ministers will offer inspirational readings\, guided meditation\, and quiet music in a contemplative program at week’s end. \nCongregants and visitors are invited to bring their prayer requests to be held during the service. They are received in real-time through the Zoom chat box\, seen\, and read aloud anonymously by the hosts. This is a time to join in prayer not only for our community but also for the world. \nWe look forward to sharing this time of quiet reflection with you when we are all holding so much in our hearts. \nDetails: Fridays\, 5 – 5:40 p.m. \nJoin here (SAVE THIS LINK! It works every Friday.) \nhttps://tinyurl.com/Vespers-1stU
URL:https://www.firstunitarianportland.org/event/vespers/2025-08-15/
LOCATION:Virtual
CATEGORIES:Gathering & Connection
END:VEVENT
END:VCALENDAR