BEGIN:VCALENDAR
VERSION:2.0
PRODID:-//First Unitarian Portland - ECPv6.15.20//NONSGML v1.0//EN
CALSCALE:GREGORIAN
METHOD:PUBLISH
X-WR-CALNAME:First Unitarian Portland
X-ORIGINAL-URL:https://www.firstunitarianportland.org
X-WR-CALDESC:Events for First Unitarian Portland
REFRESH-INTERVAL;VALUE=DURATION:PT1H
X-Robots-Tag:noindex
X-PUBLISHED-TTL:PT1H
BEGIN:VTIMEZONE
TZID:America/Los_Angeles
BEGIN:DAYLIGHT
TZOFFSETFROM:-0800
TZOFFSETTO:-0700
TZNAME:PDT
DTSTART:20240310T100000
END:DAYLIGHT
BEGIN:STANDARD
TZOFFSETFROM:-0700
TZOFFSETTO:-0800
TZNAME:PST
DTSTART:20241103T090000
END:STANDARD
BEGIN:DAYLIGHT
TZOFFSETFROM:-0800
TZOFFSETTO:-0700
TZNAME:PDT
DTSTART:20250309T100000
END:DAYLIGHT
BEGIN:STANDARD
TZOFFSETFROM:-0700
TZOFFSETTO:-0800
TZNAME:PST
DTSTART:20251102T090000
END:STANDARD
BEGIN:DAYLIGHT
TZOFFSETFROM:-0800
TZOFFSETTO:-0700
TZNAME:PDT
DTSTART:20260308T100000
END:DAYLIGHT
BEGIN:STANDARD
TZOFFSETFROM:-0700
TZOFFSETTO:-0800
TZNAME:PST
DTSTART:20261101T090000
END:STANDARD
END:VTIMEZONE
BEGIN:VEVENT
DTSTART;TZID=America/Los_Angeles:20250504T084500
DTEND;TZID=America/Los_Angeles:20250504T100000
DTSTAMP:20260424T090800
CREATED:20241127T211450Z
LAST-MODIFIED:20250530T192223Z
UID:10000012-1746348300-1746352800@www.firstunitarianportland.org
SUMMARY:🥞 Pancake Breakfast
DESCRIPTION:Join us for free\, delicious pancakes in Buchan Reception Hall from 8:45 to 10 a.m. on the first Sunday of the month. We will have plain\, blueberry\, chocolate\, and blueberry-chocolate pancakes fresh off the griddle. All are welcome! \nHosted by the UU Men’s Community.
URL:https://www.firstunitarianportland.org/event/%f0%9f%a5%9e-pancake-breakfast/2025-05-04/
LOCATION:Buchan Hall\, 1226 SW Salmon St\, Portland\, OR\, 97205\, United States
CATEGORIES:Gathering & Connection
END:VEVENT
BEGIN:VEVENT
DTSTART;TZID=America/Los_Angeles:20250504T093000
DTEND;TZID=America/Los_Angeles:20250504T120000
DTSTAMP:20260424T090800
CREATED:20241127T213147Z
LAST-MODIFIED:20250404T011340Z
UID:10000327-1746351000-1746360000@www.firstunitarianportland.org
SUMMARY:🌀 Labyrinth
DESCRIPTION:This year\, as we explore the church theme “Join the Journey\,” we will have monthly opportunities to deepen our spiritual practices and focus on our inner journeys through the Labyrinth. The Labyrinth will be set up in Fuller Hall on the first Sunday of most months from 9:30 a.m. to noon. \nWe’re always looking for more volunteers to help us set up our sacred space and plan other labyrinth related activities throughout the year. If you’d like to volunteer\, reach out to Teri.
URL:https://www.firstunitarianportland.org/event/%f0%9f%8c%80-labyrinth/2025-05-04/
LOCATION:Fuller Hall\, 1211 SW Main St\, Portland\, OR\, 97205
CATEGORIES:Gathering & Connection
END:VEVENT
BEGIN:VEVENT
DTSTART;TZID=America/Los_Angeles:20250504T114500
DTEND;TZID=America/Los_Angeles:20250504T130000
DTSTAMP:20260424T090800
CREATED:20241127T213655Z
LAST-MODIFIED:20250527T184222Z
UID:10000642-1746359100-1746363600@www.firstunitarianportland.org
SUMMARY:First Steps Orientation and Campus Tour
DESCRIPTION:First Steps Orientation and Campus Tour is a welcoming monthly event held on the first Sunday\, designed for new and returning members of First Unitarian Portland (First U PDX). This session offers an overview of the church’s history\, core values\, and vibrant community\, encouraging participants to explore their connection and discover ways to engage.\n\nFor assistance in finding your way\, please check in with the Welcome Desk in the main sanctuary narthex/lobby.\n\nAttendees will meet church leaders\, learn about various activities and programs\, ask questions about Unitarian Universalism\, and tour the campus. This informal setting fosters connections among newcomers and long-time members\, enhancing the sense of belonging.\n\nFor those interested in deepening their commitment\, the orientation covers membership requirements\, including signing the Membership Record Book and making an annual financial pledge. Participants can also submit their membership application during the session\, taking a significant step in their spiritual journey with First U PDX.\n\nHosted by Jen Thomas\, Member Engagement Coordinator.
URL:https://www.firstunitarianportland.org/event/first-steps-orientation-and-campus-tour/2025-05-04/
LOCATION:Narthex/Lobby\, 1211 SW Main St\, Portland\, OR\, 97205\, United States
CATEGORIES:Gathering & Connection
END:VEVENT
BEGIN:VEVENT
DTSTART;TZID=America/Los_Angeles:20250505T200000
DTEND;TZID=America/Los_Angeles:20250505T203000
DTSTAMP:20260424T090800
CREATED:20241128T002002Z
LAST-MODIFIED:20250512T180414Z
UID:10001094-1746475200-1746477000@www.firstunitarianportland.org
SUMMARY:Loving Kindness Meditation
DESCRIPTION:The teachings of Loving Kindness\, or Metta\, are about finding a path with heart. Jack Kornfield says\, “It’s about undertaking a path that transforms and touches us in the center of our being. To do so is to find a way of practice that allows us to live in the world wholly and fully from our heart.” \nWith this Spiritual Practice\, one can cultivate feelings of happiness\, dispel loneliness\,  let go of fear and anxiety. If you are feeling stuck\, this practice can help you enjoy a more compassionate life for yourself and others. \nJoin us on Zoom on Monday evenings to extend Loving-Kindness to yourself\, to those around you and to the world. \nNo previous meditation practice is necessary\, and new participants are always welcome.  Join on an ongoing basis\, or drop in as you’re able. \nMay we be at peace and keep our hearts open. \nContact Katie R. for more information. \nClick here to join.
URL:https://www.firstunitarianportland.org/event/loving-kindness-meditation-2025/2025-05-05/
LOCATION:Virtual
CATEGORIES:Gathering & Connection
END:VEVENT
BEGIN:VEVENT
DTSTART;TZID=America/Los_Angeles:20250506T173000
DTEND;TZID=America/Los_Angeles:20250506T181500
DTSTAMP:20260424T090800
CREATED:20250131T021224Z
LAST-MODIFIED:20250410T230225Z
UID:10001249-1746552600-1746555300@www.firstunitarianportland.org
SUMMARY:Connect & Reflect
DESCRIPTION:Join Rev. Alison Miller and Jen Thomas on the 1st & 3rd Tuesdays of most months through June from 5:30 – 6:15 p.m. on Zoom. Come share in conversation centered on the topic of the most recent sermon. Look for the discussion question during preservice slides and order of service.
URL:https://www.firstunitarianportland.org/event/connect-reflect/2025-05-06/
LOCATION:Virtual
CATEGORIES:Gathering & Connection
END:VEVENT
BEGIN:VEVENT
DTSTART;TZID=America/Los_Angeles:20250509T170000
DTEND;TZID=America/Los_Angeles:20250509T174000
DTSTAMP:20260424T090800
CREATED:20241127T211744Z
LAST-MODIFIED:20260210T222057Z
UID:10000085-1746810000-1746812400@www.firstunitarianportland.org
SUMMARY:Vespers
DESCRIPTION:Our Lay Ministers will offer inspirational readings\, guided meditation\, and quiet music in a contemplative program at week’s end. \nCongregants and visitors are invited to bring their prayer requests to be held during the service. They are received in real-time through the Zoom chat box\, seen\, and read aloud anonymously by the hosts. This is a time to join in prayer not only for our community but also for the world. \nWe look forward to sharing this time of quiet reflection with you when we are all holding so much in our hearts. \nDetails: Fridays\, 5 – 5:40 p.m. \nJoin here (SAVE THIS LINK! It works every Friday.) \nhttps://tinyurl.com/Vespers-1stU
URL:https://www.firstunitarianportland.org/event/vespers/2025-05-09/
LOCATION:Virtual
CATEGORIES:Gathering & Connection
END:VEVENT
END:VCALENDAR