BEGIN:VCALENDAR
VERSION:2.0
PRODID:-//First Unitarian Portland - ECPv6.15.20//NONSGML v1.0//EN
CALSCALE:GREGORIAN
METHOD:PUBLISH
X-ORIGINAL-URL:https://www.firstunitarianportland.org
X-WR-CALDESC:Events for First Unitarian Portland
REFRESH-INTERVAL;VALUE=DURATION:PT1H
X-Robots-Tag:noindex
X-PUBLISHED-TTL:PT1H
BEGIN:VTIMEZONE
TZID:America/Los_Angeles
BEGIN:DAYLIGHT
TZOFFSETFROM:-0800
TZOFFSETTO:-0700
TZNAME:PDT
DTSTART:20240310T100000
END:DAYLIGHT
BEGIN:STANDARD
TZOFFSETFROM:-0700
TZOFFSETTO:-0800
TZNAME:PST
DTSTART:20241103T090000
END:STANDARD
BEGIN:DAYLIGHT
TZOFFSETFROM:-0800
TZOFFSETTO:-0700
TZNAME:PDT
DTSTART:20250309T100000
END:DAYLIGHT
BEGIN:STANDARD
TZOFFSETFROM:-0700
TZOFFSETTO:-0800
TZNAME:PST
DTSTART:20251102T090000
END:STANDARD
BEGIN:DAYLIGHT
TZOFFSETFROM:-0800
TZOFFSETTO:-0700
TZNAME:PDT
DTSTART:20260308T100000
END:DAYLIGHT
BEGIN:STANDARD
TZOFFSETFROM:-0700
TZOFFSETTO:-0800
TZNAME:PST
DTSTART:20261101T090000
END:STANDARD
END:VTIMEZONE
BEGIN:VEVENT
DTSTART;TZID=America/Los_Angeles:20250330T114500
DTEND;TZID=America/Los_Angeles:20250330T131500
DTSTAMP:20260424T090930
CREATED:20250220T233244Z
LAST-MODIFIED:20250220T233244Z
UID:10001293-1743335100-1743340500@www.firstunitarianportland.org
SUMMARY:*Registration Required* Good Grief: Navigating Personal Loss
DESCRIPTION:This four-session group is for folks who have experienced bereavement due to loss of a partner or close family member. We will offer a safe space for your emotions and stories. Each participant will be invited to share their grief story. We’ll discuss how grief is a sign of your love for the person who has died\, provide resources\, and offer a ritual of remembrance. Our approach is that grief is not something neat and tidy to ‘get over\,’ but a feral thing and likely a life-long condition. Still\, we’ve found that our lives have expanded to include our grief in a healthy way. \nPreregistration required. Register here. Minimum enrollment six\, maximum ten. \nThe Rev. Duane Fickeisen is a retired UU minister and grieves the loss of his wife. He facilitates a support group for retired UU clergy and partners who are grieving. Dr. Bill Yasnoff is a retired physician and grieves the loss of his first wife. He has also facilitated bereavement support groups. Both are members of First Unitarian Church. 
URL:https://www.firstunitarianportland.org/event/good-grief-navigating-personal-loss/2025-03-30/
LOCATION:First Unitarian Portland
CATEGORIES:Gathering & Connection
END:VEVENT
END:VCALENDAR