BEGIN:VCALENDAR
VERSION:2.0
PRODID:-//First Unitarian Portland - ECPv6.15.20//NONSGML v1.0//EN
CALSCALE:GREGORIAN
METHOD:PUBLISH
X-WR-CALNAME:First Unitarian Portland
X-ORIGINAL-URL:https://www.firstunitarianportland.org
X-WR-CALDESC:Events for First Unitarian Portland
REFRESH-INTERVAL;VALUE=DURATION:PT1H
X-Robots-Tag:noindex
X-PUBLISHED-TTL:PT1H
BEGIN:VTIMEZONE
TZID:America/Los_Angeles
BEGIN:DAYLIGHT
TZOFFSETFROM:-0800
TZOFFSETTO:-0700
TZNAME:PDT
DTSTART:20240310T100000
END:DAYLIGHT
BEGIN:STANDARD
TZOFFSETFROM:-0700
TZOFFSETTO:-0800
TZNAME:PST
DTSTART:20241103T090000
END:STANDARD
BEGIN:DAYLIGHT
TZOFFSETFROM:-0800
TZOFFSETTO:-0700
TZNAME:PDT
DTSTART:20250309T100000
END:DAYLIGHT
BEGIN:STANDARD
TZOFFSETFROM:-0700
TZOFFSETTO:-0800
TZNAME:PST
DTSTART:20251102T090000
END:STANDARD
BEGIN:DAYLIGHT
TZOFFSETFROM:-0800
TZOFFSETTO:-0700
TZNAME:PDT
DTSTART:20260308T100000
END:DAYLIGHT
BEGIN:STANDARD
TZOFFSETFROM:-0700
TZOFFSETTO:-0800
TZNAME:PST
DTSTART:20261101T090000
END:STANDARD
END:VTIMEZONE
BEGIN:VEVENT
DTSTART;VALUE=DATE:20251224
DTEND;VALUE=DATE:20251225
DTSTAMP:20260423T160904
CREATED:20250625T000107Z
LAST-MODIFIED:20250625T000107Z
UID:10001634-1766534400-1766620799@www.firstunitarianportland.org
SUMMARY:Office CLOSED
DESCRIPTION:The office will be closed on this date in observance of Christmas Eve.
URL:https://www.firstunitarianportland.org/event/office-closed-christmas-eve/
LOCATION:OR
CATEGORIES:Special Notice
END:VEVENT
BEGIN:VEVENT
DTSTART;TZID=America/Los_Angeles:20251224T170000
DTEND;TZID=America/Los_Angeles:20251224T180000
DTSTAMP:20260423T160904
CREATED:20250530T191949Z
LAST-MODIFIED:20251211T191609Z
UID:10001544-1766595600-1766599200@www.firstunitarianportland.org
SUMMARY:🎄 Family Christmas Eve Service
DESCRIPTION:Merry Christmas Eve! All are welcome to our candle lighting & carols service. Come\, let us sing\, let us share in story\, and let us usher in the joy and meaning of the holiday together. This service will be geared more towards families.
URL:https://www.firstunitarianportland.org/event/christmas-2025-5pm/
LOCATION:Main Sanctuary\, 1211 SW Main St\, Portland\, OR\, 97205\, United States
CATEGORIES:Service
END:VEVENT
BEGIN:VEVENT
DTSTART;TZID=America/Los_Angeles:20251224T200000
DTEND;TZID=America/Los_Angeles:20251224T210000
DTSTAMP:20260423T160904
CREATED:20250530T192032Z
LAST-MODIFIED:20251211T191621Z
UID:10001545-1766606400-1766610000@www.firstunitarianportland.org
SUMMARY:🎄 Candlelight Christmas Eve Service
DESCRIPTION:Merry Christmas Eve! All are welcome to our candle lighting & carols service. Come\, let us sing\, let us share in story\, and let us usher in the joy and meaning of the holiday together.
URL:https://www.firstunitarianportland.org/event/christmas-2025-8pm/
LOCATION:Main Sanctuary\, 1211 SW Main St\, Portland\, OR\, 97205\, United States
CATEGORIES:Service
END:VEVENT
END:VCALENDAR