BEGIN:VCALENDAR
VERSION:2.0
PRODID:-//First Unitarian Portland - ECPv6.15.20//NONSGML v1.0//EN
CALSCALE:GREGORIAN
METHOD:PUBLISH
X-ORIGINAL-URL:https://www.firstunitarianportland.org
X-WR-CALDESC:Events for First Unitarian Portland
REFRESH-INTERVAL;VALUE=DURATION:PT1H
X-Robots-Tag:noindex
X-PUBLISHED-TTL:PT1H
BEGIN:VTIMEZONE
TZID:America/Los_Angeles
BEGIN:DAYLIGHT
TZOFFSETFROM:-0800
TZOFFSETTO:-0700
TZNAME:PDT
DTSTART:20240310T100000
END:DAYLIGHT
BEGIN:STANDARD
TZOFFSETFROM:-0700
TZOFFSETTO:-0800
TZNAME:PST
DTSTART:20241103T090000
END:STANDARD
BEGIN:DAYLIGHT
TZOFFSETFROM:-0800
TZOFFSETTO:-0700
TZNAME:PDT
DTSTART:20250309T100000
END:DAYLIGHT
BEGIN:STANDARD
TZOFFSETFROM:-0700
TZOFFSETTO:-0800
TZNAME:PST
DTSTART:20251102T090000
END:STANDARD
BEGIN:DAYLIGHT
TZOFFSETFROM:-0800
TZOFFSETTO:-0700
TZNAME:PDT
DTSTART:20260308T100000
END:DAYLIGHT
BEGIN:STANDARD
TZOFFSETFROM:-0700
TZOFFSETTO:-0800
TZNAME:PST
DTSTART:20261101T090000
END:STANDARD
END:VTIMEZONE
BEGIN:VEVENT
DTSTART;TZID=America/Los_Angeles:20251221T101500
DTEND;TZID=America/Los_Angeles:20251221T113000
DTSTAMP:20260423T145039
CREATED:20250509T213239Z
LAST-MODIFIED:20260217T223552Z
UID:10001408-1766312100-1766316600@www.firstunitarianportland.org
SUMMARY:Children and Youth Learning Community
DESCRIPTION:The Learning Community\, also referred to as R.E. (Religious Education)\, meets at 10:15 a.m. on Sunday mornings.  On the first Sunday of the month\, children and youth start out in the main Sanctuary for our monthly “Together Time” before moving on to their classrooms in our Eliot Center/Buchan Building\, right next door to our Sanctuary building.  Stop by the R.E. Information Desk in the Eliot Center if you need to register your children or youth\, or have questions for us.  All are welcome! \nClick here to view more information about our Learning Community.
URL:https://www.firstunitarianportland.org/event/learning-community-2026/2025-12-21/
LOCATION:OR
CATEGORIES:Learning Community
END:VEVENT
BEGIN:VEVENT
DTSTART;TZID=America/Los_Angeles:20251221T101500
DTEND;TZID=America/Los_Angeles:20251221T113000
DTSTAMP:20260423T145039
CREATED:20251015T184502Z
LAST-MODIFIED:20251211T191537Z
UID:10001364-1766312100-1766316600@www.firstunitarianportland.org
SUMMARY:🕯️ Sunday Worship: Christmas Pageant
DESCRIPTION:Join us for our annual church Christmas Pageant. An old story of mystery\, love\, and connection–made anew each year by our care and attention. May it always be so! \nAfter this special service\, come to Buchan Hall for a Christmas cookie potluck. Please bring no more than 1 dozen cookies! \n  \nIn-person\nSanctuary\n1211 SW Main St.\nPortland\, OR 97205 \n  \nJoin us on livestream here
URL:https://www.firstunitarianportland.org/event/christmas-pageant-2025/
LOCATION:Main Sanctuary\, 1211 SW Main St\, Portland\, OR\, 97205\, United States
CATEGORIES:Service
END:VEVENT
BEGIN:VEVENT
DTSTART;TZID=America/Los_Angeles:20251221T114500
DTEND;TZID=America/Los_Angeles:20251221T133000
DTSTAMP:20260423T145039
CREATED:20251119T003407Z
LAST-MODIFIED:20251212T012208Z
UID:10001874-1766317500-1766323800@www.firstunitarianportland.org
SUMMARY:🍪 Christmas Cookie Potluck
DESCRIPTION:Join us in Fuller Hall after service for a Christmas cookie potluck. Bring a dozen of your tasty baked goods to social hour where we’ll “make merry” with cider\, hot cocoa\, and your scrumptious baked goods.
URL:https://www.firstunitarianportland.org/event/%f0%9f%8d%aa-christmas-cookie-potluck/
LOCATION:Fuller Hall\, 1211 SW Main St\, Portland\, OR\, 97205
CATEGORIES:Gathering & Connection
END:VEVENT
END:VCALENDAR