BEGIN:VCALENDAR
VERSION:2.0
PRODID:-//First Unitarian Portland - ECPv6.15.20//NONSGML v1.0//EN
CALSCALE:GREGORIAN
METHOD:PUBLISH
X-ORIGINAL-URL:https://www.firstunitarianportland.org
X-WR-CALDESC:Events for First Unitarian Portland
REFRESH-INTERVAL;VALUE=DURATION:PT1H
X-Robots-Tag:noindex
X-PUBLISHED-TTL:PT1H
BEGIN:VTIMEZONE
TZID:America/Los_Angeles
BEGIN:DAYLIGHT
TZOFFSETFROM:-0800
TZOFFSETTO:-0700
TZNAME:PDT
DTSTART:20240310T100000
END:DAYLIGHT
BEGIN:STANDARD
TZOFFSETFROM:-0700
TZOFFSETTO:-0800
TZNAME:PST
DTSTART:20241103T090000
END:STANDARD
BEGIN:DAYLIGHT
TZOFFSETFROM:-0800
TZOFFSETTO:-0700
TZNAME:PDT
DTSTART:20250309T100000
END:DAYLIGHT
BEGIN:STANDARD
TZOFFSETFROM:-0700
TZOFFSETTO:-0800
TZNAME:PST
DTSTART:20251102T090000
END:STANDARD
BEGIN:DAYLIGHT
TZOFFSETFROM:-0800
TZOFFSETTO:-0700
TZNAME:PDT
DTSTART:20260308T100000
END:DAYLIGHT
BEGIN:STANDARD
TZOFFSETFROM:-0700
TZOFFSETTO:-0800
TZNAME:PST
DTSTART:20261101T090000
END:STANDARD
END:VTIMEZONE
BEGIN:VEVENT
DTSTART;TZID=America/Los_Angeles:20251214T101500
DTEND;TZID=America/Los_Angeles:20251214T113000
DTSTAMP:20260423T162022
CREATED:20250509T213239Z
LAST-MODIFIED:20260217T223552Z
UID:10001407-1765707300-1765711800@www.firstunitarianportland.org
SUMMARY:Children and Youth Learning Community
DESCRIPTION:The Learning Community\, also referred to as R.E. (Religious Education)\, meets at 10:15 a.m. on Sunday mornings.  On the first Sunday of the month\, children and youth start out in the main Sanctuary for our monthly “Together Time” before moving on to their classrooms in our Eliot Center/Buchan Building\, right next door to our Sanctuary building.  Stop by the R.E. Information Desk in the Eliot Center if you need to register your children or youth\, or have questions for us.  All are welcome! \nClick here to view more information about our Learning Community.
URL:https://www.firstunitarianportland.org/event/learning-community-2026/2025-12-14/
LOCATION:OR
CATEGORIES:Learning Community
END:VEVENT
BEGIN:VEVENT
DTSTART;TZID=America/Los_Angeles:20251214T101500
DTEND;TZID=America/Los_Angeles:20251214T113000
DTSTAMP:20260423T162022
CREATED:20251211T011730Z
LAST-MODIFIED:20251211T011820Z
UID:10001363-1765707300-1765711800@www.firstunitarianportland.org
SUMMARY:🕯️ Sunday Worship: Music & Worship! 🎵
DESCRIPTION:In-person\nSanctuary\n1211 SW Main St.\nPortland\, OR 97205 \n  \nClick here to see more about this very special Music & Worship service …\n  \nJoin us on livestream here
URL:https://www.firstunitarianportland.org/event/mw-winter-2025/
LOCATION:Main Sanctuary\, 1211 SW Main St\, Portland\, OR\, 97205\, United States
CATEGORIES:Service
END:VEVENT
BEGIN:VEVENT
DTSTART;TZID=America/Los_Angeles:20251214T114500
DTEND;TZID=America/Los_Angeles:20251214T131500
DTSTAMP:20260423T162022
CREATED:20251020T234444Z
LAST-MODIFIED:20251119T003613Z
UID:10001869-1765712700-1765718100@www.firstunitarianportland.org
SUMMARY:*Registration Closed* Grief and the Holidays
DESCRIPTION:In this class for people who are grieving the loss of a close family member\, we will explore the nature of grief\, offer the opportunity to share your own grief story\, and make a plan to navigate the winter holidays. We will meet in person on four Sunday afternoons\, from 11:45 a.m. to 1:15 p.m.\, on November 9 and 23 and December 7 and 14. The Rev. Duane Fickeisen and Dr. Bill Yasnoff will facilitate the group. Both are members of First Unitarian and have personal experience with being widowed and in facilitating grief groups. \nThere is no cost\, but pre-registration is required. More info and preregister here.
URL:https://www.firstunitarianportland.org/event/grief-and-the-holidays/2025-12-14/
LOCATION:OR
CATEGORIES:Gathering & Connection
END:VEVENT
BEGIN:VEVENT
DTSTART;TZID=America/Los_Angeles:20251214T114500
DTEND;TZID=America/Los_Angeles:20251214T133000
DTSTAMP:20260423T162022
CREATED:20251119T002703Z
LAST-MODIFIED:20251119T002703Z
UID:10001873-1765712700-1765719000@www.firstunitarianportland.org
SUMMARY:Alliance Treasures & Cookie Sale
DESCRIPTION:Come one\, come all to the Alliance Treasures & Cookie Sale in Buchan Hall after the services on December 7 and 14. \nYou’ll find lots of jewelry\, beautiful scarves\, Christmas treasures\, and unique handmade items\, as well as homemade cookies galore! \n(You could even buy some to freeze and save for the Christmas Cookie Potluck on December 21!)
URL:https://www.firstunitarianportland.org/event/alliance-treasures-cookie-sale/2025-12-14/
LOCATION:Buchan Hall\, 1226 SW Salmon St\, Portland\, OR\, 97205\, United States
CATEGORIES:Program/Event
END:VEVENT
END:VCALENDAR