BEGIN:VCALENDAR
VERSION:2.0
PRODID:-//First Unitarian Portland - ECPv6.15.20//NONSGML v1.0//EN
CALSCALE:GREGORIAN
METHOD:PUBLISH
X-WR-CALNAME:First Unitarian Portland
X-ORIGINAL-URL:https://www.firstunitarianportland.org
X-WR-CALDESC:Events for First Unitarian Portland
REFRESH-INTERVAL;VALUE=DURATION:PT1H
X-Robots-Tag:noindex
X-PUBLISHED-TTL:PT1H
BEGIN:VTIMEZONE
TZID:America/Los_Angeles
BEGIN:DAYLIGHT
TZOFFSETFROM:-0800
TZOFFSETTO:-0700
TZNAME:PDT
DTSTART:20240310T100000
END:DAYLIGHT
BEGIN:STANDARD
TZOFFSETFROM:-0700
TZOFFSETTO:-0800
TZNAME:PST
DTSTART:20241103T090000
END:STANDARD
BEGIN:DAYLIGHT
TZOFFSETFROM:-0800
TZOFFSETTO:-0700
TZNAME:PDT
DTSTART:20250309T100000
END:DAYLIGHT
BEGIN:STANDARD
TZOFFSETFROM:-0700
TZOFFSETTO:-0800
TZNAME:PST
DTSTART:20251102T090000
END:STANDARD
BEGIN:DAYLIGHT
TZOFFSETFROM:-0800
TZOFFSETTO:-0700
TZNAME:PDT
DTSTART:20260308T100000
END:DAYLIGHT
BEGIN:STANDARD
TZOFFSETFROM:-0700
TZOFFSETTO:-0800
TZNAME:PST
DTSTART:20261101T090000
END:STANDARD
END:VTIMEZONE
BEGIN:VEVENT
DTSTART;TZID=America/Los_Angeles:20251001T103000
DTEND;TZID=America/Los_Angeles:20251001T140000
DTSTAMP:20260423T195654
CREATED:20250923T230304Z
LAST-MODIFIED:20250923T230333Z
UID:10001835-1759314600-1759327200@www.firstunitarianportland.org
SUMMARY:The Alliance Presents "Creating Community with Those Living with Dementia"
DESCRIPTION:Andie Shepard will present the basics of Alzheimer’s and dementia\, raising awareness of the needs of caregivers and those affected. She is the Program Manager with the Alzheimer’s Association for the Oregon and SW Washington Chapter. \nBring your lunch for after the program. Email AllianceRSVP@firstunitarianportland.org to join for the dessert ($5).
URL:https://www.firstunitarianportland.org/event/the-alliance-presents-creating-community-with-those-living-with-dementia/
LOCATION:Eliot Chapel\, 1011 SW 12th Ave\, Portland\, OR\, 97205
CATEGORIES:Program/Event
END:VEVENT
BEGIN:VEVENT
DTSTART;TZID=America/Los_Angeles:20251001T190000
DTEND;TZID=America/Los_Angeles:20251001T200000
DTSTAMP:20260423T195654
CREATED:20250923T222948Z
LAST-MODIFIED:20250925T190035Z
UID:10001834-1759345200-1759348800@www.firstunitarianportland.org
SUMMARY:Yom Kippur Service
DESCRIPTION:Join us in this season of the Jewish High Holidays in annual practice of reflection and renewal. May we turn towards the work of repair and learning how to choose life.
URL:https://www.firstunitarianportland.org/event/yom-kippur-2025/
LOCATION:Eliot Chapel\, 1011 SW 12th Ave\, Portland\, OR\, 97205
CATEGORIES:Service
END:VEVENT
END:VCALENDAR