BEGIN:VCALENDAR
VERSION:2.0
PRODID:-//First Unitarian Portland - ECPv6.15.20//NONSGML v1.0//EN
CALSCALE:GREGORIAN
METHOD:PUBLISH
X-ORIGINAL-URL:https://www.firstunitarianportland.org
X-WR-CALDESC:Events for First Unitarian Portland
REFRESH-INTERVAL;VALUE=DURATION:PT1H
X-Robots-Tag:noindex
X-PUBLISHED-TTL:PT1H
BEGIN:VTIMEZONE
TZID:America/Los_Angeles
BEGIN:DAYLIGHT
TZOFFSETFROM:-0800
TZOFFSETTO:-0700
TZNAME:PDT
DTSTART:20240310T100000
END:DAYLIGHT
BEGIN:STANDARD
TZOFFSETFROM:-0700
TZOFFSETTO:-0800
TZNAME:PST
DTSTART:20241103T090000
END:STANDARD
BEGIN:DAYLIGHT
TZOFFSETFROM:-0800
TZOFFSETTO:-0700
TZNAME:PDT
DTSTART:20250309T100000
END:DAYLIGHT
BEGIN:STANDARD
TZOFFSETFROM:-0700
TZOFFSETTO:-0800
TZNAME:PST
DTSTART:20251102T090000
END:STANDARD
BEGIN:DAYLIGHT
TZOFFSETFROM:-0800
TZOFFSETTO:-0700
TZNAME:PDT
DTSTART:20260308T100000
END:DAYLIGHT
BEGIN:STANDARD
TZOFFSETFROM:-0700
TZOFFSETTO:-0800
TZNAME:PST
DTSTART:20261101T090000
END:STANDARD
END:VTIMEZONE
BEGIN:VEVENT
DTSTART;TZID=America/Los_Angeles:20250302T084500
DTEND;TZID=America/Los_Angeles:20250302T100000
DTSTAMP:20260424T153100
CREATED:20241127T211450Z
LAST-MODIFIED:20250530T192223Z
UID:10000010-1740905100-1740909600@www.firstunitarianportland.org
SUMMARY:🥞 Pancake Breakfast
DESCRIPTION:Join us for free\, delicious pancakes in Buchan Reception Hall from 8:45 to 10 a.m. on the first Sunday of the month. We will have plain\, blueberry\, chocolate\, and blueberry-chocolate pancakes fresh off the griddle. All are welcome! \nHosted by the UU Men’s Community.
URL:https://www.firstunitarianportland.org/event/%f0%9f%a5%9e-pancake-breakfast/2025-03-02/
LOCATION:Buchan Hall\, 1226 SW Salmon St\, Portland\, OR\, 97205\, United States
CATEGORIES:Gathering & Connection
END:VEVENT
BEGIN:VEVENT
DTSTART;TZID=America/Los_Angeles:20250302T093000
DTEND;TZID=America/Los_Angeles:20250302T120000
DTSTAMP:20260424T153100
CREATED:20250227T015805Z
LAST-MODIFIED:20250227T015807Z
UID:10000325-1740907800-1740916800@www.firstunitarianportland.org
SUMMARY:🌀 Labyrinth
DESCRIPTION:This year\, as we explore the church theme “Join the Journey\,” we will have monthly opportunities to deepen our spiritual practices and focus on our inner journeys through the Labyrinth. The Labyrinth will be set up in Fuller Hall on the first Sunday of most months from 9:30 a.m. to noon. \nWe’re always looking for more volunteers to help us set up our sacred space and plan other labyrinth related activities throughout the year. If you’d like to volunteer\, reach out to Teri.
URL:https://www.firstunitarianportland.org/event/%f0%9f%8c%80-labyrinth-3/
LOCATION:Fuller Hall\, 1211 SW Main St\, Portland\, OR\, 97205
CATEGORIES:Gathering & Connection
END:VEVENT
BEGIN:VEVENT
DTSTART;TZID=America/Los_Angeles:20250302T101500
DTEND;TZID=America/Los_Angeles:20250302T113000
DTSTAMP:20260424T153100
CREATED:20241127T213504Z
LAST-MODIFIED:20260210T222116Z
UID:10000390-1740910500-1740915000@www.firstunitarianportland.org
SUMMARY:🕯️ Sunday Worship
DESCRIPTION:In-person\nSanctuary\n1211 SW Main St.\nPortland\, OR 97205 \n  \nJoin us on livestream here
URL:https://www.firstunitarianportland.org/event/sunday-worship/2025-03-02/
LOCATION:Main Sanctuary\, 1211 SW Main St\, Portland\, OR\, 97205\, United States
CATEGORIES:Service
END:VEVENT
BEGIN:VEVENT
DTSTART;TZID=America/Los_Angeles:20250302T101500
DTEND;TZID=America/Los_Angeles:20250302T113000
DTSTAMP:20260424T153100
CREATED:20241127T215153Z
LAST-MODIFIED:20241127T232751Z
UID:10001051-1740910500-1740915000@www.firstunitarianportland.org
SUMMARY:Children and Youth Learning Community: Together Time
DESCRIPTION:The Learning Community\, also referred to as R.E. (Religious Education)\, meets at 10:15 a.m. on Sunday mornings.  On the first Sunday of the month\, children and youth start out in the main Sanctuary for our monthly “Together Time” before moving on to their classrooms in our Eliot Center/Buchan Building\, right next door to our Sanctuary building.  Stop by the R.E. Information Desk in the Eliot Center if you need to register your children or youth\, or have questions for us.  All are welcome! \nClick here to view more information about our Learning Community.
URL:https://www.firstunitarianportland.org/event/children-and-youth-learning-community-together-time/2025-03-02/
LOCATION:Main Sanctuary\, 1211 SW Main St\, Portland\, OR\, 97205\, United States
CATEGORIES:Learning Community
END:VEVENT
BEGIN:VEVENT
DTSTART;TZID=America/Los_Angeles:20250302T114500
DTEND;TZID=America/Los_Angeles:20250302T130000
DTSTAMP:20260424T153100
CREATED:20250318T001536Z
LAST-MODIFIED:20250318T001549Z
UID:10001315-1740915900-1740920400@www.firstunitarianportland.org
SUMMARY:Considering Membership
DESCRIPTION:Are you ready to deepen your connection with our faith community? Are you interested in making a deeper commitment to First Unitarian Church? Then please join Rev. Alison Miller and Jen Thomas\, Member Engagement Coordinator\, at our “Considering Membership” class on March 2! This class is designed for anyone considering taking the next step towards membership. It’s a wonderful opportunity to:\n\nAsk questions about membership and stewardship\nReceive necessary paperwork\nLearn more about the membership process and if ready\, you can sign the membership record book!\n\nThe decision to become a member is a very individual one\, and we want to provide you with all the information you need to make an informed choice.\nWe would love to have you join our journey in membership! For more information\, please contact Jen Thomas.
URL:https://www.firstunitarianportland.org/event/considering-membership/
LOCATION:Channing\, A101
CATEGORIES:Gathering & Connection
END:VEVENT
END:VCALENDAR